PDS_VERSION_ID = PDS3
/* FILE DATA ELEMENTS */
RECORD_TYPE = STREAM
/* POINTERS TO DATA OBJECTS */
^COMPRESSED_FILE = "H1946_0009_RE3.JP2"
/* IDENTIFICATION DATA ELEMENTS */
DATA_SET_ID = "MEX-M-HRSC-5-REFDR-MAPPROJECTED-V3.0"
DATA_SET_NAME = "MARS EXPRESS HRSC MAP PROJECTED REFDR V3.0"
DETECTOR_ID = MEX_HRSC_RED
EVENT_TYPE = "MARS-REGIONAL-MAPPING-Vo-Fl-Eo"
INSTRUMENT_HOST_ID = MEX
INSTRUMENT_HOST_NAME = "MARS EXPRESS"
INSTRUMENT_ID = HRSC
INSTRUMENT_NAME = "HIGH RESOLUTION STEREO CAMERA"
MISSION_NAME = "MARS EXPRESS"
MISSION_PHASE_NAME = MR_Phase_7
PROCESSING_LEVEL_ID = 3
PRODUCT_CREATION_TIME = 2016-03-09T16:25:58.000Z
PRODUCT_ID = "H1946_0009_RE3.JP2"
RELEASE_ID = 0025
REVISION_ID = 0000
/* QUALITY DATA ELEMENTS */
DATA_QUALITY_ID = 1
DATA_QUALITY_DESC = "Data calculated based on original SPICE kernels"
/* TIME DATA ELEMENTS */
SPACECRAFT_CLOCK_START_COUNT = "1/0070039540.57948"
SPACECRAFT_CLOCK_STOP_COUNT = "1/0070039858.55634"
START_TIME = 2005-07-21T15:25:58.910Z
STOP_TIME = 2005-07-21T15:30:02.972Z
/* ORBITAL DATA ELEMENTS */
ASCENDING_NODE_LONGITUDE = 187.51
MAXIMUM_RESOLUTION = 63.3
FOOTPRINT_POINT_LATITUDE = (-15.0384,-15.0362,-15.0335,-15.0299, -15.0211,-14.7026,-14.385,-13.9101, -13.5941,-13.2839,-12.9746,-12.6679, -12.3611,-12.0596,-11.7577,-11.4603, -11.1622,-10.8676,-10.5732,-10.2826, -9.9939,-9.70367,-9.27193,-8.99097, -8.71061,-8.42912,-8.14958,-7.73575, -7.45981,-7.05252,-6.64792,-6.24523, -5.97729,-5.71149,-5.45101,-5.05461, -4.79177,-4.53551,-4.28418,-4.02736, -3.6429,-3.13943,-2.7596,-2.50541, -2.25048,-1.85964,-1.6038,-1.347, -1.09018,-1.075,-1.07776,-1.08073, -1.21155,-1.46858,-1.72498,-1.98973, -2.24499,-2.49919,-2.75233,-3.00466, -3.25753,-3.51004,-3.76211,-4.0175, -4.27515,-4.53289,-4.78967,-5.18116, -5.57429,-5.83666,-6.10383,-6.36882, -6.63402,-6.90567,-7.17703,-7.44795, -7.72493,-8.00312,-8.42072,-8.7012, -8.9807,-9.2643,-9.54915,-9.9819, -10.2724,-10.5546,-10.8484,-11.1482, -11.4478,-11.7459,-12.0474,-12.3485, -12.6544,-12.9607,-13.4265,-13.8962, -14.212,-14.5306,-14.8481,-15.0384)
FOOTPRINT_POINT_LONGITUDE = (70.5671,70.0999,69.8003,69.4999, 69.0792,69.0912,69.1018,69.116,69.1245, 69.1336,69.1428,69.1511,69.1591,69.1674 ,69.1755,69.1833,69.191,69.1978,69.2047 ,69.2118,69.2188,69.2251,69.2322, 69.2404,69.2461,69.2515,69.257,69.265, 69.2706,69.2777,69.2867,69.2921,69.2962 ,69.3007,69.3055,69.3102,69.3136, 69.3177,69.3245,69.3287,69.3321,69.3397 ,69.3449,69.348,69.351,69.3554,69.3584, 69.361,69.3638,69.8361,70.108,70.4647, 70.692,70.6969,70.7019,70.7068,70.712, 70.7174,70.7229,70.7286,70.7342,70.7398 ,70.7454,70.7509,70.7569,70.7628, 70.7689,70.7786,70.7882,70.7949,70.8017 ,70.809,70.8161,70.8234,70.8307,70.8381 ,70.8456,70.8528,70.8645,70.8728, 70.8811,70.8899,70.8986,70.9116,70.9204 ,70.9316,70.9412,70.9492,70.9589, 70.9688,70.9792,70.9899,71.0005,71.0114 ,71.0281,71.0452,71.0567,71.069,71.0817 ,70.5671)
ORBIT_NUMBER = 1946
ORBITAL_ECCENTRICITY = 0.571
ORBITAL_INCLINATION = 86.59
ORBITAL_SEMIMAJOR_AXIS = 8622.92
PERIAPSIS_ALTITUDE = 301.37
PERIAPSIS_ARGUMENT_ANGLE = 16.75
PERIAPSIS_TIME = 2005-07-21T15:35:05.000Z
SPACECRAFT_ORIENTATION = (0.0,1.0,0.0)
^MEX_ORIENTATION_DESC = "MEX_ORIENTATION_DESC.TXT"
SPACECRAFT_POINTING_MODE = ACROSSTRACK
^MEX_POINTING_DESC = "MEX_POINTING_DESC.TXT"
RIGHT_ASCENSION = -1e+32
DECLINATION = -1e+32
OFFSET_ANGLE = 0.28
SPACECRAFT_SOLAR_DISTANCE = 2.06656e+08
TARGET_NAME = MARS
/* CAMERA DATA ELEMENTS */
DETECTOR_TEMPERATURE = 22.4485
FOCAL_PLANE_TEMPERATURE = 10.0106
INST_CMPRS_NAME = "DISCRETE COSINE TRANSFORMATION (DCT)"
INST_CMPRS_RATIO = 15.7664
INST_CMPRS_QUALITY = 0
INST_CMPRS_QUANTZ_TBL_ID = 0
INSTRUMENT_TEMPERATURE = 13.4769
LENS_TEMPERATURE = 10.4184
MACROPIXEL_SIZE = 4
MISSING_FRAMES = 1
PIXEL_SUBSAMPLING_FLAG = N
SIGNAL_CHAIN_ID = 2
/* RADIOMETRIC DATA ELEMENTS */
BANDWIDTH = 48.0
CENTER_FILTER_WAVELENGTH = 748.0
RADIANCE_OFFSET = 0.735354
RADIANCE_SCALING_FACTOR = 0.00345019
REFLECTANCE_SCALING_FACTOR = 0.000336253
MEX:REFLECTANCE_OFFSET = 0.0716671
/* IMAGE OBJECT DEFINITIONS */
OBJECT = IMAGE
  INTERCHANGE_FORMAT = BINARY
  LINES = 16552
  LINE_SAMPLES = 2226
  SAMPLE_TYPE = UNSIGNED_INTEGER
  SAMPLE_BITS = 8
  BANDS = 1
  BAND_STORAGE_TYPE = BAND_SEQUENTIAL
  MAXIMUM = 254
  MEAN = 152.608
  MINIMUM = 105
  STANDARD_DEVIATION = 17.0194
END_OBJECT = IMAGE
/* MAP OBJECT DEFINITIONS */
OBJECT = IMAGE_MAP_PROJECTION
  ^DATA_SET_MAP_PROJECTION_CATALOG= "DSMAP.CAT"
  A_AXIS_RADIUS = 3396.0
  B_AXIS_RADIUS = 3396.0
  C_AXIS_RADIUS = 3396.0
  CENTER_LATITUDE = 0.0
  CENTER_LONGITUDE = 70.0
  COORDINATE_SYSTEM_NAME = PLANETOGRAPHIC
  COORDINATE_SYSTEM_TYPE = "BODY-FIXED ROTATING"
  EASTERNMOST_LONGITUDE = 71.0817
  FIRST_STANDARD_PARALLEL = "N/A"
  LINE_FIRST_PIXEL = 1
  LINE_LAST_PIXEL = 16552
  LINE_PROJECTION_OFFSET = -1247.875
  MAP_PROJECTION_ROTATION = 0.0
  MAP_PROJECTION_TYPE = SINUSOIDAL
  MAP_RESOLUTION = 1185.42760773333
  MAP_SCALE = 0.05
  MAXIMUM_LATITUDE = -1.075
  MINIMUM_LATITUDE = -15.0384
  POSITIVE_LONGITUDE_DIRECTION = EAST
  REFERENCE_LATITUDE = "N/A"
  REFERENCE_LONGITUDE = "N/A"
  SAMPLE_FIRST_PIXEL = 1
  SAMPLE_LAST_PIXEL = 2226
  SAMPLE_PROJECTION_OFFSET = 1031.375
  SECOND_STANDARD_PARALLEL = "N/A"
  WESTERNMOST_LONGITUDE = 69.0792
END_OBJECT = IMAGE_MAP_PROJECTION
/* The JPEG2000 image data file associated with this label. */
OBJECT = COMPRESSED_FILE
  FILE_NAME = "H1946_0009_RE3.JP2"
  RECORD_TYPE = UNDEFINED
  FILE_RECORDS = UNK
  ENCODING_TYPE = "JP2"
  INTERCHANGE_FORMAT = BINARY
  UNCOMPRESSED_FILE_NAME = "H1946_0009_RE3.IMG"
  REQUIRED_STORAGE_BYTES = "36867012"
  ^DESCRIPTION = "JP2INFO.TXT"
END_OBJECT = COMPRESSED_FILE
END
