PDS_VERSION_ID = PDS3
/* FILE DATA ELEMENTS */
RECORD_TYPE = STREAM
/* POINTERS TO DATA OBJECTS */
^COMPRESSED_FILE = "H1949_0000_S13.JP2"
/* IDENTIFICATION DATA ELEMENTS */
DATA_SET_ID = "MEX-M-HRSC-5-REFDR-MAPPROJECTED-V3.0"
DATA_SET_NAME = "MARS EXPRESS HRSC MAP PROJECTED REFDR V3.0"
DETECTOR_ID = MEX_HRSC_S1
EVENT_TYPE = "MARS-REGIONAL-MAPPING-Te-Fl-Pf"
INSTRUMENT_HOST_ID = MEX
INSTRUMENT_HOST_NAME = "MARS EXPRESS"
INSTRUMENT_ID = HRSC
INSTRUMENT_NAME = "HIGH RESOLUTION STEREO CAMERA"
MISSION_NAME = "MARS EXPRESS"
MISSION_PHASE_NAME = MR_Phase_7
PROCESSING_LEVEL_ID = 3
PRODUCT_CREATION_TIME = 2016-03-09T16:25:58.000Z
PRODUCT_ID = "H1949_0000_S13.JP2"
RELEASE_ID = 0025
REVISION_ID = 0000
/* QUALITY DATA ELEMENTS */
DATA_QUALITY_ID = 1
DATA_QUALITY_DESC = "Data calculated based on original SPICE kernels"
/* TIME DATA ELEMENTS */
SPACECRAFT_CLOCK_START_COUNT = "1/0070112238.57171"
SPACECRAFT_CLOCK_STOP_COUNT = "1/0070112583.07862"
START_TIME = 2005-07-22T11:38:56.671Z
STOP_TIME = 2005-07-22T11:43:08.344Z
/* ORBITAL DATA ELEMENTS */
ASCENDING_NODE_LONGITUDE = 187.43
MAXIMUM_RESOLUTION = 26.5
FOOTPRINT_POINT_LATITUDE = (-8.53905,-8.53789,-8.53693,-8.53613, -8.53545,-8.3387,-7.94944,-7.56172, -6.98117,-6.59197,-6.01177,-5.42773, -5.03891,-4.64834,-4.25839,-3.68801, -3.35976,-3.03279,-2.54117,-2.04615, -1.71993,-1.39306,-1.06459,-0.570653, -0.241346,0.0880751,0.417684,0.747225, 1.07705,1.39851,1.7181,2.03504,2.35406, 2.67285,2.99185,3.30775,3.61753,3.92471 ,4.23309,4.54175,4.84978,5.31243, 5.62054,5.92462,6.37121,6.81695,7.11425 ,7.41168,7.85777,8.155,8.1585,8.1544, 8.00094,7.7038,7.40657,6.96078,6.51475, 6.21733,5.91973,5.61587,5.30751,4.84542 ,4.53732,4.22912,3.92081,3.61273, 3.30436,2.98845,2.66935,2.35099,2.03198 ,1.71326,1.39507,0.911744,0.581591, 0.0872881,-0.242784,-0.57201,-0.900326, -1.22881,-1.54601,-1.8876,-2.21646, -2.54514,-2.87383,-3.2023,-3.52955, -4.06851,-4.45313,-4.84512,-5.2365, -5.6261,-6.01036,-6.3983,-6.78949, -7.17797,-7.56367,-7.95192,-8.33481, -8.53905)
FOOTPRINT_POINT_LONGITUDE = (136.019,135.796,135.573,135.351, 135.101,134.919,134.924,134.928,134.935 ,134.939,134.944,134.95,134.954,134.958 ,134.961,134.966,134.969,134.971, 134.975,134.979,134.981,134.983,134.986 ,134.989,134.992,134.994,134.996, 134.998,135.0,135.002,135.004,135.006, 135.007,135.009,135.01,135.012,135.014, 135.015,135.016,135.018,135.019,135.02, 135.022,135.023,135.024,135.026,135.026 ,135.027,135.029,135.029,135.488,135.82 ,136.137,136.138,136.139,136.141, 136.143,136.145,136.147,136.149,136.151 ,136.154,136.157,136.159,136.162, 136.165,136.168,136.171,136.174,136.177 ,136.181,136.184,136.188,136.193, 136.198,136.204,136.209,136.214,136.218 ,136.223,136.223,136.233,136.238, 136.244,136.249,136.255,136.26,136.269, 136.274,136.282,136.29,136.297,136.302, 136.31,136.319,136.327,136.334,136.342, 136.349,136.019)
ORBIT_NUMBER = 1949
ORBITAL_ECCENTRICITY = 0.571
ORBITAL_INCLINATION = 86.57
ORBITAL_SEMIMAJOR_AXIS = 8619.79
PERIAPSIS_ALTITUDE = 302.02
PERIAPSIS_ARGUMENT_ANGLE = 16.23
PERIAPSIS_TIME = 2005-07-22T11:44:43.000Z
SPACECRAFT_ORIENTATION = (0.0,1.0,0.0)
^MEX_ORIENTATION_DESC = "MEX_ORIENTATION_DESC.TXT"
SPACECRAFT_POINTING_MODE = ACROSSTRACK
^MEX_POINTING_DESC = "MEX_POINTING_DESC.TXT"
RIGHT_ASCENSION = -1e+32
DECLINATION = -1e+32
OFFSET_ANGLE = -0.15
SPACECRAFT_SOLAR_DISTANCE = 2.06664e+08
TARGET_NAME = MARS
/* CAMERA DATA ELEMENTS */
DETECTOR_TEMPERATURE = 17.9627
FOCAL_PLANE_TEMPERATURE = 9.195
INST_CMPRS_NAME = "DISCRETE COSINE TRANSFORMATION (DCT)"
INST_CMPRS_RATIO = 9.18679
INST_CMPRS_QUALITY = 0
INST_CMPRS_QUANTZ_TBL_ID = 0
INSTRUMENT_TEMPERATURE = 11.6418
LENS_TEMPERATURE = 9.6028
MACROPIXEL_SIZE = 2
MISSING_FRAMES = 10
PIXEL_SUBSAMPLING_FLAG = N
SIGNAL_CHAIN_ID = 1
/* RADIOMETRIC DATA ELEMENTS */
BANDWIDTH = 180.0
CENTER_FILTER_WAVELENGTH = 677.0
RADIANCE_OFFSET = 3.58317
RADIANCE_SCALING_FACTOR = 0.0126356
REFLECTANCE_SCALING_FACTOR = 0.000281559
MEX:REFLECTANCE_OFFSET = 0.0798438
/* IMAGE OBJECT DEFINITIONS */
OBJECT = IMAGE
  INTERCHANGE_FORMAT = BINARY
  LINES = 38856
  LINE_SAMPLES = 3704
  SAMPLE_TYPE = UNSIGNED_INTEGER
  SAMPLE_BITS = 8
  BANDS = 1
  BAND_STORAGE_TYPE = BAND_SEQUENTIAL
  MAXIMUM = 255
  MEAN = 181.773
  MINIMUM = 125
  STANDARD_DEVIATION = 22.1612
END_OBJECT = IMAGE
/* MAP OBJECT DEFINITIONS */
OBJECT = IMAGE_MAP_PROJECTION
  ^DATA_SET_MAP_PROJECTION_CATALOG= "DSMAP.CAT"
  A_AXIS_RADIUS = 3396.0
  B_AXIS_RADIUS = 3396.0
  C_AXIS_RADIUS = 3396.0
  CENTER_LATITUDE = 0.0
  CENTER_LONGITUDE = 136.0
  COORDINATE_SYSTEM_NAME = PLANETOGRAPHIC
  COORDINATE_SYSTEM_TYPE = "BODY-FIXED ROTATING"
  EASTERNMOST_LONGITUDE = 136.349
  FIRST_STANDARD_PARALLEL = "N/A"
  LINE_FIRST_PIXEL = 1
  LINE_LAST_PIXEL = 38856
  LINE_PROJECTION_OFFSET = 19403.25
  MAP_PROJECTION_ROTATION = 0.0
  MAP_PROJECTION_TYPE = SINUSOIDAL
  MAP_RESOLUTION = 2370.85521546667
  MAP_SCALE = 0.025
  MAXIMUM_LATITUDE = 8.1585
  MINIMUM_LATITUDE = -8.53905
  POSITIVE_LONGITUDE_DIRECTION = EAST
  REFERENCE_LATITUDE = "N/A"
  REFERENCE_LONGITUDE = "N/A"
  SAMPLE_FIRST_PIXEL = 1
  SAMPLE_LAST_PIXEL = 3704
  SAMPLE_PROJECTION_OFFSET = 2696.75
  SECOND_STANDARD_PARALLEL = "N/A"
  WESTERNMOST_LONGITUDE = 134.919
END_OBJECT = IMAGE_MAP_PROJECTION
/* The JPEG2000 image data file associated with this label. */
OBJECT = COMPRESSED_FILE
  FILE_NAME = "H1949_0000_S13.JP2"
  RECORD_TYPE = UNDEFINED
  FILE_RECORDS = UNK
  ENCODING_TYPE = "JP2"
  INTERCHANGE_FORMAT = BINARY
  UNCOMPRESSED_FILE_NAME = "H1949_0000_S13.IMG"
  REQUIRED_STORAGE_BYTES = "143944848"
  ^DESCRIPTION = "JP2INFO.TXT"
END_OBJECT = COMPRESSED_FILE
END
