PDS_VERSION_ID = PDS3
/* FILE DATA ELEMENTS */
RECORD_TYPE = STREAM
/* POINTERS TO DATA OBJECTS */
^COMPRESSED_FILE = "H1950_0000_P13.JP2"
/* IDENTIFICATION DATA ELEMENTS */
DATA_SET_ID = "MEX-M-HRSC-5-REFDR-MAPPROJECTED-V3.0"
DATA_SET_NAME = "MARS EXPRESS HRSC MAP PROJECTED REFDR V3.0"
DETECTOR_ID = MEX_HRSC_P1
EVENT_TYPE = "MARS-REGIONAL-MAPPING-Im-Fl-Pf"
INSTRUMENT_HOST_ID = MEX
INSTRUMENT_HOST_NAME = "MARS EXPRESS"
INSTRUMENT_ID = HRSC
INSTRUMENT_NAME = "HIGH RESOLUTION STEREO CAMERA"
MISSION_NAME = "MARS EXPRESS"
MISSION_PHASE_NAME = MR_Phase_7
PROCESSING_LEVEL_ID = 3
PRODUCT_CREATION_TIME = 2016-03-09T16:25:58.000Z
PRODUCT_ID = "H1950_0000_P13.JP2"
RELEASE_ID = 0025
REVISION_ID = 0000
/* QUALITY DATA ELEMENTS */
DATA_QUALITY_ID = 1
DATA_QUALITY_DESC = "Data calculated based on original SPICE kernels"
/* TIME DATA ELEMENTS */
SPACECRAFT_CLOCK_START_COUNT = "1/0070136386.57151"
SPACECRAFT_CLOCK_STOP_COUNT = "1/0070136755.41254"
START_TIME = 2005-07-22T18:21:11.343Z
STOP_TIME = 2005-07-22T18:25:51.438Z
/* ORBITAL DATA ELEMENTS */
ASCENDING_NODE_LONGITUDE = 187.42
MAXIMUM_RESOLUTION = 25.8
FOOTPRINT_POINT_LATITUDE = (-11.6614,-11.6608,-11.6601,-11.6597, -11.4313,-10.9964,-10.57,-9.93328, -9.51978,-9.1045,-8.6916,-8.28192, -7.87833,-7.48077,-7.06981,-6.70259, -6.10263,-5.50154,-5.10024,-4.69858, -4.29589,-3.69228,-3.28989,-2.94641, -2.60854,-2.27007,-1.76437,-1.42319, -1.08429,-0.744671,-0.235407,0.104263, 0.444619,0.785515,1.12727,1.63526, 1.96029,2.29033,2.6208,2.95104,3.28211, 3.61602,4.09452,4.41423,4.73257,5.21258 ,5.53293,6.01297,6.32645,6.63592, 6.67088,6.66801,6.66092,6.35438,5.88191 ,5.56302,5.08417,4.76434,4.28583, 3.80653,3.4786,3.14742,2.81693,2.48748, 2.1568,1.82704,1.49712,1.16259,0.820772 ,0.480311,0.139225,-0.200884,-0.541783, -0.879119,-1.21912,-1.55851,-1.89678, -2.23461,-2.57343,-2.91154,-3.24924, -3.6498,-4.05211,-4.65549,-5.25805, -5.85862,-6.25898,-6.65869,-7.02628, -7.4257,-7.84212,-8.24653,-8.65493, -9.06291,-9.68804,-10.3184,-10.7357, -11.1639,-11.6,-11.6614)
FOOTPRINT_POINT_LONGITUDE = (37.9878,37.6502,37.2679,37.024,36.6452 ,36.6522,36.6589,36.6685,36.6732, 36.6783,36.6855,36.6914,36.6965,36.7012 ,36.706,36.7102,36.717,36.7235,36.7277, 36.7318,36.7359,36.7415,36.7449,36.748, 36.7508,36.7536,36.7569,36.7602,36.7626 ,36.7651,36.7686,36.7708,36.7731, 36.7754,36.7779,36.781,36.7814,36.7832, 36.785,36.7867,36.7886,36.7914,36.7934, 36.7948,36.7957,36.7978,36.7991,36.801, 36.8021,36.8033,37.1759,37.4972,37.912, 37.9122,37.9155,37.917,37.9198,37.9223, 37.9256,37.9298,37.936,37.9397,37.9432, 37.9462,37.9502,37.9539,37.9573,37.9576 ,37.9628,37.9673,37.9724,37.9772, 37.9828,37.9863,37.9918,37.9972,38.0022 ,38.0072,38.013,38.0187,38.0244,38.0316 ,38.0388,38.0503,38.0623,38.0741, 38.0825,38.0909,38.0989,38.1081,38.1209 ,38.1314,38.1412,38.1513,38.1667, 38.1828,38.1883,38.1995,38.2116, 37.9878)
ORBIT_NUMBER = 1950
ORBITAL_ECCENTRICITY = 0.571
ORBITAL_INCLINATION = 86.58
ORBITAL_SEMIMAJOR_AXIS = 8622.72
PERIAPSIS_ALTITUDE = 301.47
PERIAPSIS_ARGUMENT_ANGLE = 16.05
PERIAPSIS_TIME = 2005-07-22T18:27:56.000Z
SPACECRAFT_ORIENTATION = (0.0,1.0,0.0)
^MEX_ORIENTATION_DESC = "MEX_ORIENTATION_DESC.TXT"
SPACECRAFT_POINTING_MODE = ACROSSTRACK
^MEX_POINTING_DESC = "MEX_POINTING_DESC.TXT"
RIGHT_ASCENSION = -1e+32
DECLINATION = -1e+32
OFFSET_ANGLE = -0.2
SPACECRAFT_SOLAR_DISTANCE = 2.06667e+08
TARGET_NAME = MARS
/* CAMERA DATA ELEMENTS */
DETECTOR_TEMPERATURE = 17.9627
FOCAL_PLANE_TEMPERATURE = 10.2145
INST_CMPRS_NAME = "DISCRETE COSINE TRANSFORMATION (DCT)"
INST_CMPRS_RATIO = 11.0628
INST_CMPRS_QUALITY = 0
INST_CMPRS_QUANTZ_TBL_ID = 0
INSTRUMENT_TEMPERATURE = 11.6418
LENS_TEMPERATURE = 10.2145
MACROPIXEL_SIZE = 2
MISSING_FRAMES = 44
PIXEL_SUBSAMPLING_FLAG = N
SIGNAL_CHAIN_ID = 3
/* RADIOMETRIC DATA ELEMENTS */
BANDWIDTH = 174.0
CENTER_FILTER_WAVELENGTH = 675.0
RADIANCE_OFFSET = 3.51041
RADIANCE_SCALING_FACTOR = 0.010727
REFLECTANCE_SCALING_FACTOR = 0.000246439
MEX:REFLECTANCE_OFFSET = 0.080647
/* IMAGE OBJECT DEFINITIONS */
OBJECT = IMAGE
  INTERCHANGE_FORMAT = BINARY
  LINES = 43536
  LINE_SAMPLES = 4008
  SAMPLE_TYPE = UNSIGNED_INTEGER
  SAMPLE_BITS = 8
  BANDS = 1
  BAND_STORAGE_TYPE = BAND_SEQUENTIAL
  MAXIMUM = 285
  MEAN = 208.558
  MINIMUM = 22
  STANDARD_DEVIATION = 21.8462
END_OBJECT = IMAGE
/* MAP OBJECT DEFINITIONS */
OBJECT = IMAGE_MAP_PROJECTION
  ^DATA_SET_MAP_PROJECTION_CATALOG= "DSMAP.CAT"
  A_AXIS_RADIUS = 3396.0
  B_AXIS_RADIUS = 3396.0
  C_AXIS_RADIUS = 3396.0
  CENTER_LATITUDE = 0.0
  CENTER_LONGITUDE = 37.0
  COORDINATE_SYSTEM_NAME = PLANETOGRAPHIC
  COORDINATE_SYSTEM_TYPE = "BODY-FIXED ROTATING"
  EASTERNMOST_LONGITUDE = 38.2116
  FIRST_STANDARD_PARALLEL = "N/A"
  LINE_FIRST_PIXEL = 1
  LINE_LAST_PIXEL = 43536
  LINE_PROJECTION_OFFSET = 15829.25
  MAP_PROJECTION_ROTATION = 0.0
  MAP_PROJECTION_TYPE = SINUSOIDAL
  MAP_RESOLUTION = 2370.85521546667
  MAP_SCALE = 0.025
  MAXIMUM_LATITUDE = 6.67088
  MINIMUM_LATITUDE = -11.6614
  POSITIVE_LONGITUDE_DIRECTION = EAST
  REFERENCE_LATITUDE = "N/A"
  REFERENCE_LONGITUDE = "N/A"
  SAMPLE_FIRST_PIXEL = 1
  SAMPLE_LAST_PIXEL = 4008
  SAMPLE_PROJECTION_OFFSET = 989.25
  SECOND_STANDARD_PARALLEL = "N/A"
  WESTERNMOST_LONGITUDE = 36.6452
END_OBJECT = IMAGE_MAP_PROJECTION
/* The JPEG2000 image data file associated with this label. */
OBJECT = COMPRESSED_FILE
  FILE_NAME = "H1950_0000_P13.JP2"
  RECORD_TYPE = UNDEFINED
  FILE_RECORDS = UNK
  ENCODING_TYPE = "JP2"
  INTERCHANGE_FORMAT = BINARY
  UNCOMPRESSED_FILE_NAME = "H1950_0000_P13.IMG"
  REQUIRED_STORAGE_BYTES = "174516336"
  ^DESCRIPTION = "JP2INFO.TXT"
END_OBJECT = COMPRESSED_FILE
END
