PDS_VERSION_ID = PDS3
/* FILE DATA ELEMENTS */
RECORD_TYPE = STREAM
/* POINTERS TO DATA OBJECTS */
^COMPRESSED_FILE = "H1950_0001_SR3.JP2"
/* IDENTIFICATION DATA ELEMENTS */
DATA_SET_ID = "MEX-M-HRSC-5-REFDR-MAPPROJECTED-V3.0"
DATA_SET_NAME = "MARS EXPRESS HRSC MAP PROJECTED REFDR V3.0"
DETECTOR_ID = MEX_HRSC_SRC
EVENT_TYPE = "MARS-REGIONAL-MAPPING-Im-Fl-Pf"
INSTRUMENT_HOST_ID = MEX
INSTRUMENT_HOST_NAME = "MARS EXPRESS"
INSTRUMENT_ID = HRSC
INSTRUMENT_NAME = "HIGH RESOLUTION STEREO CAMERA"
MISSION_NAME = "MARS EXPRESS"
MISSION_PHASE_NAME = MR_Phase_7
PROCESSING_LEVEL_ID = 3
PRODUCT_CREATION_TIME = 2016-03-09T16:25:58.000Z
PRODUCT_ID = "H1950_0001_SR3.JP2"
RELEASE_ID = 0025
REVISION_ID = 0000
/* QUALITY DATA ELEMENTS */
DATA_QUALITY_ID = 1
DATA_QUALITY_DESC = "Data calculated based on original SPICE kernels"
/* TIME DATA ELEMENTS */
SPACECRAFT_CLOCK_START_COUNT = "1/0070136386.57151"
SPACECRAFT_CLOCK_STOP_COUNT = "1/0070136755.41254"
IMAGE_TIME = 2005-07-22T18:23:53.616Z
START_TIME = 2005-07-22T18:23:53.358Z
STOP_TIME = 2005-07-22T18:23:53.874Z
/* ORBITAL DATA ELEMENTS */
ASCENDING_NODE_LONGITUDE = 187.42
MAXIMUM_RESOLUTION = 3.207
FOOTPRINT_POINT_LATITUDE = (0.16933,0.171764,0.173171,0.174902, 0.177498,0.179283,0.18096,0.182691, 0.185071,0.187073,0.189885,0.192265, 0.193942,0.195349,0.198324,0.20065, 0.203571,0.206275,0.20806,0.21044, 0.213469,0.215579,0.218338,0.220069, 0.222016,0.222025,0.222035,0.222044, 0.222054,0.222063,0.222072,0.222082, 0.222091,0.2221,0.22211,0.222119, 0.222128,0.222138,0.222147,0.222156, 0.222166,0.222175,0.222184,0.222194, 0.222203,0.222212,0.222222,0.222231, 0.222241,0.221821,0.21944,0.216734, 0.215165,0.213379,0.210674,0.207914, 0.206237,0.204181,0.201096,0.198499, 0.196821,0.194386,0.19114,0.189354, 0.187136,0.18562,0.183348,0.180047, 0.177991,0.176151,0.173229,0.170794, 0.169333,0.167761,0.167753,0.167744, 0.167736,0.167727,0.167718,0.16771, 0.167701,0.167693,0.167684,0.167675, 0.167667,0.167658,0.16765,0.167641, 0.167633,0.167624,0.167615,0.167607, 0.167598,0.16759,0.167581,0.167572, 0.167564,0.167555,0.167547,0.16933)
FOOTPRINT_POINT_LONGITUDE = (37.3447,37.3447,37.3447,37.3447, 37.3447,37.3446,37.3446,37.3446,37.3446 ,37.3446,37.3446,37.3446,37.3446, 37.3446,37.3446,37.3446,37.3445,37.3445 ,37.3445,37.3445,37.3445,37.3445, 37.3445,37.3445,37.3445,37.3467,37.3489 ,37.351,37.3532,37.3553,37.3575,37.3597 ,37.3618,37.364,37.3662,37.3683,37.3705 ,37.3727,37.3748,37.377,37.3792,37.3813 ,37.3835,37.3857,37.3878,37.39,37.3922, 37.3943,37.3965,37.3995,37.3995,37.3996 ,37.3996,37.3996,37.3996,37.3996, 37.3996,37.3996,37.3996,37.3996,37.3996 ,37.3996,37.3997,37.3997,37.3997, 37.3997,37.3997,37.3997,37.3997,37.3997 ,37.3997,37.3997,37.3997,37.3992,37.397 ,37.3948,37.3927,37.3905,37.3883, 37.3862,37.384,37.3818,37.3797,37.3775, 37.3753,37.3732,37.371,37.3688,37.3667, 37.3645,37.3623,37.3602,37.358,37.3558, 37.3537,37.3515,37.3493,37.3472,37.345, 37.3447)
ORBIT_NUMBER = 1950
ORBITAL_ECCENTRICITY = 0.571
ORBITAL_INCLINATION = 86.58
ORBITAL_SEMIMAJOR_AXIS = 8622.72
PERIAPSIS_ALTITUDE = 301.47
PERIAPSIS_ARGUMENT_ANGLE = 16.05
PERIAPSIS_TIME = 2005-07-22T18:27:56.000Z
SPACECRAFT_ORIENTATION = (0.0,1.0,0.0)
^MEX_ORIENTATION_DESC = "MEX_ORIENTATION_DESC.TXT"
SPACECRAFT_POINTING_MODE = ACROSSTRACK
^MEX_POINTING_DESC = "MEX_POINTING_DESC.TXT"
RIGHT_ASCENSION = -1e+32
DECLINATION = -1e+32
OFFSET_ANGLE = -0.2
SPACECRAFT_SOLAR_DISTANCE = 2.06667e+08
TARGET_NAME = MARS
/* CAMERA DATA ELEMENTS */
BUFFER_MODE_ID = BUFFER_8
EXPOSURE_DURATION = 516.096
INST_CMPRS_NAME = NONE
INST_CMPRS_RATIO = 1.0
INST_CMPRS_QUALITY = -2147483648
INST_CMPRS_QUANTZ_TBL_ID = -2147483648
INSTRUMENT_TEMPERATURE = 14.2424
MISSING_FRAMES = 1
START_BIT = 0
/* RADIOMETRIC DATA ELEMENTS */
BANDWIDTH = 250.0
CENTER_FILTER_WAVELENGTH = 600.0
RADIANCE_OFFSET = -9.99e+31
RADIANCE_SCALING_FACTOR = -9.99e+31
REFLECTANCE_SCALING_FACTOR = -9.99e+31
MEX:REFLECTANCE_OFFSET = -9.99e+31
/* IMAGE OBJECT DEFINITIONS */
OBJECT = IMAGE
  INTERCHANGE_FORMAT = BINARY
  LINES = 1338
  LINE_SAMPLES = 1351
  SAMPLE_TYPE = UNSIGNED_INTEGER
  SAMPLE_BITS = 8
  BANDS = 1
  BAND_STORAGE_TYPE = BAND_SEQUENTIAL
  MAXIMUM = 13162
  MEAN = 12527.6
  MINIMUM = 11640
  STANDARD_DEVIATION = 220.47
END_OBJECT = IMAGE
/* MAP OBJECT DEFINITIONS */
OBJECT = IMAGE_MAP_PROJECTION
  ^DATA_SET_MAP_PROJECTION_CATALOG= "DSMAP.CAT"
  A_AXIS_RADIUS = 3396.19
  B_AXIS_RADIUS = 3396.19
  C_AXIS_RADIUS = 3396.19
  CENTER_LATITUDE = 0.0
  CENTER_LONGITUDE = 37.0
  COORDINATE_SYSTEM_NAME = PLANETOGRAPHIC
  COORDINATE_SYSTEM_TYPE = "BODY-FIXED ROTATING"
  EASTERNMOST_LONGITUDE = 37.3997
  FIRST_STANDARD_PARALLEL = "N/A"
  LINE_FIRST_PIXEL = 1
  LINE_LAST_PIXEL = 1338
  LINE_PROJECTION_OFFSET = 5289.0
  MAP_PROJECTION_ROTATION = 0.0
  MAP_PROJECTION_TYPE = SINUSOIDAL
  MAP_RESOLUTION = 23709.8786048756
  MAP_SCALE = 0.0025
  MAXIMUM_LATITUDE = 0.222241
  MINIMUM_LATITUDE = 0.167547
  POSITIVE_LONGITUDE_DIRECTION = EAST
  REFERENCE_LATITUDE = "N/A"
  REFERENCE_LONGITUDE = "N/A"
  SAMPLE_FIRST_PIXEL = 1
  SAMPLE_LAST_PIXEL = 1351
  SAMPLE_PROJECTION_OFFSET = -8145.0
  SECOND_STANDARD_PARALLEL = "N/A"
  WESTERNMOST_LONGITUDE = 37.3445
END_OBJECT = IMAGE_MAP_PROJECTION
/* The JPEG2000 image data file associated with this label. */
OBJECT = COMPRESSED_FILE
  FILE_NAME = "H1950_0001_SR3.JP2"
  RECORD_TYPE = UNDEFINED
  FILE_RECORDS = UNK
  ENCODING_TYPE = "JP2"
  INTERCHANGE_FORMAT = BINARY
  UNCOMPRESSED_FILE_NAME = "H1950_0001_SR3.IMG"
  REQUIRED_STORAGE_BYTES = "1826552"
  ^DESCRIPTION = "JP2INFO.TXT"
END_OBJECT = COMPRESSED_FILE
END
