PDS_VERSION_ID = PDS3
/* FILE DATA ELEMENTS */
RECORD_TYPE = STREAM
/* POINTERS TO DATA OBJECTS */
^COMPRESSED_FILE = "H1951_0000_P13.JP2"
/* IDENTIFICATION DATA ELEMENTS */
DATA_SET_ID = "MEX-M-HRSC-5-REFDR-MAPPROJECTED-V3.0"
DATA_SET_NAME = "MARS EXPRESS HRSC MAP PROJECTED REFDR V3.0"
DETECTOR_ID = MEX_HRSC_P1
EVENT_TYPE = "MARS-REGIONAL-MAPPING-Te-Lc-La"
INSTRUMENT_HOST_ID = MEX
INSTRUMENT_HOST_NAME = "MARS EXPRESS"
INSTRUMENT_ID = HRSC
INSTRUMENT_NAME = "HIGH RESOLUTION STEREO CAMERA"
MISSION_NAME = "MARS EXPRESS"
MISSION_PHASE_NAME = MR_Phase_7
PROCESSING_LEVEL_ID = 3
PRODUCT_CREATION_TIME = 2016-03-09T16:25:58.000Z
PRODUCT_ID = "H1951_0000_P13.JP2"
RELEASE_ID = 0025
REVISION_ID = 0000
/* QUALITY DATA ELEMENTS */
DATA_QUALITY_ID = 1
DATA_QUALITY_DESC = "Data calculated based on original SPICE kernels"
/* TIME DATA ELEMENTS */
SPACECRAFT_CLOCK_START_COUNT = "1/0070160382.57159"
SPACECRAFT_CLOCK_STOP_COUNT = "1/0070160757.08205"
START_TIME = 2005-07-23T01:01:43.570Z
STOP_TIME = 2005-07-23T01:05:50.331Z
/* ORBITAL DATA ELEMENTS */
ASCENDING_NODE_LONGITUDE = 187.39
MAXIMUM_RESOLUTION = 32
FOOTPRINT_POINT_LATITUDE = (-22.0597,-22.0654,-22.0709,-22.0761, -22.0811,-22.0859,-21.7135,-21.3432, -20.7881,-20.4263,-20.0623,-19.5364, -19.1866,-18.8376,-18.4933,-18.1497, -17.8109,-17.4729,-17.1401,-16.6423, -16.3151,-15.989,-15.6672,-15.3453, -14.8701,-14.5542,-14.2555,-13.9273, -13.6204,-13.3425,-12.8995,-12.4433, -12.1331,-11.8163,-11.5216,-11.2302, -10.9409,-10.6561,-10.3709,-9.94428, -9.66581,-9.24883,-8.96971,-8.69856, -8.28971,-8.01666,-7.48385,-7.21693, -6.94992,-6.53427,-6.53122,-6.51461, -6.50286,-6.76562,-7.03307,-7.3002, -7.56697,-7.8338,-8.10616,-8.37692, -8.6498,-8.92229,-9.33899,-9.61804, -9.89695,-10.3222,-10.6075,-10.8926, -11.3291,-11.6206,-11.9125,-12.2106, -12.5085,-12.8274,-13.1494,-13.4534, -13.7546,-14.0407,-14.5094,-14.8259, -15.2953,-15.6146,-15.9362,-16.426, -16.7527,-17.0861,-17.4193,-17.7566, -18.096,-18.4398,-18.7842,-19.1333, -19.4831,-19.8371,-20.3736,-20.734, -21.2908,-21.6608,-22.0332,-22.0597)
FOOTPRINT_POINT_LONGITUDE = (298.999,298.666,298.33,297.993,297.653 ,297.311,297.128,297.142,297.164, 297.177,297.195,297.208,297.219,297.231 ,297.242,297.253,297.263,297.273, 297.283,297.298,297.307,297.316,297.325 ,297.333,297.346,297.354,297.347, 297.371,297.376,297.36,297.359,297.376, 297.393,297.419,297.427,297.433,297.437 ,297.442,297.446,297.455,297.459, 297.464,297.47,297.472,297.478,297.481, 297.489,297.492,297.496,297.609,297.918 ,298.259,298.684,298.89,298.896,298.901 ,298.906,298.912,298.917,298.923, 298.929,298.934,298.943,298.949,298.955 ,298.965,298.971,298.978,298.988, 298.995,299.001,299.009,299.016,299.025 ,299.033,299.041,299.049,299.055, 299.067,299.075,299.087,299.096,299.104 ,299.118,299.127,299.136,299.146, 299.156,299.166,299.176,299.186,299.197 ,299.207,299.218,299.235,299.246, 299.264,299.277,299.289,298.999)
ORBIT_NUMBER = 1951
ORBITAL_ECCENTRICITY = 0.571
ORBITAL_INCLINATION = 86.58
ORBITAL_SEMIMAJOR_AXIS = 8619.44
PERIAPSIS_ALTITUDE = 301.44
PERIAPSIS_ARGUMENT_ANGLE = 15.87
PERIAPSIS_TIME = 2005-07-23T01:11:12.000Z
SPACECRAFT_ORIENTATION = (0.0,1.0,0.0)
^MEX_ORIENTATION_DESC = "MEX_ORIENTATION_DESC.TXT"
SPACECRAFT_POINTING_MODE = ACROSSTRACK
^MEX_POINTING_DESC = "MEX_POINTING_DESC.TXT"
RIGHT_ASCENSION = -1e+32
DECLINATION = -1e+32
OFFSET_ANGLE = 0.68
SPACECRAFT_SOLAR_DISTANCE = 2.06671e+08
TARGET_NAME = MARS
/* CAMERA DATA ELEMENTS */
DETECTOR_TEMPERATURE = 17.7588
FOCAL_PLANE_TEMPERATURE = 10.0106
INST_CMPRS_NAME = "DISCRETE COSINE TRANSFORMATION (DCT)"
INST_CMPRS_RATIO = 12.4428
INST_CMPRS_QUALITY = 0
INST_CMPRS_QUANTZ_TBL_ID = 0
INSTRUMENT_TEMPERATURE = 11.6418
LENS_TEMPERATURE = 10.4184
MACROPIXEL_SIZE = 2
MISSING_FRAMES = 2
PIXEL_SUBSAMPLING_FLAG = N
SIGNAL_CHAIN_ID = 3
/* RADIOMETRIC DATA ELEMENTS */
BANDWIDTH = 174.0
CENTER_FILTER_WAVELENGTH = 675.0
RADIANCE_OFFSET = 3.14098
RADIANCE_SCALING_FACTOR = 0.0103987
REFLECTANCE_SCALING_FACTOR = 0.000238905
MEX:REFLECTANCE_OFFSET = 0.072162
/* IMAGE OBJECT DEFINITIONS */
OBJECT = IMAGE
  INTERCHANGE_FORMAT = BINARY
  LINES = 36930
  LINE_SAMPLES = 5274
  SAMPLE_TYPE = UNSIGNED_INTEGER
  SAMPLE_BITS = 8
  BANDS = 1
  BAND_STORAGE_TYPE = BAND_SEQUENTIAL
  MAXIMUM = 370
  MEAN = 198.092
  MINIMUM = 196
  STANDARD_DEVIATION = 138.993
END_OBJECT = IMAGE
/* MAP OBJECT DEFINITIONS */
OBJECT = IMAGE_MAP_PROJECTION
  ^DATA_SET_MAP_PROJECTION_CATALOG= "DSMAP.CAT"
  A_AXIS_RADIUS = 3396.0
  B_AXIS_RADIUS = 3396.0
  C_AXIS_RADIUS = 3396.0
  CENTER_LATITUDE = 0.0
  CENTER_LONGITUDE = 298.0
  COORDINATE_SYSTEM_NAME = PLANETOGRAPHIC
  COORDINATE_SYSTEM_TYPE = "BODY-FIXED ROTATING"
  EASTERNMOST_LONGITUDE = 299.289
  FIRST_STANDARD_PARALLEL = "N/A"
  LINE_FIRST_PIXEL = 1
  LINE_LAST_PIXEL = 36930
  LINE_PROJECTION_OFFSET = -15479.25
  MAP_PROJECTION_ROTATION = 0.0
  MAP_PROJECTION_TYPE = SINUSOIDAL
  MAP_RESOLUTION = 2370.85521546667
  MAP_SCALE = 0.025
  MAXIMUM_LATITUDE = -6.50286
  MINIMUM_LATITUDE = -22.0859
  POSITIVE_LONGITUDE_DIRECTION = EAST
  REFERENCE_LATITUDE = "N/A"
  REFERENCE_LONGITUDE = "N/A"
  SAMPLE_FIRST_PIXEL = 1
  SAMPLE_LAST_PIXEL = 5274
  SAMPLE_PROJECTION_OFFSET = 2260.75
  SECOND_STANDARD_PARALLEL = "N/A"
  WESTERNMOST_LONGITUDE = 297.128
END_OBJECT = IMAGE_MAP_PROJECTION
/* The JPEG2000 image data file associated with this label. */
OBJECT = COMPRESSED_FILE
  FILE_NAME = "H1951_0000_P13.JP2"
  RECORD_TYPE = UNDEFINED
  FILE_RECORDS = UNK
  ENCODING_TYPE = "JP2"
  INTERCHANGE_FORMAT = BINARY
  UNCOMPRESSED_FILE_NAME = "H1951_0000_P13.IMG"
  REQUIRED_STORAGE_BYTES = "194795190"
  ^DESCRIPTION = "JP2INFO.TXT"
END_OBJECT = COMPRESSED_FILE
END
