PDS_VERSION_ID = PDS3
/* FILE DATA ELEMENTS */
RECORD_TYPE = STREAM
/* POINTERS TO DATA OBJECTS */
^COMPRESSED_FILE = "H1951_0001_SR3.JP2"
/* IDENTIFICATION DATA ELEMENTS */
DATA_SET_ID = "MEX-M-HRSC-5-REFDR-MAPPROJECTED-V3.0"
DATA_SET_NAME = "MARS EXPRESS HRSC MAP PROJECTED REFDR V3.0"
DETECTOR_ID = MEX_HRSC_SRC
EVENT_TYPE = "MARS-REGIONAL-MAPPING-Te-Lc-La"
INSTRUMENT_HOST_ID = MEX
INSTRUMENT_HOST_NAME = "MARS EXPRESS"
INSTRUMENT_ID = HRSC
INSTRUMENT_NAME = "HIGH RESOLUTION STEREO CAMERA"
MISSION_NAME = "MARS EXPRESS"
MISSION_PHASE_NAME = MR_Phase_7
PROCESSING_LEVEL_ID = 3
PRODUCT_CREATION_TIME = 2016-03-09T16:25:58.000Z
PRODUCT_ID = "H1951_0001_SR3.JP2"
RELEASE_ID = 0025
REVISION_ID = 0000
/* QUALITY DATA ELEMENTS */
DATA_QUALITY_ID = 1
DATA_QUALITY_DESC = "Data calculated based on original SPICE kernels"
/* TIME DATA ELEMENTS */
SPACECRAFT_CLOCK_START_COUNT = "1/0070160382.57159"
SPACECRAFT_CLOCK_STOP_COUNT = "1/0070160757.08205"
IMAGE_TIME = 2005-07-23T01:01:46.983Z
START_TIME = 2005-07-23T01:01:46.725Z
STOP_TIME = 2005-07-23T01:01:47.241Z
/* ORBITAL DATA ELEMENTS */
ASCENDING_NODE_LONGITUDE = 187.39
MAXIMUM_RESOLUTION = 5.2
FOOTPRINT_POINT_LATITUDE = (-19.7605,-19.7558,-19.7524,-19.7499, -19.7464,-19.7439,-19.7398,-19.7373, -19.7335,-19.7308,-19.7267,-19.7224, -19.7171,-19.7138,-19.7095,-19.7065, -19.7039,-19.7003,-19.6973,-19.6935, -19.6899,-19.6854,-19.6825,-19.6778, -19.6758,-19.6759,-19.6759,-19.6759, -19.6759,-19.6759,-19.6759,-19.6759, -19.6759,-19.6759,-19.6759,-19.6759, -19.6759,-19.6759,-19.6759,-19.6759, -19.6759,-19.6759,-19.6759,-19.6759, -19.6759,-19.6759,-19.6759,-19.6759, -19.6759,-19.6784,-19.682,-19.6869, -19.6901,-19.6943,-19.6987,-19.7027, -19.7052,-19.7077,-19.711,-19.7153, -19.7208,-19.7243,-19.7288,-19.7321, -19.735,-19.7379,-19.7402,-19.7429, -19.7474,-19.751,-19.7541,-19.7581, -19.7612,-19.7642,-19.7642,-19.7642, -19.7642,-19.7642,-19.7642,-19.7642, -19.7642,-19.7642,-19.7642,-19.7642, -19.7642,-19.7642,-19.7642,-19.7642, -19.7642,-19.7642,-19.7642,-19.7642, -19.7642,-19.7642,-19.7642,-19.7642, -19.7642,-19.7642,-19.7642,-19.7605)
FOOTPRINT_POINT_LONGITUDE = (298.178,298.178,298.178,298.178, 298.178,298.178,298.178,298.178,298.178 ,298.178,298.178,298.178,298.178, 298.178,298.178,298.178,298.178,298.178 ,298.178,298.178,298.178,298.178, 298.178,298.178,298.182,298.186,298.19, 298.193,298.197,298.201,298.205,298.208 ,298.212,298.216,298.219,298.223, 298.227,298.231,298.234,298.238,298.242 ,298.246,298.249,298.253,298.257, 298.261,298.264,298.268,298.272,298.273 ,298.273,298.273,298.273,298.273, 298.273,298.273,298.273,298.273,298.273 ,298.273,298.273,298.273,298.273, 298.273,298.273,298.273,298.273,298.273 ,298.273,298.273,298.273,298.273, 298.273,298.273,298.269,298.266,298.262 ,298.258,298.254,298.251,298.247, 298.243,298.24,298.236,298.232,298.228, 298.225,298.221,298.217,298.213,298.21, 298.206,298.202,298.198,298.195,298.191 ,298.187,298.183,298.179,298.178)
ORBIT_NUMBER = 1951
ORBITAL_ECCENTRICITY = 0.571
ORBITAL_INCLINATION = 86.58
ORBITAL_SEMIMAJOR_AXIS = 8619.44
PERIAPSIS_ALTITUDE = 301.44
PERIAPSIS_ARGUMENT_ANGLE = 15.87
PERIAPSIS_TIME = 2005-07-23T01:11:12.000Z
SPACECRAFT_ORIENTATION = (0.0,1.0,0.0)
^MEX_ORIENTATION_DESC = "MEX_ORIENTATION_DESC.TXT"
SPACECRAFT_POINTING_MODE = ACROSSTRACK
^MEX_POINTING_DESC = "MEX_POINTING_DESC.TXT"
RIGHT_ASCENSION = -1e+32
DECLINATION = -1e+32
OFFSET_ANGLE = 0.68
SPACECRAFT_SOLAR_DISTANCE = 2.06671e+08
TARGET_NAME = MARS
/* CAMERA DATA ELEMENTS */
BUFFER_MODE_ID = BUFFER_8
EXPOSURE_DURATION = 516.096
INST_CMPRS_NAME = NONE
INST_CMPRS_RATIO = 1.0
INST_CMPRS_QUALITY = -2147483648
INST_CMPRS_QUANTZ_TBL_ID = -2147483648
INSTRUMENT_TEMPERATURE = 11.2121
MISSING_FRAMES = 0
START_BIT = 0
/* RADIOMETRIC DATA ELEMENTS */
BANDWIDTH = 250.0
CENTER_FILTER_WAVELENGTH = 600.0
RADIANCE_OFFSET = -9.99e+31
RADIANCE_SCALING_FACTOR = -9.99e+31
REFLECTANCE_SCALING_FACTOR = -9.99e+31
MEX:REFLECTANCE_OFFSET = -9.99e+31
/* IMAGE OBJECT DEFINITIONS */
OBJECT = IMAGE
  INTERCHANGE_FORMAT = BINARY
  LINES = 1093
  LINE_SAMPLES = 1109
  SAMPLE_TYPE = UNSIGNED_INTEGER
  SAMPLE_BITS = 8
  BANDS = 1
  BAND_STORAGE_TYPE = BAND_SEQUENTIAL
  MAXIMUM = 13113
  MEAN = 2514.56
  MINIMUM = 0
  STANDARD_DEVIATION = 4641.45
END_OBJECT = IMAGE
/* MAP OBJECT DEFINITIONS */
OBJECT = IMAGE_MAP_PROJECTION
  ^DATA_SET_MAP_PROJECTION_CATALOG= "DSMAP.CAT"
  A_AXIS_RADIUS = 3396.19
  B_AXIS_RADIUS = 3396.19
  C_AXIS_RADIUS = 3396.19
  CENTER_LATITUDE = 0.0
  CENTER_LONGITUDE = 298.0
  COORDINATE_SYSTEM_NAME = PLANETOGRAPHIC
  COORDINATE_SYSTEM_TYPE = "BODY-FIXED ROTATING"
  EASTERNMOST_LONGITUDE = 298.273
  FIRST_STANDARD_PARALLEL = "N/A"
  LINE_FIRST_PIXEL = 1
  LINE_LAST_PIXEL = 1093
  LINE_PROJECTION_OFFSET = -233184.0
  MAP_PROJECTION_ROTATION = 0.0
  MAP_PROJECTION_TYPE = SINUSOIDAL
  MAP_RESOLUTION = 11854.9393024378
  MAP_SCALE = 0.005
  MAXIMUM_LATITUDE = -19.6758
  MINIMUM_LATITUDE = -19.7642
  POSITIVE_LONGITUDE_DIRECTION = EAST
  REFERENCE_LATITUDE = "N/A"
  REFERENCE_LONGITUDE = "N/A"
  SAMPLE_FIRST_PIXEL = 1
  SAMPLE_LAST_PIXEL = 1109
  SAMPLE_PROJECTION_OFFSET = -1929.0
  SECOND_STANDARD_PARALLEL = "N/A"
  WESTERNMOST_LONGITUDE = 298.178
END_OBJECT = IMAGE_MAP_PROJECTION
/* The JPEG2000 image data file associated with this label. */
OBJECT = COMPRESSED_FILE
  FILE_NAME = "H1951_0001_SR3.JP2"
  RECORD_TYPE = UNDEFINED
  FILE_RECORDS = UNK
  ENCODING_TYPE = "JP2"
  INTERCHANGE_FORMAT = BINARY
  UNCOMPRESSED_FILE_NAME = "H1951_0001_SR3.IMG"
  REQUIRED_STORAGE_BYTES = "1230990"
  ^DESCRIPTION = "JP2INFO.TXT"
END_OBJECT = COMPRESSED_FILE
END
