PDS_VERSION_ID = PDS3
/* FILE DATA ELEMENTS */
RECORD_TYPE = STREAM
/* POINTERS TO DATA OBJECTS */
^COMPRESSED_FILE = "H1957_0001_S23.JP2"
/* IDENTIFICATION DATA ELEMENTS */
DATA_SET_ID = "MEX-M-HRSC-5-REFDR-MAPPROJECTED-V3.0"
DATA_SET_NAME = "MARS EXPRESS HRSC MAP PROJECTED REFDR V3.0"
DETECTOR_ID = MEX_HRSC_S2
EVENT_TYPE = "MARS-LOCAL-MAPPING-Vo-Im"
INSTRUMENT_HOST_ID = MEX
INSTRUMENT_HOST_NAME = "MARS EXPRESS"
INSTRUMENT_ID = HRSC
INSTRUMENT_NAME = "HIGH RESOLUTION STEREO CAMERA"
MISSION_NAME = "MARS EXPRESS"
MISSION_PHASE_NAME = MR_Phase_7
PROCESSING_LEVEL_ID = 3
PRODUCT_CREATION_TIME = 2016-03-09T16:25:58.000Z
PRODUCT_ID = "H1957_0001_S23.JP2"
RELEASE_ID = 0025
REVISION_ID = 0000
/* QUALITY DATA ELEMENTS */
DATA_QUALITY_ID = 1
DATA_QUALITY_DESC = "Data calculated based on original SPICE kernels"
/* TIME DATA ELEMENTS */
SPACECRAFT_CLOCK_START_COUNT = "1/0070306227.56202"
SPACECRAFT_CLOCK_STOP_COUNT = "1/0070306374.07449"
START_TIME = 2005-07-24T17:30:35.084Z
STOP_TIME = 2005-07-24T17:32:03.057Z
/* ORBITAL DATA ELEMENTS */
ASCENDING_NODE_LONGITUDE = 187.27
MAXIMUM_RESOLUTION = 25.5
FOOTPRINT_POINT_LATITUDE = (16.9331,16.9333,16.9336,16.9339, 16.9344,16.9349,16.9962,17.1117,17.2269 ,17.3999,17.573,17.6887,17.8619,18.0349 ,18.2079,18.3233,18.4387,18.5548, 18.7282,18.8438,19.0173,19.1897,19.3047 ,19.4774,19.6103,19.7253,19.8419, 19.9575,20.073,20.1903,20.3679,20.5413, 20.6542,20.7709,20.8872,21.0043,21.1202 ,21.2398,21.357,21.4726,21.594,21.7145, 21.834,22.0118,22.1324,22.3132,22.4343, 22.5545,22.6754,22.7959,22.7961,22.7952 ,22.7935,22.7927,22.7916,22.7892, 22.7882,22.7269,22.546,22.4252,22.2447, 22.1244,22.0042,21.8241,21.7039,21.5836 ,21.4634,21.3471,21.1735,21.0581, 20.8845,20.7685,20.5949,20.4787,20.3657 ,20.1964,20.0218,19.8424,19.7242, 19.5315,19.3577,19.2417,19.1274,18.9563 ,18.8409,18.7254,18.6096,18.4362, 18.3207,18.1475,17.9746,17.8592,17.7436 ,17.5707,17.4555,17.34,17.2248,17.1096, 16.9367,16.9331)
FOOTPRINT_POINT_LONGITUDE = (69.5491,69.4427,69.2726,69.145,68.975, 68.8049,68.5877,68.5876,68.5875,68.5875 ,68.5874,68.5872,68.5871,68.5871,68.587 ,68.587,68.587,68.5867,68.5866,68.5866, 68.5864,68.5867,68.5868,68.5869,68.5872 ,68.5874,68.587,68.587,68.587,68.5864, 68.585,68.585,68.5859,68.5855,68.5853, 68.5848,68.5847,68.5834,68.5829,68.5829 ,68.5822,68.582,68.5821,68.5828,68.5826 ,68.5824,68.582,68.5819,68.5816,68.5815 ,68.7522,68.9005,69.0601,69.1853, 69.3677,69.5269,69.6635,69.7576,69.7545 ,69.7523,69.7494,69.7475,69.7456, 69.7429,69.7411,69.7393,69.7372,69.7354 ,69.733,69.7316,69.7293,69.7276,69.7254 ,69.7237,69.7232,69.7224,69.72,69.716, 69.7139,69.7114,69.7094,69.708,69.7072, 69.7061,69.705,69.7038,69.7026,69.7009, 69.6997,69.6982,69.6967,69.6956,69.6946 ,69.6932,69.6923,69.6913,69.6904, 69.6896,69.6883,69.5491)
ORBIT_NUMBER = 1957
ORBITAL_ECCENTRICITY = 0.572
ORBITAL_INCLINATION = 86.59
ORBITAL_SEMIMAJOR_AXIS = 8624.68
PERIAPSIS_ALTITUDE = 300.34
PERIAPSIS_ARGUMENT_ANGLE = 14.77
PERIAPSIS_TIME = 2005-07-24T17:30:29.000Z
SPACECRAFT_ORIENTATION = (0.0,1.0,0.0)
^MEX_ORIENTATION_DESC = "MEX_ORIENTATION_DESC.TXT"
SPACECRAFT_POINTING_MODE = NADIR
^MEX_POINTING_DESC = "MEX_POINTING_DESC.TXT"
RIGHT_ASCENSION = -1e+32
DECLINATION = -1e+32
OFFSET_ANGLE = -1e+32
SPACECRAFT_SOLAR_DISTANCE = 2.06693e+08
TARGET_NAME = MARS
/* CAMERA DATA ELEMENTS */
DETECTOR_TEMPERATURE = 20.4095
FOCAL_PLANE_TEMPERATURE = 9.3989
INST_CMPRS_NAME = "DISCRETE COSINE TRANSFORMATION (DCT)"
INST_CMPRS_RATIO = 7.98496
INST_CMPRS_QUALITY = 0
INST_CMPRS_QUANTZ_TBL_ID = 0
INSTRUMENT_TEMPERATURE = 13.273
LENS_TEMPERATURE = 10.0106
MACROPIXEL_SIZE = 2
MISSING_FRAMES = 6
PIXEL_SUBSAMPLING_FLAG = N
SIGNAL_CHAIN_ID = 1
/* RADIOMETRIC DATA ELEMENTS */
BANDWIDTH = 178.0
CENTER_FILTER_WAVELENGTH = 679.0
RADIANCE_OFFSET = 1.6015
RADIANCE_SCALING_FACTOR = 0.00349473
REFLECTANCE_SCALING_FACTOR = 7.90675e-05
MEX:REFLECTANCE_OFFSET = 0.0362335
/* IMAGE OBJECT DEFINITIONS */
OBJECT = IMAGE
  INTERCHANGE_FORMAT = BINARY
  LINES = 13905
  LINE_SAMPLES = 2780
  SAMPLE_TYPE = UNSIGNED_INTEGER
  SAMPLE_BITS = 8
  BANDS = 1
  BAND_STORAGE_TYPE = BAND_SEQUENTIAL
  MAXIMUM = 224
  MEAN = 159.716
  MINIMUM = 121
  STANDARD_DEVIATION = 11.3806
END_OBJECT = IMAGE
/* MAP OBJECT DEFINITIONS */
OBJECT = IMAGE_MAP_PROJECTION
  ^DATA_SET_MAP_PROJECTION_CATALOG= "DSMAP.CAT"
  A_AXIS_RADIUS = 3396.0
  B_AXIS_RADIUS = 3396.0
  C_AXIS_RADIUS = 3396.0
  CENTER_LATITUDE = 0.0
  CENTER_LONGITUDE = 69.0
  COORDINATE_SYSTEM_NAME = PLANETOGRAPHIC
  COORDINATE_SYSTEM_TYPE = "BODY-FIXED ROTATING"
  EASTERNMOST_LONGITUDE = 69.7576
  FIRST_STANDARD_PARALLEL = "N/A"
  LINE_FIRST_PIXEL = 1
  LINE_LAST_PIXEL = 13905
  LINE_PROJECTION_OFFSET = 54058.25
  MAP_PROJECTION_ROTATION = 0.0
  MAP_PROJECTION_TYPE = SINUSOIDAL
  MAP_RESOLUTION = 2370.85521546667
  MAP_SCALE = 0.025
  MAXIMUM_LATITUDE = 22.7961
  MINIMUM_LATITUDE = 16.9331
  POSITIVE_LONGITUDE_DIRECTION = EAST
  REFERENCE_LATITUDE = "N/A"
  REFERENCE_LONGITUDE = "N/A"
  SAMPLE_FIRST_PIXEL = 1
  SAMPLE_LAST_PIXEL = 2780
  SAMPLE_PROJECTION_OFFSET = 1021.25
  SECOND_STANDARD_PARALLEL = "N/A"
  WESTERNMOST_LONGITUDE = 68.58150000000001
END_OBJECT = IMAGE_MAP_PROJECTION
/* The JPEG2000 image data file associated with this label. */
OBJECT = COMPRESSED_FILE
  FILE_NAME = "H1957_0001_S23.JP2"
  RECORD_TYPE = UNDEFINED
  FILE_RECORDS = UNK
  ENCODING_TYPE = "JP2"
  INTERCHANGE_FORMAT = BINARY
  UNCOMPRESSED_FILE_NAME = "H1957_0001_S23.IMG"
  REQUIRED_STORAGE_BYTES = "38678140"
  ^DESCRIPTION = "JP2INFO.TXT"
END_OBJECT = COMPRESSED_FILE
END
