PDS_VERSION_ID = PDS3
/* FILE DATA ELEMENTS */
RECORD_TYPE = STREAM
/* POINTERS TO DATA OBJECTS */
^COMPRESSED_FILE = "H1958_0000_BL3.JP2"
/* IDENTIFICATION DATA ELEMENTS */
DATA_SET_ID = "MEX-M-HRSC-5-REFDR-MAPPROJECTED-V3.0"
DATA_SET_NAME = "MARS EXPRESS HRSC MAP PROJECTED REFDR V3.0"
DETECTOR_ID = MEX_HRSC_BLUE
EVENT_TYPE = "MARS-REGIONAL-MAPPING-Fl-Lc-La"
INSTRUMENT_HOST_ID = MEX
INSTRUMENT_HOST_NAME = "MARS EXPRESS"
INSTRUMENT_ID = HRSC
INSTRUMENT_NAME = "HIGH RESOLUTION STEREO CAMERA"
MISSION_NAME = "MARS EXPRESS"
MISSION_PHASE_NAME = MR_Phase_7
PROCESSING_LEVEL_ID = 3
PRODUCT_CREATION_TIME = 2016-03-09T16:25:58.000Z
PRODUCT_ID = "H1958_0000_BL3.JP2"
RELEASE_ID = 0025
REVISION_ID = 0000
/* QUALITY DATA ELEMENTS */
DATA_QUALITY_ID = 1
DATA_QUALITY_DESC = "Data calculated based on original SPICE kernels"
/* TIME DATA ELEMENTS */
SPACECRAFT_CLOCK_START_COUNT = "1/0070329914.57142"
SPACECRAFT_CLOCK_STOP_COUNT = "1/0070330204.57824"
START_TIME = 2005-07-25T00:06:04.329Z
STOP_TIME = 2005-07-25T00:09:33.958Z
/* ORBITAL DATA ELEMENTS */
ASCENDING_NODE_LONGITUDE = 187.25
MAXIMUM_RESOLUTION = 57
FOOTPRINT_POINT_LATITUDE = (-14.0081,-14.012,-14.0157,-14.0189, -14.024,-13.7272,-13.2911,-12.9998, -12.7164,-12.4305,-12.1466,-11.8665, -11.5859,-11.1706,-10.8937,-10.4818, -10.2112,-9.94283,-9.5396,-9.27585, -9.01027,-8.61366,-8.22415,-7.96475, -7.57771,-7.32382,-7.06956,-6.8148, -6.43252,-6.04991,-5.79414,-5.41066, -5.02321,-4.76645,-4.51075,-4.25144, -3.9928,-3.73612,-3.47791,-3.21846, -2.96555,-2.74673,-2.52932,-2.31258, -2.095,-1.76719,-1.54869,-1.32994, -1.1108,-1.0883,-1.08551,-1.0819,-1.078 ,-1.29634,-1.51499,-1.7335,-1.95135, -2.27851,-2.60495,-2.82127,-3.04865, -3.30731,-3.56642,-3.82494,-4.08322, -4.34091,-4.72715,-4.98479,-5.37099, -5.6272,-5.88286,-6.13754,-6.39214, -6.64775,-6.90123,-7.15531,-7.40955, -7.66287,-7.92291,-8.18264,-8.57251, -8.83575,-9.10163,-9.36659,-9.63129, -9.90046,-10.1705,-10.4404,-10.7132, -11.1238,-11.3983,-11.6811,-12.1011, -12.3843,-12.67,-12.9551,-13.2445, -13.5352,-13.9734,-14.0081)
FOOTPRINT_POINT_LONGITUDE = (332.215,331.955,331.696,331.44,330.978 ,330.869,330.877,330.882,330.887, 330.892,330.897,330.901,330.906,330.913 ,330.917,330.923,330.927,330.931, 330.937,330.94,330.944,330.949,330.954, 330.958,330.963,330.966,330.969,330.972 ,330.976,330.98,330.983,330.987,330.992 ,330.994,330.996,330.999,331.002, 331.004,331.006,331.009,331.011,331.014 ,331.015,331.017,331.019,331.021, 331.023,331.025,331.027,331.359,331.592 ,331.874,332.185,332.289,332.293, 332.297,332.303,332.308,332.315,332.323 ,332.327,332.334,332.337,332.342, 332.347,332.353,332.36,332.364,332.368, 332.373,332.38,332.388,332.396,332.4, 332.409,332.416,332.421,332.427,332.433 ,332.439,332.445,332.449,332.453, 332.459,332.465,332.476,332.484,332.49, 332.499,332.519,332.528,332.528,332.542 ,332.551,332.56,332.569,332.579,332.588 ,332.602,332.215)
ORBIT_NUMBER = 1958
ORBITAL_ECCENTRICITY = 0.571
ORBITAL_INCLINATION = 86.59
ORBITAL_SEMIMAJOR_AXIS = 8615.5
PERIAPSIS_ALTITUDE = 301.16
PERIAPSIS_ARGUMENT_ANGLE = 14.59
PERIAPSIS_TIME = 2005-07-25T00:13:39.000Z
SPACECRAFT_ORIENTATION = (0.0,1.0,0.0)
^MEX_ORIENTATION_DESC = "MEX_ORIENTATION_DESC.TXT"
SPACECRAFT_POINTING_MODE = ACROSSTRACK
^MEX_POINTING_DESC = "MEX_POINTING_DESC.TXT"
RIGHT_ASCENSION = -1e+32
DECLINATION = -1e+32
OFFSET_ANGLE = -0.75
SPACECRAFT_SOLAR_DISTANCE = 2.06698e+08
TARGET_NAME = MARS
/* CAMERA DATA ELEMENTS */
DETECTOR_TEMPERATURE = 18.5744
FOCAL_PLANE_TEMPERATURE = 9.8067
INST_CMPRS_NAME = "DISCRETE COSINE TRANSFORMATION (DCT)"
INST_CMPRS_RATIO = 4.96822
INST_CMPRS_QUALITY = 0
INST_CMPRS_QUANTZ_TBL_ID = 0
INSTRUMENT_TEMPERATURE = 11.6418
LENS_TEMPERATURE = 8.9911
MACROPIXEL_SIZE = 4
MISSING_FRAMES = 0
PIXEL_SUBSAMPLING_FLAG = N
SIGNAL_CHAIN_ID = 2
/* RADIOMETRIC DATA ELEMENTS */
BANDWIDTH = 76.0
CENTER_FILTER_WAVELENGTH = 444.0
RADIANCE_OFFSET = 0.577628
RADIANCE_SCALING_FACTOR = 0.00128219
REFLECTANCE_SCALING_FACTOR = 5.62835e-05
MEX:REFLECTANCE_OFFSET = 0.0253557
/* IMAGE OBJECT DEFINITIONS */
OBJECT = IMAGE
  INTERCHANGE_FORMAT = BINARY
  LINES = 15316
  LINE_SAMPLES = 2071
  SAMPLE_TYPE = UNSIGNED_INTEGER
  SAMPLE_BITS = 8
  BANDS = 1
  BAND_STORAGE_TYPE = BAND_SEQUENTIAL
  MAXIMUM = 266
  MEAN = 202.695
  MINIMUM = 0
  STANDARD_DEVIATION = 11.1286
END_OBJECT = IMAGE
/* MAP OBJECT DEFINITIONS */
OBJECT = IMAGE_MAP_PROJECTION
  ^DATA_SET_MAP_PROJECTION_CATALOG= "DSMAP.CAT"
  A_AXIS_RADIUS = 3396.0
  B_AXIS_RADIUS = 3396.0
  C_AXIS_RADIUS = 3396.0
  CENTER_LATITUDE = 0.0
  CENTER_LONGITUDE = 332.0
  COORDINATE_SYSTEM_NAME = PLANETOGRAPHIC
  COORDINATE_SYSTEM_TYPE = "BODY-FIXED ROTATING"
  EASTERNMOST_LONGITUDE = 332.602
  FIRST_STANDARD_PARALLEL = "N/A"
  LINE_FIRST_PIXEL = 1
  LINE_LAST_PIXEL = 15316
  LINE_PROJECTION_OFFSET = -1294.875
  MAP_PROJECTION_ROTATION = 0.0
  MAP_PROJECTION_TYPE = SINUSOIDAL
  MAP_RESOLUTION = 1185.42760773333
  MAP_SCALE = 0.05
  MAXIMUM_LATITUDE = -1.078
  MINIMUM_LATITUDE = -14.024
  POSITIVE_LONGITUDE_DIRECTION = EAST
  REFERENCE_LATITUDE = "N/A"
  REFERENCE_LONGITUDE = "N/A"
  SAMPLE_FIRST_PIXEL = 1
  SAMPLE_LAST_PIXEL = 2071
  SAMPLE_PROJECTION_OFFSET = 1310.625
  SECOND_STANDARD_PARALLEL = "N/A"
  WESTERNMOST_LONGITUDE = 330.869
END_OBJECT = IMAGE_MAP_PROJECTION
/* The JPEG2000 image data file associated with this label. */
OBJECT = COMPRESSED_FILE
  FILE_NAME = "H1958_0000_BL3.JP2"
  RECORD_TYPE = UNDEFINED
  FILE_RECORDS = UNK
  ENCODING_TYPE = "JP2"
  INTERCHANGE_FORMAT = BINARY
  UNCOMPRESSED_FILE_NAME = "H1958_0000_BL3.IMG"
  REQUIRED_STORAGE_BYTES = "31740146"
  ^DESCRIPTION = "JP2INFO.TXT"
END_OBJECT = COMPRESSED_FILE
END
