PDS_VERSION_ID = PDS3
/* FILE DATA ELEMENTS */
RECORD_TYPE = STREAM
/* POINTERS TO DATA OBJECTS */
^COMPRESSED_FILE = "H1961_0007_SR3.JP2"
/* IDENTIFICATION DATA ELEMENTS */
DATA_SET_ID = "MEX-M-HRSC-5-REFDR-MAPPROJECTED-V3.0"
DATA_SET_NAME = "MARS EXPRESS HRSC MAP PROJECTED REFDR V3.0"
DETECTOR_ID = MEX_HRSC_SRC
EVENT_TYPE = "MARS-REGIONAL-MAPPING-Im-Lc-La"
INSTRUMENT_HOST_ID = MEX
INSTRUMENT_HOST_NAME = "MARS EXPRESS"
INSTRUMENT_ID = HRSC
INSTRUMENT_NAME = "HIGH RESOLUTION STEREO CAMERA"
MISSION_NAME = "MARS EXPRESS"
MISSION_PHASE_NAME = MR_Phase_7
PROCESSING_LEVEL_ID = 3
PRODUCT_CREATION_TIME = 2016-03-09T16:25:58.000Z
PRODUCT_ID = "H1961_0007_SR3.JP2"
RELEASE_ID = 0025
REVISION_ID = 0000
/* QUALITY DATA ELEMENTS */
DATA_QUALITY_ID = 1
DATA_QUALITY_DESC = "Data calculated based on original SPICE kernels"
/* TIME DATA ELEMENTS */
SPACECRAFT_CLOCK_START_COUNT = "1/0070402538.57169"
SPACECRAFT_CLOCK_STOP_COUNT = "1/0070402901.47313"
IMAGE_TIME = 2005-07-25T20:19:49.972Z
START_TIME = 2005-07-25T20:19:49.970Z
STOP_TIME = 2005-07-25T20:19:49.975Z
/* ORBITAL DATA ELEMENTS */
ASCENDING_NODE_LONGITUDE = 187.18
MAXIMUM_RESOLUTION = 3.081
FOOTPRINT_POINT_LATITUDE = (0.359404,0.361742,0.363457,0.366263, 0.368601,0.371043,0.373121,0.375927, 0.378577,0.380292,0.382111,0.38502, 0.387255,0.388709,0.391671,0.394061, 0.396192,0.39801,0.400141,0.402011, 0.404609,0.40648,0.408974,0.410688, 0.410697,0.410705,0.410713,0.410721, 0.41073,0.410738,0.410746,0.410754, 0.410763,0.410771,0.410779,0.410787, 0.410795,0.410804,0.410812,0.41082, 0.410828,0.410837,0.410845,0.410853, 0.410861,0.41087,0.410878,0.410886, 0.410894,0.409598,0.408194,0.406011, 0.404295,0.402892,0.401332,0.398992, 0.396965,0.39447,0.392286,0.390882, 0.389063,0.387503,0.385112,0.383604, 0.381368,0.379029,0.377417,0.375078, 0.37227,0.370711,0.368683,0.365668, 0.364212,0.362184,0.359013,0.358536, 0.358529,0.358522,0.358515,0.358508, 0.358501,0.358494,0.358486,0.358479, 0.358472,0.358465,0.358458,0.358451, 0.358444,0.358437,0.35843,0.358422, 0.358415,0.358408,0.358401,0.358394, 0.358387,0.35838,0.358373,0.359404)
FOOTPRINT_POINT_LONGITUDE = (36.2946,36.2946,36.2946,36.2946, 36.2946,36.2946,36.2946,36.2946,36.2946 ,36.2945,36.2945,36.2945,36.2945, 36.2945,36.2945,36.2945,36.2945,36.2945 ,36.2945,36.2945,36.2945,36.2944, 36.2944,36.2945,36.2966,36.2986,36.3007 ,36.3028,36.3049,36.307,36.3091,36.3111 ,36.3132,36.3153,36.3174,36.3195, 36.3215,36.3236,36.3257,36.3278,36.3299 ,36.332,36.334,36.3361,36.3382,36.3403, 36.3424,36.3445,36.3465,36.3474,36.3474 ,36.3474,36.3474,36.3474,36.3474, 36.3474,36.3474,36.3474,36.3475,36.3475 ,36.3475,36.3475,36.3475,36.3475, 36.3475,36.3475,36.3475,36.3475,36.3475 ,36.3475,36.3475,36.3476,36.3476, 36.3476,36.3476,36.3449,36.3428,36.3408 ,36.3387,36.3366,36.3345,36.3324, 36.3303,36.3283,36.3262,36.3241,36.322, 36.3199,36.3178,36.3158,36.3137,36.3116 ,36.3095,36.3074,36.3054,36.3033, 36.3012,36.2991,36.297,36.2946)
ORBIT_NUMBER = 1961
ORBITAL_ECCENTRICITY = 0.572
ORBITAL_INCLINATION = 86.58
ORBITAL_SEMIMAJOR_AXIS = 8624.13
PERIAPSIS_ALTITUDE = 300.13
PERIAPSIS_ARGUMENT_ANGLE = 14.07
PERIAPSIS_TIME = 2005-07-25T20:23:18.000Z
SPACECRAFT_ORIENTATION = (0.0,1.0,0.0)
^MEX_ORIENTATION_DESC = "MEX_ORIENTATION_DESC.TXT"
SPACECRAFT_POINTING_MODE = ACROSSTRACK
^MEX_POINTING_DESC = "MEX_POINTING_DESC.TXT"
RIGHT_ASCENSION = -1e+32
DECLINATION = -1e+32
OFFSET_ANGLE = -0.3
SPACECRAFT_SOLAR_DISTANCE = 2.06712e+08
TARGET_NAME = MARS
/* CAMERA DATA ELEMENTS */
BUFFER_MODE_ID = BUFFER_8
EXPOSURE_DURATION = 5.04
INST_CMPRS_NAME = NONE
INST_CMPRS_RATIO = 1.0
INST_CMPRS_QUALITY = -2147483648
INST_CMPRS_QUANTZ_TBL_ID = -2147483648
INSTRUMENT_TEMPERATURE = 13.4611
MISSING_FRAMES = 0
START_BIT = 0
/* RADIOMETRIC DATA ELEMENTS */
BANDWIDTH = 250.0
CENTER_FILTER_WAVELENGTH = 600.0
RADIANCE_OFFSET = -9.99e+31
RADIANCE_SCALING_FACTOR = -9.99e+31
REFLECTANCE_SCALING_FACTOR = -9.99e+31
MEX:REFLECTANCE_OFFSET = -9.99e+31
/* IMAGE OBJECT DEFINITIONS */
OBJECT = IMAGE
  INTERCHANGE_FORMAT = BINARY
  LINES = 1286
  LINE_SAMPLES = 1301
  SAMPLE_TYPE = UNSIGNED_INTEGER
  SAMPLE_BITS = 8
  BANDS = 1
  BAND_STORAGE_TYPE = BAND_SEQUENTIAL
  MAXIMUM = 4697
  MEAN = 4213.72
  MINIMUM = 3633
  STANDARD_DEVIATION = 97.2452
END_OBJECT = IMAGE
/* MAP OBJECT DEFINITIONS */
OBJECT = IMAGE_MAP_PROJECTION
  ^DATA_SET_MAP_PROJECTION_CATALOG= "DSMAP.CAT"
  A_AXIS_RADIUS = 3396.19
  B_AXIS_RADIUS = 3396.19
  C_AXIS_RADIUS = 3396.19
  CENTER_LATITUDE = 0.0
  CENTER_LONGITUDE = 36.0
  COORDINATE_SYSTEM_NAME = PLANETOGRAPHIC
  COORDINATE_SYSTEM_TYPE = "BODY-FIXED ROTATING"
  EASTERNMOST_LONGITUDE = 36.3476
  FIRST_STANDARD_PARALLEL = "N/A"
  LINE_FIRST_PIXEL = 1
  LINE_LAST_PIXEL = 1286
  LINE_PROJECTION_OFFSET = 9762.0
  MAP_PROJECTION_ROTATION = 0.0
  MAP_PROJECTION_TYPE = SINUSOIDAL
  MAP_RESOLUTION = 23709.8786048756
  MAP_SCALE = 0.0025
  MAXIMUM_LATITUDE = 0.410894
  MINIMUM_LATITUDE = 0.358373
  POSITIVE_LONGITUDE_DIRECTION = EAST
  REFERENCE_LATITUDE = "N/A"
  REFERENCE_LONGITUDE = "N/A"
  SAMPLE_FIRST_PIXEL = 1
  SAMPLE_LAST_PIXEL = 1301
  SAMPLE_PROJECTION_OFFSET = -6957.0
  SECOND_STANDARD_PARALLEL = "N/A"
  WESTERNMOST_LONGITUDE = 36.2944
END_OBJECT = IMAGE_MAP_PROJECTION
/* The JPEG2000 image data file associated with this label. */
OBJECT = COMPRESSED_FILE
  FILE_NAME = "H1961_0007_SR3.JP2"
  RECORD_TYPE = UNDEFINED
  FILE_RECORDS = UNK
  ENCODING_TYPE = "JP2"
  INTERCHANGE_FORMAT = BINARY
  UNCOMPRESSED_FILE_NAME = "H1961_0007_SR3.IMG"
  REQUIRED_STORAGE_BYTES = "1692601"
  ^DESCRIPTION = "JP2INFO.TXT"
END_OBJECT = COMPRESSED_FILE
END
