PDS_VERSION_ID = PDS3
/* FILE DATA ELEMENTS */
RECORD_TYPE = STREAM
/* POINTERS TO DATA OBJECTS */
^COMPRESSED_FILE = "H1962_0000_GR3.JP2"
/* IDENTIFICATION DATA ELEMENTS */
DATA_SET_ID = "MEX-M-HRSC-5-REFDR-MAPPROJECTED-V3.0"
DATA_SET_NAME = "MARS EXPRESS HRSC MAP PROJECTED REFDR V3.0"
DETECTOR_ID = MEX_HRSC_GREEN
EVENT_TYPE = "MARS-REGIONAL-MAPPING-Te-Im-Fl"
INSTRUMENT_HOST_ID = MEX
INSTRUMENT_HOST_NAME = "MARS EXPRESS"
INSTRUMENT_ID = HRSC
INSTRUMENT_NAME = "HIGH RESOLUTION STEREO CAMERA"
MISSION_NAME = "MARS EXPRESS"
MISSION_PHASE_NAME = MR_Phase_7
PROCESSING_LEVEL_ID = 3
PRODUCT_CREATION_TIME = 2016-03-09T16:25:58.000Z
PRODUCT_ID = "H1962_0000_GR3.JP2"
RELEASE_ID = 0025
REVISION_ID = 0000
/* QUALITY DATA ELEMENTS */
DATA_QUALITY_ID = 1
DATA_QUALITY_DESC = "Data calculated based on original SPICE kernels"
/* TIME DATA ELEMENTS */
SPACECRAFT_CLOCK_START_COUNT = "1/0070426316.58461"
SPACECRAFT_CLOCK_STOP_COUNT = "1/0070426710.01075"
START_TIME = 2005-07-26T02:54:03.832Z
STOP_TIME = 2005-07-26T02:57:55.121Z
/* ORBITAL DATA ELEMENTS */
ASCENDING_NODE_LONGITUDE = 187.16
MAXIMUM_RESOLUTION = 84.3
FOOTPRINT_POINT_LATITUDE = (-32.5028,-32.5034,-32.5023,-32.4975, -32.4924,-32.3374,-32.0384,-31.7411, -31.447,-31.0084,-30.5743,-30.1444, -29.8601,-29.5644,-29.2847,-28.867, -28.5905,-28.3174,-27.9087,-27.6385, -27.371,-26.9722,-26.7078,-26.4465, -26.1855,-25.9272,-25.6692,-25.4142, -25.159,-24.907,-24.53,-24.2812, -24.0332,-23.7875,-23.5417,-23.2995, -22.9362,-22.6972,-22.3393,-22.1036, -21.7504,-21.5181,-21.1698,-20.9406, -20.7112,-20.3705,-20.1449,-19.9195, -19.6977,-19.4752,-19.4684,-19.4687, -19.4683,-19.4674,-19.4663,-19.6887, -19.9107,-20.1361,-20.3624,-20.5879, -20.9318,-21.1611,-21.5098,-21.7423, -22.0954,-22.3313,-22.6894,-22.9285, -23.2921,-23.5344,-23.7803,-24.0264, -24.2746,-24.5233,-24.901,-25.1533, -25.4088,-25.6642,-25.9224,-26.181, -26.4422,-26.7038,-26.9684,-27.3678, -27.6359,-27.9065,-28.3157,-28.5899, -28.8667,-29.2845,-29.5647,-29.8611, -30.1458,-30.5765,-31.0115,-31.4508, -31.7454,-32.0433,-32.3429,-32.5028)
FOOTPRINT_POINT_LONGITUDE = (298.84,298.405,297.854,297.129,296.665 ,296.225,296.244,296.264,296.282,296.31 ,296.336,296.361,296.377,296.394,296.41 ,296.433,296.448,296.461,296.484, 296.497,296.51,296.53,296.542,296.554, 296.566,296.578,296.589,296.6,296.611, 296.622,296.638,296.648,296.658,296.668 ,296.677,296.687,296.701,296.709, 296.723,296.731,296.744,296.752,296.764 ,296.772,296.78,296.792,296.799,296.805 ,296.811,296.818,297.125,297.595, 297.902,298.228,298.759,298.766,298.774 ,298.781,298.79,298.798,298.81,298.819, 298.833,298.842,298.855,298.864,298.879 ,298.888,298.903,298.912,298.922, 298.933,298.944,298.953,298.97,298.981, 298.992,299.003,299.015,299.026,299.038 ,299.049,299.061,299.079,299.092, 299.105,299.126,299.139,299.153,299.173 ,299.188,299.203,299.217,299.239, 299.262,299.285,299.301,299.317,299.333 ,298.84)
ORBIT_NUMBER = 1962
ORBITAL_ECCENTRICITY = 0.571
ORBITAL_INCLINATION = 86.58
ORBITAL_SEMIMAJOR_AXIS = 8621.28
PERIAPSIS_ALTITUDE = 300.06
PERIAPSIS_ARGUMENT_ANGLE = 13.9
PERIAPSIS_TIME = 2005-07-26T03:06:34.000Z
SPACECRAFT_ORIENTATION = (0.0,1.0,0.0)
^MEX_ORIENTATION_DESC = "MEX_ORIENTATION_DESC.TXT"
SPACECRAFT_POINTING_MODE = NADIR
^MEX_POINTING_DESC = "MEX_POINTING_DESC.TXT"
RIGHT_ASCENSION = -1e+32
DECLINATION = -1e+32
OFFSET_ANGLE = -1e+32
SPACECRAFT_SOLAR_DISTANCE = 2.06717e+08
TARGET_NAME = MARS
/* CAMERA DATA ELEMENTS */
DETECTOR_TEMPERATURE = 18.5744
FOCAL_PLANE_TEMPERATURE = 9.8067
INST_CMPRS_NAME = "DISCRETE COSINE TRANSFORMATION (DCT)"
INST_CMPRS_RATIO = 13.4572
INST_CMPRS_QUALITY = 0
INST_CMPRS_QUANTZ_TBL_ID = 0
INSTRUMENT_TEMPERATURE = 11.6418
LENS_TEMPERATURE = 9.8067
MACROPIXEL_SIZE = 4
MISSING_FRAMES = 1
PIXEL_SUBSAMPLING_FLAG = N
SIGNAL_CHAIN_ID = 2
/* RADIOMETRIC DATA ELEMENTS */
BANDWIDTH = 88.0
CENTER_FILTER_WAVELENGTH = 538.0
RADIANCE_OFFSET = 1.37697
RADIANCE_SCALING_FACTOR = 0.00351847
REFLECTANCE_SCALING_FACTOR = 0.000129448
MEX:REFLECTANCE_OFFSET = 0.0506601
/* IMAGE OBJECT DEFINITIONS */
OBJECT = IMAGE
  INTERCHANGE_FORMAT = BINARY
  LINES = 7729
  LINE_SAMPLES = 1646
  SAMPLE_TYPE = UNSIGNED_INTEGER
  SAMPLE_BITS = 8
  BANDS = 1
  BAND_STORAGE_TYPE = BAND_SEQUENTIAL
  MAXIMUM = 369
  MEAN = 219.496
  MINIMUM = 216
  STANDARD_DEVIATION = 129.41
END_OBJECT = IMAGE
/* MAP OBJECT DEFINITIONS */
OBJECT = IMAGE_MAP_PROJECTION
  ^DATA_SET_MAP_PROJECTION_CATALOG= "DSMAP.CAT"
  A_AXIS_RADIUS = 3396.0
  B_AXIS_RADIUS = 3396.0
  C_AXIS_RADIUS = 3396.0
  CENTER_LATITUDE = 0.0
  CENTER_LONGITUDE = 298.0
  COORDINATE_SYSTEM_NAME = PLANETOGRAPHIC
  COORDINATE_SYSTEM_TYPE = "BODY-FIXED ROTATING"
  EASTERNMOST_LONGITUDE = 299.333
  FIRST_STANDARD_PARALLEL = "N/A"
  LINE_FIRST_PIXEL = 1
  LINE_LAST_PIXEL = 7729
  LINE_PROJECTION_OFFSET = -11539.875
  MAP_PROJECTION_ROTATION = 0.0
  MAP_PROJECTION_TYPE = SINUSOIDAL
  MAP_RESOLUTION = 592.713803866667
  MAP_SCALE = 0.1
  MAXIMUM_LATITUDE = -19.4663
  MINIMUM_LATITUDE = -32.5034
  POSITIVE_LONGITUDE_DIRECTION = EAST
  REFERENCE_LATITUDE = "N/A"
  REFERENCE_LONGITUDE = "N/A"
  SAMPLE_FIRST_PIXEL = 1
  SAMPLE_LAST_PIXEL = 1646
  SAMPLE_PROJECTION_OFFSET = 934.625
  SECOND_STANDARD_PARALLEL = "N/A"
  WESTERNMOST_LONGITUDE = 296.225
END_OBJECT = IMAGE_MAP_PROJECTION
/* The JPEG2000 image data file associated with this label. */
OBJECT = COMPRESSED_FILE
  FILE_NAME = "H1962_0000_GR3.JP2"
  RECORD_TYPE = UNDEFINED
  FILE_RECORDS = UNK
  ENCODING_TYPE = "JP2"
  INTERCHANGE_FORMAT = BINARY
  UNCOMPRESSED_FILE_NAME = "H1962_0000_GR3.IMG"
  REQUIRED_STORAGE_BYTES = "12741686"
  ^DESCRIPTION = "JP2INFO.TXT"
END_OBJECT = COMPRESSED_FILE
END
