PDS_VERSION_ID = PDS3
/* FILE DATA ELEMENTS */
RECORD_TYPE = STREAM
/* POINTERS TO DATA OBJECTS */
^COMPRESSED_FILE = "H1964_0000_RE3.JP2"
/* IDENTIFICATION DATA ELEMENTS */
DATA_SET_ID = "MEX-M-HRSC-5-REFDR-MAPPROJECTED-V3.0"
DATA_SET_NAME = "MARS EXPRESS HRSC MAP PROJECTED REFDR V3.0"
DETECTOR_ID = MEX_HRSC_RED
EVENT_TYPE = "MARS-REGIONAL-MAPPING-Vo-Te"
INSTRUMENT_HOST_ID = MEX
INSTRUMENT_HOST_NAME = "MARS EXPRESS"
INSTRUMENT_ID = HRSC
INSTRUMENT_NAME = "HIGH RESOLUTION STEREO CAMERA"
MISSION_NAME = "MARS EXPRESS"
MISSION_PHASE_NAME = MR_Phase_7
PROCESSING_LEVEL_ID = 3
PRODUCT_CREATION_TIME = 2016-03-09T16:25:58.000Z
PRODUCT_ID = "H1964_0000_RE3.JP2"
RELEASE_ID = 0025
REVISION_ID = 0000
/* QUALITY DATA ELEMENTS */
DATA_QUALITY_ID = 1
DATA_QUALITY_DESC = "Data calculated based on original SPICE kernels"
/* TIME DATA ELEMENTS */
SPACECRAFT_CLOCK_START_COUNT = "1/0070475311.56190"
SPACECRAFT_CLOCK_STOP_COUNT = "1/0070475663.23249"
START_TIME = 2005-07-26T16:28:44.942Z
STOP_TIME = 2005-07-26T16:33:39.048Z
/* ORBITAL DATA ELEMENTS */
ASCENDING_NODE_LONGITUDE = 187.12
MAXIMUM_RESOLUTION = 101.3
FOOTPRINT_POINT_LATITUDE = (-1.19865,-1.2004,-1.20092,-0.802318, -0.400658,0.00288233,0.205282,0.411202, 0.810183,1.01282,1.413,1.80616,2.20265, 2.59764,3.19416,3.7684,4.15211,4.53463, 4.92502,5.31088,5.88366,6.25664,6.82537 ,7.39028,7.76799,8.14593,8.52257, 8.90121,9.26629,9.62935,9.99485,10.3647 ,10.9206,11.2884,11.8419,12.3963, 12.9512,13.3212,13.6919,14.0634,14.4346 ,14.8064,15.1783,15.7356,16.1097, 16.6679,17.0433,17.4167,17.7913,17.8235 ,17.8224,17.633,17.2589,16.8856,16.5127 ,15.9529,15.3934,15.0219,14.4645, 14.0931,13.7228,13.3521,12.9822,12.2419 ,11.688,11.3179,10.764,10.3919,10.0266, 9.48108,9.11504,8.74543,8.17617,7.79748 ,7.42227,7.04567,6.66957,6.29257, 5.91847,5.54449,5.15643,4.77153,4.38263 ,3.99522,3.60835,3.03054,2.4392,2.04283 ,1.65042,1.25806,1.0555,0.650868, 0.448449,0.0436176,-0.159528,-0.362537, -0.565995,-0.768693,-1.16321,-1.19865)
FOOTPRINT_POINT_LONGITUDE = (101.467,101.038,100.738,100.551, 100.554,100.557,100.559,100.559,100.564 ,100.565,100.568,100.571,100.573, 100.575,100.578,100.581,100.584,100.587 ,100.587,100.589,100.59,100.592,100.592 ,100.594,100.595,100.596,100.598, 100.598,100.599,100.601,100.602,100.602 ,100.601,100.602,100.602,100.603, 100.603,100.603,100.603,100.603,100.603 ,100.603,100.603,100.603,100.602, 100.602,100.601,100.6,100.599,100.902, 101.341,101.713,101.709,101.706,101.703 ,101.699,101.694,101.692,101.69,101.688 ,101.687,101.685,101.684,101.683, 101.682,101.681,101.681,101.68,101.681, 101.683,101.684,101.685,101.687,101.688 ,101.691,101.693,101.695,101.697,101.7, 101.703,101.705,101.709,101.711,101.714 ,101.717,101.723,101.73,101.734,101.74, 101.745,101.747,101.753,101.755,101.761 ,101.763,101.765,101.767,101.77,101.778 ,101.467)
ORBIT_NUMBER = 1964
ORBITAL_ECCENTRICITY = 0.572
ORBITAL_INCLINATION = 86.58
ORBITAL_SEMIMAJOR_AXIS = 8625.28
PERIAPSIS_ALTITUDE = 299.62
PERIAPSIS_ARGUMENT_ANGLE = 13.49
PERIAPSIS_TIME = 2005-07-26T16:32:56.000Z
SPACECRAFT_ORIENTATION = (0.0,1.0,0.0)
^MEX_ORIENTATION_DESC = "MEX_ORIENTATION_DESC.TXT"
SPACECRAFT_POINTING_MODE = NADIR
^MEX_POINTING_DESC = "MEX_POINTING_DESC.TXT"
RIGHT_ASCENSION = -1e+32
DECLINATION = -1e+32
OFFSET_ANGLE = -1e+32
SPACECRAFT_SOLAR_DISTANCE = 2.06727e+08
TARGET_NAME = MARS
/* CAMERA DATA ELEMENTS */
DETECTOR_TEMPERATURE = 18.7783
FOCAL_PLANE_TEMPERATURE = 9.195
INST_CMPRS_NAME = "DISCRETE COSINE TRANSFORMATION (DCT)"
INST_CMPRS_RATIO = 19.0927
INST_CMPRS_QUALITY = 0
INST_CMPRS_QUANTZ_TBL_ID = 0
INSTRUMENT_TEMPERATURE = 11.234
LENS_TEMPERATURE = 9.6028
MACROPIXEL_SIZE = 8
MISSING_FRAMES = 0
PIXEL_SUBSAMPLING_FLAG = N
SIGNAL_CHAIN_ID = 2
/* RADIOMETRIC DATA ELEMENTS */
BANDWIDTH = 48.0
CENTER_FILTER_WAVELENGTH = 748.0
RADIANCE_OFFSET = 0.686904
RADIANCE_SCALING_FACTOR = 0.003794
REFLECTANCE_SCALING_FACTOR = 0.000370016
MEX:REFLECTANCE_OFFSET = 0.0669913
/* IMAGE OBJECT DEFINITIONS */
OBJECT = IMAGE
  INTERCHANGE_FORMAT = BINARY
  LINES = 11284
  LINE_SAMPLES = 756
  SAMPLE_TYPE = UNSIGNED_INTEGER
  SAMPLE_BITS = 8
  BANDS = 1
  BAND_STORAGE_TYPE = BAND_SEQUENTIAL
  MAXIMUM = 174
  MEAN = 117.923
  MINIMUM = 71
  STANDARD_DEVIATION = 19.6205
END_OBJECT = IMAGE
/* MAP OBJECT DEFINITIONS */
OBJECT = IMAGE_MAP_PROJECTION
  ^DATA_SET_MAP_PROJECTION_CATALOG= "DSMAP.CAT"
  A_AXIS_RADIUS = 3396.0
  B_AXIS_RADIUS = 3396.0
  C_AXIS_RADIUS = 3396.0
  CENTER_LATITUDE = 0.0
  CENTER_LONGITUDE = 101.0
  COORDINATE_SYSTEM_NAME = PLANETOGRAPHIC
  COORDINATE_SYSTEM_TYPE = "BODY-FIXED ROTATING"
  EASTERNMOST_LONGITUDE = 101.778
  FIRST_STANDARD_PARALLEL = "N/A"
  LINE_FIRST_PIXEL = 1
  LINE_LAST_PIXEL = 11284
  LINE_PROJECTION_OFFSET = 10559.3125
  MAP_PROJECTION_ROTATION = 0.0
  MAP_PROJECTION_TYPE = SINUSOIDAL
  MAP_RESOLUTION = 592.713803866667
  MAP_SCALE = 0.1
  MAXIMUM_LATITUDE = 17.8235
  MINIMUM_LATITUDE = -1.20092
  POSITIVE_LONGITUDE_DIRECTION = EAST
  REFERENCE_LATITUDE = "N/A"
  REFERENCE_LONGITUDE = "N/A"
  SAMPLE_FIRST_PIXEL = 1
  SAMPLE_LAST_PIXEL = 756
  SAMPLE_PROJECTION_OFFSET = 282.5625
  SECOND_STANDARD_PARALLEL = "N/A"
  WESTERNMOST_LONGITUDE = 100.551
END_OBJECT = IMAGE_MAP_PROJECTION
/* The JPEG2000 image data file associated with this label. */
OBJECT = COMPRESSED_FILE
  FILE_NAME = "H1964_0000_RE3.JP2"
  RECORD_TYPE = UNDEFINED
  FILE_RECORDS = UNK
  ENCODING_TYPE = "JP2"
  INTERCHANGE_FORMAT = BINARY
  UNCOMPRESSED_FILE_NAME = "H1964_0000_RE3.IMG"
  REQUIRED_STORAGE_BYTES = "8548848"
  ^DESCRIPTION = "JP2INFO.TXT"
END_OBJECT = COMPRESSED_FILE
END
