PDS_VERSION_ID = PDS3
/* FILE DATA ELEMENTS */
RECORD_TYPE = STREAM
/* POINTERS TO DATA OBJECTS */
^COMPRESSED_FILE = "H1964_0000_S13.JP2"
/* IDENTIFICATION DATA ELEMENTS */
DATA_SET_ID = "MEX-M-HRSC-5-REFDR-MAPPROJECTED-V3.0"
DATA_SET_NAME = "MARS EXPRESS HRSC MAP PROJECTED REFDR V3.0"
DETECTOR_ID = MEX_HRSC_S1
EVENT_TYPE = "MARS-REGIONAL-MAPPING-Vo-Te"
INSTRUMENT_HOST_ID = MEX
INSTRUMENT_HOST_NAME = "MARS EXPRESS"
INSTRUMENT_ID = HRSC
INSTRUMENT_NAME = "HIGH RESOLUTION STEREO CAMERA"
MISSION_NAME = "MARS EXPRESS"
MISSION_PHASE_NAME = MR_Phase_7
PROCESSING_LEVEL_ID = 3
PRODUCT_CREATION_TIME = 2016-03-09T16:25:58.000Z
PRODUCT_ID = "H1964_0000_S13.JP2"
RELEASE_ID = 0025
REVISION_ID = 0000
/* QUALITY DATA ELEMENTS */
DATA_QUALITY_ID = 1
DATA_QUALITY_DESC = "Data calculated based on original SPICE kernels"
/* TIME DATA ELEMENTS */
SPACECRAFT_CLOCK_START_COUNT = "1/0070475311.56190"
SPACECRAFT_CLOCK_STOP_COUNT = "1/0070475663.23249"
START_TIME = 2005-07-26T16:29:41.061Z
STOP_TIME = 2005-07-26T16:34:28.570Z
/* ORBITAL DATA ELEMENTS */
ASCENDING_NODE_LONGITUDE = 187.12
MAXIMUM_RESOLUTION = 25.5
FOOTPRINT_POINT_LATITUDE = (-1.22638,-1.22756,-1.01577,-0.606288, -0.000498947,0.392582,0.797921,1.19661, 1.5969,1.99303,2.3821,2.76604,3.14742, 3.53656,3.91936,4.30567,4.88048,5.26585 ,5.64332,6.01203,6.56714,7.11996, 7.48896,7.85782,8.2275,8.59726,8.99132, 9.36101,9.73658,10.1067,10.468,10.8335, 11.2011,11.568,11.9342,12.4832,13.0317, 13.5796,13.9437,14.3083,14.672,15.0353, 15.3984,15.7622,16.1223,16.4853,16.8449 ,17.2174,17.7765,17.803,17.8016,17.797, 17.4253,17.0519,16.5044,16.1435,15.6036 ,15.058,14.6943,14.3314,13.785,13.238, 12.8728,12.5064,12.1419,11.7759,11.4116 ,11.0481,10.6797,10.3175,9.76271, 9.38752,9.01975,8.62537,8.25699,7.88982 ,7.51758,7.14819,6.77821,6.2241,5.85371 ,5.48028,4.90463,4.52193,4.14271,3.7611 ,3.37365,2.98863,2.60104,2.21884, 1.82183,1.42232,1.02305,0.624588, 0.227066,-0.367418,-0.774074,-0.981676, -1.19382,-1.22638)
FOOTPRINT_POINT_LONGITUDE = (101.325,100.885,100.58,100.582,100.585 ,100.585,100.589,100.59,100.592,100.593 ,100.594,100.595,100.596,100.598, 100.598,100.6,100.601,100.602,100.601, 100.601,100.602,100.602,100.602,100.602 ,100.602,100.602,100.602,100.602, 100.603,100.604,100.601,100.6,100.6, 100.6,100.599,100.598,100.597,100.596, 100.595,100.594,100.593,100.592,100.591 ,100.59,100.588,100.587,100.585,100.584 ,100.581,101.024,101.29,101.727,101.722 ,101.717,101.711,101.708,101.702, 101.698,101.695,101.692,101.689,101.686 ,101.684,101.682,101.681,101.679, 101.678,101.676,101.675,101.673,101.674 ,101.675,101.675,101.675,101.675, 101.675,101.677,101.678,101.679,101.681 ,101.683,101.685,101.688,101.69,101.69, 101.692,101.696,101.699,101.703,101.705 ,101.709,101.713,101.717,101.721, 101.725,101.73,101.733,101.736,101.741, 101.325)
ORBIT_NUMBER = 1964
ORBITAL_ECCENTRICITY = 0.572
ORBITAL_INCLINATION = 86.58
ORBITAL_SEMIMAJOR_AXIS = 8625.28
PERIAPSIS_ALTITUDE = 299.62
PERIAPSIS_ARGUMENT_ANGLE = 13.49
PERIAPSIS_TIME = 2005-07-26T16:32:56.000Z
SPACECRAFT_ORIENTATION = (0.0,1.0,0.0)
^MEX_ORIENTATION_DESC = "MEX_ORIENTATION_DESC.TXT"
SPACECRAFT_POINTING_MODE = NADIR
^MEX_POINTING_DESC = "MEX_POINTING_DESC.TXT"
RIGHT_ASCENSION = -1e+32
DECLINATION = -1e+32
OFFSET_ANGLE = -1e+32
SPACECRAFT_SOLAR_DISTANCE = 2.06727e+08
TARGET_NAME = MARS
/* CAMERA DATA ELEMENTS */
DETECTOR_TEMPERATURE = 17.7588
FOCAL_PLANE_TEMPERATURE = 9.195
INST_CMPRS_NAME = "DISCRETE COSINE TRANSFORMATION (DCT)"
INST_CMPRS_RATIO = 9.13979
INST_CMPRS_QUALITY = 0
INST_CMPRS_QUANTZ_TBL_ID = 0
INSTRUMENT_TEMPERATURE = 11.234
LENS_TEMPERATURE = 9.6028
MACROPIXEL_SIZE = 2
MISSING_FRAMES = 70
PIXEL_SUBSAMPLING_FLAG = N
SIGNAL_CHAIN_ID = 1
/* RADIOMETRIC DATA ELEMENTS */
BANDWIDTH = 180.0
CENTER_FILTER_WAVELENGTH = 677.0
RADIANCE_OFFSET = 2.94609
RADIANCE_SCALING_FACTOR = 0.0137028
REFLECTANCE_SCALING_FACTOR = 0.000305524
MEX:REFLECTANCE_OFFSET = 0.0656877
/* IMAGE OBJECT DEFINITIONS */
OBJECT = IMAGE
  INTERCHANGE_FORMAT = BINARY
  LINES = 45136
  LINE_SAMPLES = 3022
  SAMPLE_TYPE = UNSIGNED_INTEGER
  SAMPLE_BITS = 8
  BANDS = 1
  BAND_STORAGE_TYPE = BAND_SEQUENTIAL
  MAXIMUM = 200
  MEAN = 135.085
  MINIMUM = 83
  STANDARD_DEVIATION = 19.778
END_OBJECT = IMAGE
/* MAP OBJECT DEFINITIONS */
OBJECT = IMAGE_MAP_PROJECTION
  ^DATA_SET_MAP_PROJECTION_CATALOG= "DSMAP.CAT"
  A_AXIS_RADIUS = 3396.0
  B_AXIS_RADIUS = 3396.0
  C_AXIS_RADIUS = 3396.0
  CENTER_LATITUDE = 0.0
  CENTER_LONGITUDE = 101.0
  COORDINATE_SYSTEM_NAME = PLANETOGRAPHIC
  COORDINATE_SYSTEM_TYPE = "BODY-FIXED ROTATING"
  EASTERNMOST_LONGITUDE = 101.741
  FIRST_STANDARD_PARALLEL = "N/A"
  LINE_FIRST_PIXEL = 1
  LINE_LAST_PIXEL = 45136
  LINE_PROJECTION_OFFSET = 42238.75
  MAP_PROJECTION_ROTATION = 0.0
  MAP_PROJECTION_TYPE = SINUSOIDAL
  MAP_RESOLUTION = 2370.85521546667
  MAP_SCALE = 0.025
  MAXIMUM_LATITUDE = 17.803
  MINIMUM_LATITUDE = -1.22756
  POSITIVE_LONGITUDE_DIRECTION = EAST
  REFERENCE_LATITUDE = "N/A"
  REFERENCE_LONGITUDE = "N/A"
  SAMPLE_FIRST_PIXEL = 1
  SAMPLE_LAST_PIXEL = 3022
  SAMPLE_PROJECTION_OFFSET = 1131.75
  SECOND_STANDARD_PARALLEL = "N/A"
  WESTERNMOST_LONGITUDE = 100.58
END_OBJECT = IMAGE_MAP_PROJECTION
/* The JPEG2000 image data file associated with this label. */
OBJECT = COMPRESSED_FILE
  FILE_NAME = "H1964_0000_S13.JP2"
  RECORD_TYPE = UNDEFINED
  FILE_RECORDS = UNK
  ENCODING_TYPE = "JP2"
  INTERCHANGE_FORMAT = BINARY
  UNCOMPRESSED_FILE_NAME = "H1964_0000_S13.IMG"
  REQUIRED_STORAGE_BYTES = "136425168"
  ^DESCRIPTION = "JP2INFO.TXT"
END_OBJECT = COMPRESSED_FILE
END
