PDS_VERSION_ID = PDS3
/* FILE DATA ELEMENTS */
RECORD_TYPE = STREAM
/* POINTERS TO DATA OBJECTS */
^COMPRESSED_FILE = "H1964_0004_SR3.JP2"
/* IDENTIFICATION DATA ELEMENTS */
DATA_SET_ID = "MEX-M-HRSC-5-REFDR-MAPPROJECTED-V3.0"
DATA_SET_NAME = "MARS EXPRESS HRSC MAP PROJECTED REFDR V3.0"
DETECTOR_ID = MEX_HRSC_SRC
EVENT_TYPE = "MARS-REGIONAL-MAPPING-Vo-Te"
INSTRUMENT_HOST_ID = MEX
INSTRUMENT_HOST_NAME = "MARS EXPRESS"
INSTRUMENT_ID = HRSC
INSTRUMENT_NAME = "HIGH RESOLUTION STEREO CAMERA"
MISSION_NAME = "MARS EXPRESS"
MISSION_PHASE_NAME = MR_Phase_7
PROCESSING_LEVEL_ID = 3
PRODUCT_CREATION_TIME = 2016-03-09T16:25:58.000Z
PRODUCT_ID = "H1964_0004_SR3.JP2"
RELEASE_ID = 0025
REVISION_ID = 0000
/* QUALITY DATA ELEMENTS */
DATA_QUALITY_ID = 1
DATA_QUALITY_DESC = "Data calculated based on original SPICE kernels"
/* TIME DATA ELEMENTS */
SPACECRAFT_CLOCK_START_COUNT = "1/0070475311.56190"
SPACECRAFT_CLOCK_STOP_COUNT = "1/0070475663.23249"
IMAGE_TIME = 2005-07-26T16:33:32.569Z
START_TIME = 2005-07-26T16:33:32.567Z
STOP_TIME = 2005-07-26T16:33:32.572Z
/* ORBITAL DATA ELEMENTS */
ASCENDING_NODE_LONGITUDE = 187.12
MAXIMUM_RESOLUTION = 2.784
FOOTPRINT_POINT_LATITUDE = (15.8735,15.876,15.8782,15.8798,15.8825 ,15.8842,15.8864,15.8894,15.8908, 15.8935,15.8954,15.8982,15.9005,15.9029 ,15.9046,15.9059,15.9077,15.9099, 15.9128,15.9144,15.9156,15.9174,15.9201 ,15.9201,15.9201,15.9201,15.9201, 15.9201,15.9201,15.9201,15.9201,15.9201 ,15.92,15.92,15.92,15.92,15.92,15.92, 15.92,15.92,15.92,15.92,15.92,15.92, 15.92,15.92,15.92,15.92,15.92,15.9187, 15.9164,15.9149,15.9132,15.9106,15.9087 ,15.907,15.9051,15.9029,15.9016,15.8994 ,15.8963,15.8938,15.8917,15.8899, 15.8886,15.8866,15.8851,15.8832,15.8817 ,15.8794,15.8775,15.8757,15.8745, 15.8729,15.8726,15.8726,15.8726,15.8726 ,15.8726,15.8726,15.8726,15.8727, 15.8727,15.8727,15.8727,15.8727,15.8727 ,15.8727,15.8727,15.8727,15.8727, 15.8727,15.8727,15.8727,15.8727,15.8727 ,15.8727,15.8727,15.8727,15.8735)
FOOTPRINT_POINT_LONGITUDE = (101.126,101.126,101.126,101.126, 101.126,101.126,101.126,101.126,101.126 ,101.126,101.126,101.126,101.126, 101.126,101.126,101.126,101.126,101.126 ,101.126,101.126,101.126,101.126, 101.126,101.128,101.13,101.132,101.135, 101.136,101.138,101.14,101.142,101.143, 101.145,101.147,101.149,101.15,101.152, 101.154,101.156,101.158,101.16,101.162, 101.163,101.165,101.167,101.169,101.171 ,101.173,101.175,101.176,101.176, 101.176,101.176,101.176,101.176,101.176 ,101.176,101.176,101.176,101.176, 101.176,101.176,101.176,101.176,101.176 ,101.176,101.176,101.176,101.176, 101.176,101.176,101.176,101.176,101.176 ,101.174,101.172,101.17,101.168,101.167 ,101.166,101.164,101.162,101.16,101.158 ,101.156,101.154,101.152,101.149, 101.147,101.146,101.144,101.142,101.139 ,101.137,101.135,101.133,101.131, 101.129,101.127,101.126)
ORBIT_NUMBER = 1964
ORBITAL_ECCENTRICITY = 0.572
ORBITAL_INCLINATION = 86.58
ORBITAL_SEMIMAJOR_AXIS = 8625.28
PERIAPSIS_ALTITUDE = 299.62
PERIAPSIS_ARGUMENT_ANGLE = 13.49
PERIAPSIS_TIME = 2005-07-26T16:32:56.000Z
SPACECRAFT_ORIENTATION = (0.0,1.0,0.0)
^MEX_ORIENTATION_DESC = "MEX_ORIENTATION_DESC.TXT"
SPACECRAFT_POINTING_MODE = NADIR
^MEX_POINTING_DESC = "MEX_POINTING_DESC.TXT"
RIGHT_ASCENSION = -1e+32
DECLINATION = -1e+32
OFFSET_ANGLE = -1e+32
SPACECRAFT_SOLAR_DISTANCE = 2.06727e+08
TARGET_NAME = MARS
/* CAMERA DATA ELEMENTS */
BUFFER_MODE_ID = BUFFER_8
EXPOSURE_DURATION = 5.04
INST_CMPRS_NAME = NONE
INST_CMPRS_RATIO = 1.0
INST_CMPRS_QUALITY = -2147483648
INST_CMPRS_QUANTZ_TBL_ID = -2147483648
INSTRUMENT_TEMPERATURE = 14.2424
MISSING_FRAMES = 0
START_BIT = 0
/* RADIOMETRIC DATA ELEMENTS */
BANDWIDTH = 250.0
CENTER_FILTER_WAVELENGTH = 600.0
RADIANCE_OFFSET = -9.99e+31
RADIANCE_SCALING_FACTOR = -9.99e+31
REFLECTANCE_SCALING_FACTOR = -9.99e+31
MEX:REFLECTANCE_OFFSET = -9.99e+31
/* IMAGE OBJECT DEFINITIONS */
OBJECT = IMAGE
  INTERCHANGE_FORMAT = BINARY
  LINES = 1171
  LINE_SAMPLES = 1182
  SAMPLE_TYPE = UNSIGNED_INTEGER
  SAMPLE_BITS = 8
  BANDS = 1
  BAND_STORAGE_TYPE = BAND_SEQUENTIAL
  MAXIMUM = 3166
  MEAN = 2818.62
  MINIMUM = 2409
  STANDARD_DEVIATION = 66.45
END_OBJECT = IMAGE
/* MAP OBJECT DEFINITIONS */
OBJECT = IMAGE_MAP_PROJECTION
  ^DATA_SET_MAP_PROJECTION_CATALOG= "DSMAP.CAT"
  A_AXIS_RADIUS = 3396.19
  B_AXIS_RADIUS = 3396.19
  C_AXIS_RADIUS = 3396.19
  CENTER_LATITUDE = 0.0
  CENTER_LONGITUDE = 101.0
  COORDINATE_SYSTEM_NAME = PLANETOGRAPHIC
  COORDINATE_SYSTEM_TYPE = "BODY-FIXED ROTATING"
  EASTERNMOST_LONGITUDE = 101.176
  FIRST_STANDARD_PARALLEL = "N/A"
  LINE_FIRST_PIXEL = 1
  LINE_LAST_PIXEL = 1171
  LINE_PROJECTION_OFFSET = 377427.0
  MAP_PROJECTION_ROTATION = 0.0
  MAP_PROJECTION_TYPE = SINUSOIDAL
  MAP_RESOLUTION = 23709.8786048756
  MAP_SCALE = 0.0025
  MAXIMUM_LATITUDE = 15.9201
  MINIMUM_LATITUDE = 15.8726
  POSITIVE_LONGITUDE_DIRECTION = EAST
  REFERENCE_LATITUDE = "N/A"
  REFERENCE_LONGITUDE = "N/A"
  SAMPLE_FIRST_PIXEL = 1
  SAMPLE_LAST_PIXEL = 1182
  SAMPLE_PROJECTION_OFFSET = -2854.0
  SECOND_STANDARD_PARALLEL = "N/A"
  WESTERNMOST_LONGITUDE = 101.126
END_OBJECT = IMAGE_MAP_PROJECTION
/* The JPEG2000 image data file associated with this label. */
OBJECT = COMPRESSED_FILE
  FILE_NAME = "H1964_0004_SR3.JP2"
  RECORD_TYPE = UNDEFINED
  FILE_RECORDS = UNK
  ENCODING_TYPE = "JP2"
  INTERCHANGE_FORMAT = BINARY
  UNCOMPRESSED_FILE_NAME = "H1964_0004_SR3.IMG"
  REQUIRED_STORAGE_BYTES = "1403034"
  ^DESCRIPTION = "JP2INFO.TXT"
END_OBJECT = COMPRESSED_FILE
END
