PDS_VERSION_ID = PDS3
/* FILE DATA ELEMENTS */
RECORD_TYPE = STREAM
/* POINTERS TO DATA OBJECTS */
^COMPRESSED_FILE = "H1964_0007_SR3.JP2"
/* IDENTIFICATION DATA ELEMENTS */
DATA_SET_ID = "MEX-M-HRSC-5-REFDR-MAPPROJECTED-V3.0"
DATA_SET_NAME = "MARS EXPRESS HRSC MAP PROJECTED REFDR V3.0"
DETECTOR_ID = MEX_HRSC_SRC
EVENT_TYPE = "MARS-REGIONAL-MAPPING-Vo-Te"
INSTRUMENT_HOST_ID = MEX
INSTRUMENT_HOST_NAME = "MARS EXPRESS"
INSTRUMENT_ID = HRSC
INSTRUMENT_NAME = "HIGH RESOLUTION STEREO CAMERA"
MISSION_NAME = "MARS EXPRESS"
MISSION_PHASE_NAME = MR_Phase_7
PROCESSING_LEVEL_ID = 3
PRODUCT_CREATION_TIME = 2016-03-09T16:25:58.000Z
PRODUCT_ID = "H1964_0007_SR3.JP2"
RELEASE_ID = 0025
REVISION_ID = 0000
/* QUALITY DATA ELEMENTS */
DATA_QUALITY_ID = 1
DATA_QUALITY_DESC = "Data calculated based on original SPICE kernels"
/* TIME DATA ELEMENTS */
SPACECRAFT_CLOCK_START_COUNT = "1/0070475311.56190"
SPACECRAFT_CLOCK_STOP_COUNT = "1/0070475663.23249"
IMAGE_TIME = 2005-07-26T16:33:34.204Z
START_TIME = 2005-07-26T16:33:34.202Z
STOP_TIME = 2005-07-26T16:33:34.207Z
/* ORBITAL DATA ELEMENTS */
ASCENDING_NODE_LONGITUDE = 187.12
MAXIMUM_RESOLUTION = 2.785
FOOTPRINT_POINT_LATITUDE = (15.9817,15.983,15.9846,15.9863,15.9889 ,15.9907,15.9931,15.9944,15.9965, 15.9983,16.0003,16.0028,16.0046,16.006, 16.008,16.0095,16.0118,16.0144,16.0166, 16.0181,16.0205,16.0227,16.025,16.0268, 16.028,16.028,16.028,16.028,16.028, 16.028,16.028,16.028,16.028,16.028, 16.028,16.028,16.028,16.028,16.028, 16.028,16.028,16.028,16.028,16.028, 16.028,16.0279,16.0279,16.0279,16.0279, 16.0276,16.0245,16.0231,16.0211,16.0185 ,16.0173,16.015,16.0124,16.0105,16.008, 16.0063,16.0038,16.0024,16.0,15.9982, 15.996,15.9939,15.9923,15.9901,15.9874, 15.9851,15.9835,15.982,15.9806,15.9806, 15.9806,15.9806,15.9806,15.9806,15.9806 ,15.9806,15.9806,15.9806,15.9806, 15.9806,15.9806,15.9806,15.9806,15.9806 ,15.9806,15.9806,15.9806,15.9806, 15.9806,15.9806,15.9806,15.9807,15.9807 ,15.9807,15.9807,15.9817)
FOOTPRINT_POINT_LONGITUDE = (101.126,101.126,101.126,101.126, 101.126,101.126,101.126,101.126,101.127 ,101.127,101.127,101.127,101.127, 101.127,101.127,101.127,101.127,101.127 ,101.127,101.127,101.127,101.127, 101.127,101.127,101.128,101.129,101.131 ,101.134,101.136,101.138,101.139, 101.141,101.143,101.145,101.147,101.149 ,101.151,101.153,101.155,101.157, 101.159,101.161,101.163,101.165,101.167 ,101.168,101.17,101.172,101.174,101.176 ,101.176,101.176,101.176,101.176, 101.176,101.176,101.176,101.176,101.176 ,101.176,101.176,101.176,101.176, 101.176,101.176,101.176,101.176,101.176 ,101.176,101.176,101.176,101.176, 101.176,101.174,101.173,101.17,101.168, 101.166,101.165,101.163,101.161,101.16, 101.158,101.155,101.153,101.152,101.15, 101.148,101.146,101.144,101.141,101.14, 101.138,101.136,101.135,101.133,101.131 ,101.129,101.127,101.126)
ORBIT_NUMBER = 1964
ORBITAL_ECCENTRICITY = 0.572
ORBITAL_INCLINATION = 86.58
ORBITAL_SEMIMAJOR_AXIS = 8625.28
PERIAPSIS_ALTITUDE = 299.62
PERIAPSIS_ARGUMENT_ANGLE = 13.49
PERIAPSIS_TIME = 2005-07-26T16:32:56.000Z
SPACECRAFT_ORIENTATION = (0.0,1.0,0.0)
^MEX_ORIENTATION_DESC = "MEX_ORIENTATION_DESC.TXT"
SPACECRAFT_POINTING_MODE = NADIR
^MEX_POINTING_DESC = "MEX_POINTING_DESC.TXT"
RIGHT_ASCENSION = -1e+32
DECLINATION = -1e+32
OFFSET_ANGLE = -1e+32
SPACECRAFT_SOLAR_DISTANCE = 2.06727e+08
TARGET_NAME = MARS
/* CAMERA DATA ELEMENTS */
BUFFER_MODE_ID = BUFFER_8
EXPOSURE_DURATION = 5.04
INST_CMPRS_NAME = NONE
INST_CMPRS_RATIO = 1.0
INST_CMPRS_QUALITY = -2147483648
INST_CMPRS_QUANTZ_TBL_ID = -2147483648
INSTRUMENT_TEMPERATURE = 14.2424
MISSING_FRAMES = 0
START_BIT = 0
/* RADIOMETRIC DATA ELEMENTS */
BANDWIDTH = 250.0
CENTER_FILTER_WAVELENGTH = 600.0
RADIANCE_OFFSET = -9.99e+31
RADIANCE_SCALING_FACTOR = -9.99e+31
REFLECTANCE_SCALING_FACTOR = -9.99e+31
MEX:REFLECTANCE_OFFSET = -9.99e+31
/* IMAGE OBJECT DEFINITIONS */
OBJECT = IMAGE
  INTERCHANGE_FORMAT = BINARY
  LINES = 1172
  LINE_SAMPLES = 1182
  SAMPLE_TYPE = UNSIGNED_INTEGER
  SAMPLE_BITS = 8
  BANDS = 1
  BAND_STORAGE_TYPE = BAND_SEQUENTIAL
  MAXIMUM = 3164
  MEAN = 2856.81
  MINIMUM = 2404
  STANDARD_DEVIATION = 64.0839
END_OBJECT = IMAGE
/* MAP OBJECT DEFINITIONS */
OBJECT = IMAGE_MAP_PROJECTION
  ^DATA_SET_MAP_PROJECTION_CATALOG= "DSMAP.CAT"
  A_AXIS_RADIUS = 3396.19
  B_AXIS_RADIUS = 3396.19
  C_AXIS_RADIUS = 3396.19
  CENTER_LATITUDE = 0.0
  CENTER_LONGITUDE = 101.0
  COORDINATE_SYSTEM_NAME = PLANETOGRAPHIC
  COORDINATE_SYSTEM_TYPE = "BODY-FIXED ROTATING"
  EASTERNMOST_LONGITUDE = 101.176
  FIRST_STANDARD_PARALLEL = "N/A"
  LINE_FIRST_PIXEL = 1
  LINE_LAST_PIXEL = 1172
  LINE_PROJECTION_OFFSET = 379986.0
  MAP_PROJECTION_ROTATION = 0.0
  MAP_PROJECTION_TYPE = SINUSOIDAL
  MAP_RESOLUTION = 23709.8786048756
  MAP_SCALE = 0.0025
  MAXIMUM_LATITUDE = 16.028
  MINIMUM_LATITUDE = 15.9806
  POSITIVE_LONGITUDE_DIRECTION = EAST
  REFERENCE_LATITUDE = "N/A"
  REFERENCE_LONGITUDE = "N/A"
  SAMPLE_FIRST_PIXEL = 1
  SAMPLE_LAST_PIXEL = 1182
  SAMPLE_PROJECTION_OFFSET = -2860.0
  SECOND_STANDARD_PARALLEL = "N/A"
  WESTERNMOST_LONGITUDE = 101.126
END_OBJECT = IMAGE_MAP_PROJECTION
/* The JPEG2000 image data file associated with this label. */
OBJECT = COMPRESSED_FILE
  FILE_NAME = "H1964_0007_SR3.JP2"
  RECORD_TYPE = UNDEFINED
  FILE_RECORDS = UNK
  ENCODING_TYPE = "JP2"
  INTERCHANGE_FORMAT = BINARY
  UNCOMPRESSED_FILE_NAME = "H1964_0007_SR3.IMG"
  REQUIRED_STORAGE_BYTES = "1404216"
  ^DESCRIPTION = "JP2INFO.TXT"
END_OBJECT = COMPRESSED_FILE
END
