PDS_VERSION_ID = PDS3
/* FILE DATA ELEMENTS */
RECORD_TYPE = STREAM
/* POINTERS TO DATA OBJECTS */
^COMPRESSED_FILE = "H1965_0006_SR3.JP2"
/* IDENTIFICATION DATA ELEMENTS */
DATA_SET_ID = "MEX-M-HRSC-5-REFDR-MAPPROJECTED-V3.0"
DATA_SET_NAME = "MARS EXPRESS HRSC MAP PROJECTED REFDR V3.0"
DETECTOR_ID = MEX_HRSC_SRC
EVENT_TYPE = "MARS-REGIONAL-MAPPING-Im-Fl-La"
INSTRUMENT_HOST_ID = MEX
INSTRUMENT_HOST_NAME = "MARS EXPRESS"
INSTRUMENT_ID = HRSC
INSTRUMENT_NAME = "HIGH RESOLUTION STEREO CAMERA"
MISSION_NAME = "MARS EXPRESS"
MISSION_PHASE_NAME = MR_Phase_7
PROCESSING_LEVEL_ID = 3
PRODUCT_CREATION_TIME = 2016-03-09T16:25:58.000Z
PRODUCT_ID = "H1965_0006_SR3.JP2"
RELEASE_ID = 0025
REVISION_ID = 0000
/* QUALITY DATA ELEMENTS */
DATA_QUALITY_ID = 1
DATA_QUALITY_DESC = "Data calculated based on original SPICE kernels"
/* TIME DATA ELEMENTS */
SPACECRAFT_CLOCK_START_COUNT = "1/0070499270.57166"
SPACECRAFT_CLOCK_STOP_COUNT = "1/0070499749.49612"
IMAGE_TIME = 2005-07-26T23:12:17.779Z
START_TIME = 2005-07-26T23:12:17.776Z
STOP_TIME = 2005-07-26T23:12:17.781Z
/* ORBITAL DATA ELEMENTS */
ASCENDING_NODE_LONGITUDE = 187.1
MAXIMUM_RESOLUTION = 3.184
FOOTPRINT_POINT_LATITUDE = (-1.77956,-1.77762,-1.77466,-1.77299, -1.77025,-1.76832,-1.76552,-1.7638, -1.76149,-1.75966,-1.75697,-1.75466, -1.751,-1.74869,-1.74686,-1.74439, -1.74288,-1.74116,-1.73863,-1.73686, -1.73541,-1.73304,-1.73041,-1.72868, -1.72718,-1.72717,-1.72716,-1.72715, -1.72714,-1.72713,-1.72712,-1.72711, -1.7271,-1.72709,-1.72708,-1.72707, -1.72706,-1.72705,-1.72704,-1.72703, -1.72702,-1.72701,-1.727,-1.72699, -1.72698,-1.72697,-1.72696,-1.72695, -1.72694,-1.72693,-1.72946,-1.73172, -1.73349,-1.73608,-1.7378,-1.7392, -1.74151,-1.74452,-1.747,-1.75034, -1.75244,-1.754,-1.75631,-1.75927, -1.76158,-1.76331,-1.76621,-1.76826, -1.77138,-1.77294,-1.77482,-1.77773, -1.77929,-1.78112,-1.78113,-1.78114, -1.78115,-1.78116,-1.78116,-1.78117, -1.78118,-1.78119,-1.7812,-1.78121, -1.78121,-1.78122,-1.78123,-1.78124, -1.78124,-1.78125,-1.78126,-1.78127, -1.78127,-1.78128,-1.78129,-1.7813, -1.78131,-1.78132,-1.78132,-1.77956)
FOOTPRINT_POINT_LONGITUDE = (3.26474,3.26473,3.26472,3.26471,3.2647 ,3.26469,3.26468,3.26468,3.26467, 3.26466,3.26465,3.26464,3.26463,3.26462 ,3.26461,3.2646,3.26459,3.26459,3.26458 ,3.26457,3.26456,3.26455,3.26454, 3.26454,3.26459,3.26674,3.2689,3.27106, 3.27322,3.27537,3.27753,3.27969,3.28185 ,3.28401,3.28617,3.28833,3.29048, 3.29264,3.2948,3.29696,3.29912,3.30128, 3.30344,3.3056,3.30776,3.30992,3.31208, 3.31424,3.3164,3.31856,3.31944,3.31944, 3.31945,3.31946,3.31947,3.31947,3.31948 ,3.31949,3.3195,3.31952,3.31953,3.31953 ,3.31954,3.31955,3.31956,3.31957, 3.31958,3.31959,3.3196,3.31961,3.31961, 3.31963,3.31963,3.31851,3.31634,3.31418 ,3.31202,3.30986,3.3077,3.30554,3.30338 ,3.30122,3.29906,3.29691,3.29475, 3.29259,3.29043,3.28827,3.28639,3.28423 ,3.28208,3.27992,3.27776,3.2756,3.27345 ,3.27129,3.26914,3.26698,3.26482, 3.26474)
ORBIT_NUMBER = 1965
ORBITAL_ECCENTRICITY = 0.571
ORBITAL_INCLINATION = 86.57
ORBITAL_SEMIMAJOR_AXIS = 8620.3
PERIAPSIS_ALTITUDE = 300.03
PERIAPSIS_ARGUMENT_ANGLE = 13.33
PERIAPSIS_TIME = 2005-07-26T23:16:08.000Z
SPACECRAFT_ORIENTATION = (0.0,1.0,0.0)
^MEX_ORIENTATION_DESC = "MEX_ORIENTATION_DESC.TXT"
SPACECRAFT_POINTING_MODE = ACROSSTRACK
^MEX_POINTING_DESC = "MEX_POINTING_DESC.TXT"
RIGHT_ASCENSION = -1e+32
DECLINATION = -1e+32
OFFSET_ANGLE = -0.4
SPACECRAFT_SOLAR_DISTANCE = 2.06733e+08
TARGET_NAME = MARS
/* CAMERA DATA ELEMENTS */
BUFFER_MODE_ID = BUFFER_8
EXPOSURE_DURATION = 5.04
INST_CMPRS_NAME = NONE
INST_CMPRS_RATIO = 1.0
INST_CMPRS_QUALITY = -2147483648
INST_CMPRS_QUANTZ_TBL_ID = -2147483648
INSTRUMENT_TEMPERATURE = 14.2424
MISSING_FRAMES = 0
START_BIT = 0
/* RADIOMETRIC DATA ELEMENTS */
BANDWIDTH = 250.0
CENTER_FILTER_WAVELENGTH = 600.0
RADIANCE_OFFSET = -9.99e+31
RADIANCE_SCALING_FACTOR = -9.99e+31
REFLECTANCE_SCALING_FACTOR = -9.99e+31
MEX:REFLECTANCE_OFFSET = -9.99e+31
/* IMAGE OBJECT DEFINITIONS */
OBJECT = IMAGE
  INTERCHANGE_FORMAT = BINARY
  LINES = 1330
  LINE_SAMPLES = 1346
  SAMPLE_TYPE = UNSIGNED_INTEGER
  SAMPLE_BITS = 8
  BANDS = 1
  BAND_STORAGE_TYPE = BAND_SEQUENTIAL
  MAXIMUM = 4337
  MEAN = 3941.01
  MINIMUM = 3337
  STANDARD_DEVIATION = 84.422
END_OBJECT = IMAGE
/* MAP OBJECT DEFINITIONS */
OBJECT = IMAGE_MAP_PROJECTION
  ^DATA_SET_MAP_PROJECTION_CATALOG= "DSMAP.CAT"
  A_AXIS_RADIUS = 3396.19
  B_AXIS_RADIUS = 3396.19
  C_AXIS_RADIUS = 3396.19
  CENTER_LATITUDE = 0.0
  CENTER_LONGITUDE = 3.0
  COORDINATE_SYSTEM_NAME = PLANETOGRAPHIC
  COORDINATE_SYSTEM_TYPE = "BODY-FIXED ROTATING"
  EASTERNMOST_LONGITUDE = 3.31963
  FIRST_STANDARD_PARALLEL = "N/A"
  LINE_FIRST_PIXEL = 1
  LINE_LAST_PIXEL = 1330
  LINE_PROJECTION_OFFSET = -40926.0
  MAP_PROJECTION_ROTATION = 0.0
  MAP_PROJECTION_TYPE = SINUSOIDAL
  MAP_RESOLUTION = 23709.8786048756
  MAP_SCALE = 0.0025
  MAXIMUM_LATITUDE = -1.72693
  MINIMUM_LATITUDE = -1.78132
  POSITIVE_LONGITUDE_DIRECTION = EAST
  REFERENCE_LATITUDE = "N/A"
  REFERENCE_LONGITUDE = "N/A"
  SAMPLE_FIRST_PIXEL = 1
  SAMPLE_LAST_PIXEL = 1346
  SAMPLE_PROJECTION_OFFSET = -6245.0
  SECOND_STANDARD_PARALLEL = "N/A"
  WESTERNMOST_LONGITUDE = 3.26454
END_OBJECT = IMAGE_MAP_PROJECTION
/* The JPEG2000 image data file associated with this label. */
OBJECT = COMPRESSED_FILE
  FILE_NAME = "H1965_0006_SR3.JP2"
  RECORD_TYPE = UNDEFINED
  FILE_RECORDS = UNK
  ENCODING_TYPE = "JP2"
  INTERCHANGE_FORMAT = BINARY
  UNCOMPRESSED_FILE_NAME = "H1965_0006_SR3.IMG"
  REQUIRED_STORAGE_BYTES = "1809024"
  ^DESCRIPTION = "JP2INFO.TXT"
END_OBJECT = COMPRESSED_FILE
END
