PDS_VERSION_ID = PDS3
/* FILE DATA ELEMENTS */
RECORD_TYPE = STREAM
/* POINTERS TO DATA OBJECTS */
^COMPRESSED_FILE = "H1967_0000_IR3.JP2"
/* IDENTIFICATION DATA ELEMENTS */
DATA_SET_ID = "MEX-M-HRSC-5-REFDR-MAPPROJECTED-V3.0"
DATA_SET_NAME = "MARS EXPRESS HRSC MAP PROJECTED REFDR V3.0"
DETECTOR_ID = MEX_HRSC_IR
EVENT_TYPE = "MARS-REGIONAL-MAPPING-Vo-Te-Mw"
INSTRUMENT_HOST_ID = MEX
INSTRUMENT_HOST_NAME = "MARS EXPRESS"
INSTRUMENT_ID = HRSC
INSTRUMENT_NAME = "HIGH RESOLUTION STEREO CAMERA"
MISSION_NAME = "MARS EXPRESS"
MISSION_PHASE_NAME = MR_Phase_7
PROCESSING_LEVEL_ID = 3
PRODUCT_CREATION_TIME = 2016-03-09T16:25:58.000Z
PRODUCT_ID = "H1967_0000_IR3.JP2"
RELEASE_ID = 0025
REVISION_ID = 0000
/* QUALITY DATA ELEMENTS */
DATA_QUALITY_ID = 1
DATA_QUALITY_DESC = "Data calculated based on original SPICE kernels"
/* TIME DATA ELEMENTS */
SPACECRAFT_CLOCK_START_COUNT = "1/0070547549.57303"
SPACECRAFT_CLOCK_STOP_COUNT = "1/0070547965.32522"
START_TIME = 2005-07-27T12:34:20.069Z
STOP_TIME = 2005-07-27T12:39:25.890Z
/* ORBITAL DATA ELEMENTS */
ASCENDING_NODE_LONGITUDE = 187.05
MAXIMUM_RESOLUTION = 55.8
FOOTPRINT_POINT_LATITUDE = (-20.8466,-20.8475,-20.8482,-20.8486, -20.849,-20.6122,-20.1176,-19.637, -19.1496,-18.673,-17.968,-17.5021, -16.8118,-16.1456,-15.6944,-15.2594, -14.8223,-14.3927,-13.7524,-13.3317, -12.9139,-12.5023,-12.0898,-11.6852, -11.2846,-10.8834,-10.48,-10.0764, -9.67386,-9.26986,-8.86601,-8.46161, -8.0567,-7.65147,-7.06721,-6.72703, -6.21665,-5.70571,-5.1947,-4.85314, -4.51136,-4.1694,-3.82728,-3.48505, -3.14265,-2.80008,-2.4579,-2.12614, -1.79427,-1.46226,-1.13021,-0.947619, -0.94632,-1.11302,-1.44501,-1.77688, -2.10867,-2.44031,-2.78195,-3.12441, -3.63763,-3.97983,-4.32144,-4.66311, -5.00433,-5.34537,-5.68555,-6.0269, -6.36756,-6.70813,-7.04961,-7.63052, -8.23734,-8.64183,-9.04555,-9.65287, -10.0629,-10.457,-10.8605,-11.2613, -11.663,-12.2732,-12.6833,-13.0983, -13.5202,-13.9386,-14.3687,-14.7992, -15.4534,-16.1181,-16.566,-17.0213, -17.4801,-17.9454,-18.6502,-19.1269, -19.6101,-20.097,-20.5863,-20.8466)
FOOTPRINT_POINT_LONGITUDE = (167.021,166.614,166.26,165.977,165.623 ,165.425,165.439,165.45,165.464,165.476 ,165.493,165.505,165.521,165.533, 165.544,165.551,165.56,165.568,165.58, 165.588,165.594,165.601,165.608,165.615 ,165.621,165.626,165.632,165.638, 165.643,165.648,165.653,165.658,165.663 ,165.667,165.673,165.677,165.682, 165.687,165.691,165.694,165.697,165.7, 165.702,165.705,165.708,165.71,165.712, 165.715,165.717,165.719,165.721,166.026 ,166.591,166.89,166.894,166.898,166.903 ,166.907,166.912,166.917,166.925,166.93 ,166.935,166.94,166.946,166.951,166.957 ,166.963,166.968,166.975,166.981, 166.992,167.003,167.011,167.019,167.032 ,167.043,167.048,167.057,167.066, 167.075,167.089,167.098,167.109,167.12, 167.13,167.141,167.152,167.169,167.187, 167.199,167.212,167.225,167.239,167.26, 167.275,167.289,167.305,167.318, 167.021)
ORBIT_NUMBER = 1967
ORBITAL_ECCENTRICITY = 0.571
ORBITAL_INCLINATION = 86.59
ORBITAL_SEMIMAJOR_AXIS = 8616.19
PERIAPSIS_ALTITUDE = 299.72
PERIAPSIS_ARGUMENT_ANGLE = 12.99
PERIAPSIS_TIME = 2005-07-27T12:42:34.000Z
SPACECRAFT_ORIENTATION = (0.0,1.0,0.0)
^MEX_ORIENTATION_DESC = "MEX_ORIENTATION_DESC.TXT"
SPACECRAFT_POINTING_MODE = NADIR
^MEX_POINTING_DESC = "MEX_POINTING_DESC.TXT"
RIGHT_ASCENSION = -1e+32
DECLINATION = -1e+32
OFFSET_ANGLE = -1e+32
SPACECRAFT_SOLAR_DISTANCE = 2.06745e+08
TARGET_NAME = MARS
/* CAMERA DATA ELEMENTS */
DETECTOR_TEMPERATURE = 17.7588
FOCAL_PLANE_TEMPERATURE = 9.3989
INST_CMPRS_NAME = "DISCRETE COSINE TRANSFORMATION (DCT)"
INST_CMPRS_RATIO = 7.73904
INST_CMPRS_QUALITY = 0
INST_CMPRS_QUANTZ_TBL_ID = 0
INSTRUMENT_TEMPERATURE = 11.4379
LENS_TEMPERATURE = 9.8067
MACROPIXEL_SIZE = 4
MISSING_FRAMES = 0
PIXEL_SUBSAMPLING_FLAG = N
SIGNAL_CHAIN_ID = 2
/* RADIOMETRIC DATA ELEMENTS */
BANDWIDTH = 81.0
CENTER_FILTER_WAVELENGTH = 955.5
RADIANCE_OFFSET = 1.16882
RADIANCE_SCALING_FACTOR = 0.00423103
REFLECTANCE_SCALING_FACTOR = 0.000390159
MEX:REFLECTANCE_OFFSET = 0.107781
/* IMAGE OBJECT DEFINITIONS */
OBJECT = IMAGE
  INTERCHANGE_FORMAT = BINARY
  LINES = 23607
  LINE_SAMPLES = 2324
  SAMPLE_TYPE = UNSIGNED_INTEGER
  SAMPLE_BITS = 8
  BANDS = 1
  BAND_STORAGE_TYPE = BAND_SEQUENTIAL
  MAXIMUM = 254
  MEAN = 195.66
  MINIMUM = 123
  STANDARD_DEVIATION = 14.1357
END_OBJECT = IMAGE
/* MAP OBJECT DEFINITIONS */
OBJECT = IMAGE_MAP_PROJECTION
  ^DATA_SET_MAP_PROJECTION_CATALOG= "DSMAP.CAT"
  A_AXIS_RADIUS = 3396.0
  B_AXIS_RADIUS = 3396.0
  C_AXIS_RADIUS = 3396.0
  CENTER_LATITUDE = 0.0
  CENTER_LONGITUDE = 166.0
  COORDINATE_SYSTEM_NAME = PLANETOGRAPHIC
  COORDINATE_SYSTEM_TYPE = "BODY-FIXED ROTATING"
  EASTERNMOST_LONGITUDE = 167.318
  FIRST_STANDARD_PARALLEL = "N/A"
  LINE_FIRST_PIXEL = 1
  LINE_LAST_PIXEL = 23607
  LINE_PROJECTION_OFFSET = -1107.875
  MAP_PROJECTION_ROTATION = 0.0
  MAP_PROJECTION_TYPE = SINUSOIDAL
  MAP_RESOLUTION = 1185.42760773333
  MAP_SCALE = 0.05
  MAXIMUM_LATITUDE = -0.94632
  MINIMUM_LATITUDE = -20.849
  POSITIVE_LONGITUDE_DIRECTION = EAST
  REFERENCE_LATITUDE = "N/A"
  REFERENCE_LONGITUDE = "N/A"
  SAMPLE_FIRST_PIXEL = 1
  SAMPLE_LAST_PIXEL = 2324
  SAMPLE_PROJECTION_OFFSET = 751.625
  SECOND_STANDARD_PARALLEL = "N/A"
  WESTERNMOST_LONGITUDE = 165.425
END_OBJECT = IMAGE_MAP_PROJECTION
/* The JPEG2000 image data file associated with this label. */
OBJECT = COMPRESSED_FILE
  FILE_NAME = "H1967_0000_IR3.JP2"
  RECORD_TYPE = UNDEFINED
  FILE_RECORDS = UNK
  ENCODING_TYPE = "JP2"
  INTERCHANGE_FORMAT = BINARY
  UNCOMPRESSED_FILE_NAME = "H1967_0000_IR3.IMG"
  REQUIRED_STORAGE_BYTES = "54885908"
  ^DESCRIPTION = "JP2INFO.TXT"
END_OBJECT = COMPRESSED_FILE
END
