PDS_VERSION_ID = PDS3
/* FILE DATA ELEMENTS */
RECORD_TYPE = STREAM
/* POINTERS TO DATA OBJECTS */
^COMPRESSED_FILE = "H1967_0000_ND3.JP2"
/* IDENTIFICATION DATA ELEMENTS */
DATA_SET_ID = "MEX-M-HRSC-5-REFDR-MAPPROJECTED-V3.0"
DATA_SET_NAME = "MARS EXPRESS HRSC MAP PROJECTED REFDR V3.0"
DETECTOR_ID = MEX_HRSC_NADIR
EVENT_TYPE = "MARS-REGIONAL-MAPPING-Vo-Te-Mw"
INSTRUMENT_HOST_ID = MEX
INSTRUMENT_HOST_NAME = "MARS EXPRESS"
INSTRUMENT_ID = HRSC
INSTRUMENT_NAME = "HIGH RESOLUTION STEREO CAMERA"
MISSION_NAME = "MARS EXPRESS"
MISSION_PHASE_NAME = MR_Phase_7
PROCESSING_LEVEL_ID = 3
PRODUCT_CREATION_TIME = 2016-03-09T16:25:58.000Z
PRODUCT_ID = "H1967_0000_ND3.JP2"
RELEASE_ID = 0025
REVISION_ID = 0000
/* QUALITY DATA ELEMENTS */
DATA_QUALITY_ID = 1
DATA_QUALITY_DESC = "Data calculated based on original SPICE kernels"
/* TIME DATA ELEMENTS */
SPACECRAFT_CLOCK_START_COUNT = "1/0070547549.57303"
SPACECRAFT_CLOCK_STOP_COUNT = "1/0070547965.32522"
START_TIME = 2005-07-27T12:33:38.217Z
STOP_TIME = 2005-07-27T12:39:01.193Z
/* ORBITAL DATA ELEMENTS */
ASCENDING_NODE_LONGITUDE = 187.05
MAXIMUM_RESOLUTION = 13.7
FOOTPRINT_POINT_LATITUDE = (-20.8471,-20.8482,-20.8474,-20.5985, -20.1058,-19.6177,-19.1376,-18.6622, -18.1904,-17.7253,-17.2656,-16.8084, -16.3587,-15.6913,-15.2503,-14.8164, -14.3845,-13.9584,-13.5348,-13.1166, -12.7006,-12.2907,-11.8809,-11.4793, -10.8781,-10.4847,-9.89552,-9.51049, -9.1247,-8.73813,-8.35084,-7.96283, -7.57409,-7.18466,-6.79452,-6.4037, -6.0122,-5.62003,-5.25454,-4.59497, -4.26452,-3.93365,-3.60236,-3.27065, -2.93853,-2.60602,-2.27312,-1.93983, -1.60616,-1.27212,-0.937723,-0.935584, -0.93373,-1.26783,-1.60178,-1.93537, -2.26858,-2.60141,-2.93385,-3.2659, -3.59754,-3.92876,-4.58996,-5.24944, -5.61484,-6.00691,-6.39835,-6.7891, -7.17916,-7.56855,-7.95726,-8.34525, -8.7325,-9.11896,-9.50465,-9.88956, -10.479,-10.8724,-11.4736,-11.8751, -12.285,-12.695,-13.1109,-13.5291, -13.9529,-14.379,-14.8109,-15.245, -15.6859,-16.3537,-16.8033,-17.2606, -17.7206,-18.1858,-18.6578,-19.1334, -19.6138,-20.102,-20.5951,-20.8471)
FOOTPRINT_POINT_LONGITUDE = (166.722,166.043,165.624,165.357, 165.373,165.385,165.401,165.415,165.429 ,165.442,165.454,165.467,165.475, 165.494,165.502,165.513,165.522,165.531 ,165.54,165.548,165.556,165.565,165.572 ,165.579,165.589,165.596,165.605, 165.611,165.617,165.623,165.628,165.633 ,165.638,165.643,165.648,165.653, 165.657,165.661,165.665,165.672,165.675 ,165.679,165.682,165.685,165.688, 165.691,165.693,165.696,165.699,165.701 ,165.704,166.235,166.778,166.907, 166.911,166.916,166.921,166.926,166.931 ,166.937,166.942,166.947,166.959,166.97 ,166.977,166.984,166.992,166.999, 167.007,167.015,167.023,167.031,167.04, 167.049,167.059,167.069,167.079,167.089 ,167.103,167.113,167.124,167.134, 167.146,167.158,167.168,167.181,167.194 ,167.205,167.218,167.238,167.252, 167.267,167.282,167.297,167.313,167.329 ,167.345,167.363,167.378,166.722)
ORBIT_NUMBER = 1967
ORBITAL_ECCENTRICITY = 0.571
ORBITAL_INCLINATION = 86.59
ORBITAL_SEMIMAJOR_AXIS = 8616.19
PERIAPSIS_ALTITUDE = 299.72
PERIAPSIS_ARGUMENT_ANGLE = 12.99
PERIAPSIS_TIME = 2005-07-27T12:42:34.000Z
SPACECRAFT_ORIENTATION = (0.0,1.0,0.0)
^MEX_ORIENTATION_DESC = "MEX_ORIENTATION_DESC.TXT"
SPACECRAFT_POINTING_MODE = NADIR
^MEX_POINTING_DESC = "MEX_POINTING_DESC.TXT"
RIGHT_ASCENSION = -1e+32
DECLINATION = -1e+32
OFFSET_ANGLE = -1e+32
SPACECRAFT_SOLAR_DISTANCE = 2.06745e+08
TARGET_NAME = MARS
/* CAMERA DATA ELEMENTS */
DETECTOR_TEMPERATURE = 18.3705
FOCAL_PLANE_TEMPERATURE = 9.3989
INST_CMPRS_NAME = "DISCRETE COSINE TRANSFORMATION (DCT)"
INST_CMPRS_RATIO = 6.67225
INST_CMPRS_QUALITY = 0
INST_CMPRS_QUANTZ_TBL_ID = 0
INSTRUMENT_TEMPERATURE = 11.4379
LENS_TEMPERATURE = 9.8067
MACROPIXEL_SIZE = 1
MISSING_FRAMES = 0
PIXEL_SUBSAMPLING_FLAG = N
SIGNAL_CHAIN_ID = 0
/* RADIOMETRIC DATA ELEMENTS */
BANDWIDTH = 177.0
CENTER_FILTER_WAVELENGTH = 677.5
RADIANCE_OFFSET = 4.56654
RADIANCE_SCALING_FACTOR = 0.0147639
REFLECTANCE_SCALING_FACTOR = 0.000335237
MEX:REFLECTANCE_OFFSET = 0.103691
/* IMAGE OBJECT DEFINITIONS */
OBJECT = IMAGE
  INTERCHANGE_FORMAT = BINARY
  LINES = 94427
  LINE_SAMPLES = 9295
  SAMPLE_TYPE = UNSIGNED_INTEGER
  SAMPLE_BITS = 8
  BANDS = 1
  BAND_STORAGE_TYPE = BAND_SEQUENTIAL
  MAXIMUM = 327
  MEAN = 180.51
  MINIMUM = 121
  STANDARD_DEVIATION = 13.165
END_OBJECT = IMAGE
/* MAP OBJECT DEFINITIONS */
OBJECT = IMAGE_MAP_PROJECTION
  ^DATA_SET_MAP_PROJECTION_CATALOG= "DSMAP.CAT"
  A_AXIS_RADIUS = 3396.0
  B_AXIS_RADIUS = 3396.0
  C_AXIS_RADIUS = 3396.0
  CENTER_LATITUDE = 0.0
  CENTER_LONGITUDE = 166.0
  COORDINATE_SYSTEM_NAME = PLANETOGRAPHIC
  COORDINATE_SYSTEM_TYPE = "BODY-FIXED ROTATING"
  EASTERNMOST_LONGITUDE = 167.378
  FIRST_STANDARD_PARALLEL = "N/A"
  LINE_FIRST_PIXEL = 1
  LINE_LAST_PIXEL = 94427
  LINE_PROJECTION_OFFSET = -4430.0
  MAP_PROJECTION_ROTATION = 0.0
  MAP_PROJECTION_TYPE = SINUSOIDAL
  MAP_RESOLUTION = 4741.71043093333
  MAP_SCALE = 0.0125
  MAXIMUM_LATITUDE = -0.93373
  MINIMUM_LATITUDE = -20.8482
  POSITIVE_LONGITUDE_DIRECTION = EAST
  REFERENCE_LATITUDE = "N/A"
  REFERENCE_LONGITUDE = "N/A"
  SAMPLE_FIRST_PIXEL = 1
  SAMPLE_LAST_PIXEL = 9295
  SAMPLE_PROJECTION_OFFSET = 3008.0
  SECOND_STANDARD_PARALLEL = "N/A"
  WESTERNMOST_LONGITUDE = 165.357
END_OBJECT = IMAGE_MAP_PROJECTION
/* The JPEG2000 image data file associated with this label. */
OBJECT = COMPRESSED_FILE
  FILE_NAME = "H1967_0000_ND3.JP2"
  RECORD_TYPE = UNDEFINED
  FILE_RECORDS = UNK
  ENCODING_TYPE = "JP2"
  INTERCHANGE_FORMAT = BINARY
  UNCOMPRESSED_FILE_NAME = "H1967_0000_ND3.IMG"
  REQUIRED_STORAGE_BYTES = "877736145"
  ^DESCRIPTION = "JP2INFO.TXT"
END_OBJECT = COMPRESSED_FILE
END
