PDS_VERSION_ID = PDS3
/* FILE DATA ELEMENTS */
RECORD_TYPE = STREAM
/* POINTERS TO DATA OBJECTS */
^COMPRESSED_FILE = "H1969_0004_SR3.JP2"
/* IDENTIFICATION DATA ELEMENTS */
DATA_SET_ID = "MEX-M-HRSC-5-REFDR-MAPPROJECTED-V3.0"
DATA_SET_NAME = "MARS EXPRESS HRSC MAP PROJECTED REFDR V3.0"
DETECTOR_ID = MEX_HRSC_SRC
EVENT_TYPE = "MARS-REGIONAL-MAPPING-Im-Fl-Mw"
INSTRUMENT_HOST_ID = MEX
INSTRUMENT_HOST_NAME = "MARS EXPRESS"
INSTRUMENT_ID = HRSC
INSTRUMENT_NAME = "HIGH RESOLUTION STEREO CAMERA"
MISSION_NAME = "MARS EXPRESS"
MISSION_PHASE_NAME = MR_Phase_7
PROCESSING_LEVEL_ID = 3
PRODUCT_CREATION_TIME = 2016-03-09T16:25:58.000Z
PRODUCT_ID = "H1969_0004_SR3.JP2"
RELEASE_ID = 0025
REVISION_ID = 0000
/* QUALITY DATA ELEMENTS */
DATA_QUALITY_ID = 1
DATA_QUALITY_DESC = "Data calculated based on original SPICE kernels"
/* TIME DATA ELEMENTS */
SPACECRAFT_CLOCK_START_COUNT = "1/0070596200.57974"
SPACECRAFT_CLOCK_STOP_COUNT = "1/0070596614.56791"
IMAGE_TIME = 2005-07-28T02:07:23.227Z
START_TIME = 2005-07-28T02:07:23.224Z
STOP_TIME = 2005-07-28T02:07:23.229Z
/* ORBITAL DATA ELEMENTS */
ASCENDING_NODE_LONGITUDE = 187.01
MAXIMUM_RESOLUTION = 2.829
FOOTPRINT_POINT_LATITUDE = (6.86842,6.87062,6.87234,6.8743,6.87578 ,6.87741,6.87956,6.88247,6.88443,6.8873 ,6.88921,6.8917,6.89356,6.89557,6.89705 ,6.89853,6.90159,6.90346,6.90489, 6.90733,6.90867,6.91196,6.9144,6.91588, 6.91589,6.91589,6.9159,6.9159,6.9159, 6.91591,6.91591,6.91592,6.91592,6.91592 ,6.91593,6.91593,6.91593,6.91594, 6.91594,6.91594,6.91595,6.91595,6.91596 ,6.91596,6.91596,6.91597,6.91597, 6.91597,6.91598,6.91507,6.91283,6.91139 ,6.90977,6.90714,6.90551,6.90351, 6.90212,6.90006,6.8983,6.89591,6.89337, 6.8916,6.89027,6.88902,6.88721,6.88582, 6.88391,6.88257,6.88104,6.87894,6.87727 ,6.87492,6.87325,6.87081,6.86785, 6.86784,6.86784,6.86784,6.86783,6.86783 ,6.86783,6.86782,6.86782,6.86782, 6.86781,6.86781,6.86781,6.8678,6.8678, 6.86779,6.86779,6.86778,6.86778,6.86778 ,6.86777,6.86777,6.86776,6.86776, 6.86776,6.86842)
FOOTPRINT_POINT_LONGITUDE = (329.739,329.739,329.739,329.739, 329.739,329.739,329.739,329.739,329.739 ,329.739,329.739,329.739,329.739, 329.739,329.739,329.739,329.739,329.739 ,329.739,329.739,329.739,329.739, 329.739,329.74,329.742,329.743,329.745, 329.747,329.749,329.751,329.753,329.755 ,329.757,329.758,329.76,329.762,329.764 ,329.766,329.768,329.769,329.771, 329.773,329.775,329.777,329.779,329.781 ,329.783,329.785,329.787,329.788, 329.788,329.788,329.788,329.788,329.788 ,329.788,329.788,329.788,329.788, 329.788,329.788,329.788,329.788,329.788 ,329.788,329.788,329.788,329.788, 329.788,329.788,329.788,329.788,329.788 ,329.788,329.787,329.785,329.783, 329.781,329.779,329.777,329.776,329.773 ,329.772,329.77,329.768,329.767,329.765 ,329.763,329.761,329.759,329.757, 329.755,329.752,329.751,329.749,329.747 ,329.745,329.743,329.741,329.739)
ORBIT_NUMBER = 1969
ORBITAL_ECCENTRICITY = 0.571
ORBITAL_INCLINATION = 86.59
ORBITAL_SEMIMAJOR_AXIS = 8616.53
PERIAPSIS_ALTITUDE = 299.4
PERIAPSIS_ARGUMENT_ANGLE = 12.62
PERIAPSIS_TIME = 2005-07-28T02:08:50.000Z
SPACECRAFT_ORIENTATION = (0.0,1.0,0.0)
^MEX_ORIENTATION_DESC = "MEX_ORIENTATION_DESC.TXT"
SPACECRAFT_POINTING_MODE = NADIR
^MEX_POINTING_DESC = "MEX_POINTING_DESC.TXT"
RIGHT_ASCENSION = -1e+32
DECLINATION = -1e+32
OFFSET_ANGLE = -1e+32
SPACECRAFT_SOLAR_DISTANCE = 2.06757e+08
TARGET_NAME = MARS
/* CAMERA DATA ELEMENTS */
BUFFER_MODE_ID = BUFFER_8
EXPOSURE_DURATION = 5.04
INST_CMPRS_NAME = NONE
INST_CMPRS_RATIO = 1.0
INST_CMPRS_QUALITY = -2147483648
INST_CMPRS_QUANTZ_TBL_ID = -2147483648
INSTRUMENT_TEMPERATURE = 14.2424
MISSING_FRAMES = 0
START_BIT = 0
/* RADIOMETRIC DATA ELEMENTS */
BANDWIDTH = 250.0
CENTER_FILTER_WAVELENGTH = 600.0
RADIANCE_OFFSET = -9.99e+31
RADIANCE_SCALING_FACTOR = -9.99e+31
REFLECTANCE_SCALING_FACTOR = -9.99e+31
MEX:REFLECTANCE_OFFSET = -9.99e+31
/* IMAGE OBJECT DEFINITIONS */
OBJECT = IMAGE
  INTERCHANGE_FORMAT = BINARY
  LINES = 1185
  LINE_SAMPLES = 1195
  SAMPLE_TYPE = UNSIGNED_INTEGER
  SAMPLE_BITS = 8
  BANDS = 1
  BAND_STORAGE_TYPE = BAND_SEQUENTIAL
  MAXIMUM = 4484
  MEAN = 4012.95
  MINIMUM = 3348
  STANDARD_DEVIATION = 106.408
END_OBJECT = IMAGE
/* MAP OBJECT DEFINITIONS */
OBJECT = IMAGE_MAP_PROJECTION
  ^DATA_SET_MAP_PROJECTION_CATALOG= "DSMAP.CAT"
  A_AXIS_RADIUS = 3396.19
  B_AXIS_RADIUS = 3396.19
  C_AXIS_RADIUS = 3396.19
  CENTER_LATITUDE = 0.0
  CENTER_LONGITUDE = 330.0
  COORDINATE_SYSTEM_NAME = PLANETOGRAPHIC
  COORDINATE_SYSTEM_TYPE = "BODY-FIXED ROTATING"
  EASTERNMOST_LONGITUDE = 329.788
  FIRST_STANDARD_PARALLEL = "N/A"
  LINE_FIRST_PIXEL = 1
  LINE_LAST_PIXEL = 1185
  LINE_PROJECTION_OFFSET = 163990.0
  MAP_PROJECTION_ROTATION = 0.0
  MAP_PROJECTION_TYPE = SINUSOIDAL
  MAP_RESOLUTION = 23709.8786048756
  MAP_SCALE = 0.0025
  MAXIMUM_LATITUDE = 6.91598
  MINIMUM_LATITUDE = 6.86776
  POSITIVE_LONGITUDE_DIRECTION = EAST
  REFERENCE_LATITUDE = "N/A"
  REFERENCE_LONGITUDE = "N/A"
  SAMPLE_FIRST_PIXEL = 1
  SAMPLE_LAST_PIXEL = 1195
  SAMPLE_PROJECTION_OFFSET = 6161.0
  SECOND_STANDARD_PARALLEL = "N/A"
  WESTERNMOST_LONGITUDE = 329.739
END_OBJECT = IMAGE_MAP_PROJECTION
/* The JPEG2000 image data file associated with this label. */
OBJECT = COMPRESSED_FILE
  FILE_NAME = "H1969_0004_SR3.JP2"
  RECORD_TYPE = UNDEFINED
  FILE_RECORDS = UNK
  ENCODING_TYPE = "JP2"
  INTERCHANGE_FORMAT = BINARY
  UNCOMPRESSED_FILE_NAME = "H1969_0004_SR3.IMG"
  REQUIRED_STORAGE_BYTES = "1435195"
  ^DESCRIPTION = "JP2INFO.TXT"
END_OBJECT = COMPRESSED_FILE
END
