PDS_VERSION_ID = PDS3
/* FILE DATA ELEMENTS */
RECORD_TYPE = STREAM
/* POINTERS TO DATA OBJECTS */
^COMPRESSED_FILE = "H1971_0000_P23.JP2"
/* IDENTIFICATION DATA ELEMENTS */
DATA_SET_ID = "MEX-M-HRSC-5-REFDR-MAPPROJECTED-V3.0"
DATA_SET_NAME = "MARS EXPRESS HRSC MAP PROJECTED REFDR V3.0"
DETECTOR_ID = MEX_HRSC_P2
EVENT_TYPE = "MARS-LOCAL-STEREO-Te-Fl-Pf"
INSTRUMENT_HOST_ID = MEX
INSTRUMENT_HOST_NAME = "MARS EXPRESS"
INSTRUMENT_ID = HRSC
INSTRUMENT_NAME = "HIGH RESOLUTION STEREO CAMERA"
MISSION_NAME = "MARS EXPRESS"
MISSION_PHASE_NAME = MR_Phase_7
PROCESSING_LEVEL_ID = 3
PRODUCT_CREATION_TIME = 2016-03-09T16:25:58.000Z
PRODUCT_ID = "H1971_0000_P23.JP2"
RELEASE_ID = 0025
REVISION_ID = 0000
/* QUALITY DATA ELEMENTS */
DATA_QUALITY_ID = 1
DATA_QUALITY_DESC = "Data calculated based on original SPICE kernels"
/* TIME DATA ELEMENTS */
SPACECRAFT_CLOCK_START_COUNT = "1/0070644549.57300"
SPACECRAFT_CLOCK_STOP_COUNT = "1/0070644832.07796"
START_TIME = 2005-07-28T15:29:30.917Z
STOP_TIME = 2005-07-28T15:33:12.379Z
/* ORBITAL DATA ELEMENTS */
ASCENDING_NODE_LONGITUDE = 186.96
MAXIMUM_RESOLUTION = 51.9
FOOTPRINT_POINT_LATITUDE = (-8.36706,-8.37172,-8.37602,-8.37994, -8.39011,-8.07889,-7.76602,-7.44443, -7.12686,-6.81195,-6.49661,-6.18071, -5.70962,-5.38293,-4.9036,-4.44875, -4.18055,-3.9107,-3.64241,-3.37553, -2.97948,-2.69787,-2.42569,-2.1558, -1.88267,-1.61128,-1.33887,-1.06628, -0.656444,-0.383069,0.0259164,0.29202, 0.558228,0.82392,1.091,1.35835,1.62658, 1.89423,2.1536,2.4128,2.67245,2.93255, 3.32386,3.58478,3.8459,4.10709,4.36552, 4.61815,4.8713,5.12513,5.37754,5.51567, 5.52189,5.53181,5.28017,5.02667,4.77362 ,4.52074,4.26669,4.00522,3.74383, 3.35211,3.09174,2.8316,2.5714,2.3115, 1.92281,1.65629,1.38712,1.12601, 0.853304,0.587728,0.320865,0.0562368, -0.35175,-0.626108,-0.899121,-1.17255, -1.58269,-1.98999,-2.2615,-2.53119, -2.80128,-3.07266,-3.34146,-3.74819, -4.01705,-4.2883,-4.7147,-5.03267, -5.3584,-5.67637,-5.99382,-6.46881, -6.93808,-7.26083,-7.57369,-8.0429, -8.35425,-8.36706)
FOOTPRINT_POINT_LONGITUDE = (133.979,133.766,133.553,133.342, 132.932,132.936,132.941,132.944,132.947 ,132.951,132.956,132.96,132.966,132.968 ,132.974,132.979,132.981,132.984, 132.987,132.99,132.996,132.996,132.999, 133.001,133.004,133.006,133.009,133.011 ,133.014,133.016,133.019,133.021, 133.023,133.025,133.027,133.029,133.031 ,133.032,133.034,133.035,133.037, 133.038,133.04,133.042,133.043,133.045, 133.046,133.047,133.048,133.049,133.051 ,133.296,133.605,134.045,134.166, 134.167,134.169,134.17,134.172,134.174, 134.176,134.178,134.181,134.183,134.185 ,134.188,134.192,134.194,134.196, 134.203,134.202,134.206,134.209,134.213 ,134.218,134.221,134.225,134.229, 134.234,134.24,134.245,134.25,134.255, 134.258,134.263,134.268,134.273,134.276 ,134.285,134.292,134.293,134.299, 134.305,134.314,134.327,134.328,134.335 ,134.346,134.354,133.979)
ORBIT_NUMBER = 1971
ORBITAL_ECCENTRICITY = 0.572
ORBITAL_INCLINATION = 86.58
ORBITAL_SEMIMAJOR_AXIS = 8622.62
PERIAPSIS_ALTITUDE = 299.07
PERIAPSIS_ARGUMENT_ANGLE = 12.28
PERIAPSIS_TIME = 2005-07-28T15:35:14.000Z
SPACECRAFT_ORIENTATION = (0.0,1.0,0.0)
^MEX_ORIENTATION_DESC = "MEX_ORIENTATION_DESC.TXT"
SPACECRAFT_POINTING_MODE = ACROSSTRACK
^MEX_POINTING_DESC = "MEX_POINTING_DESC.TXT"
RIGHT_ASCENSION = -1e+32
DECLINATION = -1e+32
OFFSET_ANGLE = -0.4
SPACECRAFT_SOLAR_DISTANCE = 2.0677e+08
TARGET_NAME = MARS
/* CAMERA DATA ELEMENTS */
DETECTOR_TEMPERATURE = 18.9822
FOCAL_PLANE_TEMPERATURE = 9.8067
INST_CMPRS_NAME = "DISCRETE COSINE TRANSFORMATION (DCT)"
INST_CMPRS_RATIO = 14.7261
INST_CMPRS_QUALITY = 0
INST_CMPRS_QUANTZ_TBL_ID = 0
INSTRUMENT_TEMPERATURE = 11.6418
LENS_TEMPERATURE = 10.0106
MACROPIXEL_SIZE = 4
MISSING_FRAMES = 0
PIXEL_SUBSAMPLING_FLAG = N
SIGNAL_CHAIN_ID = 3
/* RADIOMETRIC DATA ELEMENTS */
BANDWIDTH = 177.0
CENTER_FILTER_WAVELENGTH = 676.5
RADIANCE_OFFSET = 4.16041
RADIANCE_SCALING_FACTOR = 0.00802056
REFLECTANCE_SCALING_FACTOR = 0.000181818
MEX:REFLECTANCE_OFFSET = 0.0943123
/* IMAGE OBJECT DEFINITIONS */
OBJECT = IMAGE
  INTERCHANGE_FORMAT = BINARY
  LINES = 16456
  LINE_SAMPLES = 1695
  SAMPLE_TYPE = UNSIGNED_INTEGER
  SAMPLE_BITS = 8
  BANDS = 1
  BAND_STORAGE_TYPE = BAND_SEQUENTIAL
  MAXIMUM = 359
  MEAN = 222.941
  MINIMUM = 233
  STANDARD_DEVIATION = 131.636
END_OBJECT = IMAGE
/* MAP OBJECT DEFINITIONS */
OBJECT = IMAGE_MAP_PROJECTION
  ^DATA_SET_MAP_PROJECTION_CATALOG= "DSMAP.CAT"
  A_AXIS_RADIUS = 3396.0
  B_AXIS_RADIUS = 3396.0
  C_AXIS_RADIUS = 3396.0
  CENTER_LATITUDE = 0.0
  CENTER_LONGITUDE = 134.0
  COORDINATE_SYSTEM_NAME = PLANETOGRAPHIC
  COORDINATE_SYSTEM_TYPE = "BODY-FIXED ROTATING"
  EASTERNMOST_LONGITUDE = 134.354
  FIRST_STANDARD_PARALLEL = "N/A"
  LINE_FIRST_PIXEL = 1
  LINE_LAST_PIXEL = 16456
  LINE_PROJECTION_OFFSET = 6520.625
  MAP_PROJECTION_ROTATION = 0.0
  MAP_PROJECTION_TYPE = SINUSOIDAL
  MAP_RESOLUTION = 1185.42760773333
  MAP_SCALE = 0.05
  MAXIMUM_LATITUDE = 5.53181
  MINIMUM_LATITUDE = -8.39011
  POSITIVE_LONGITUDE_DIRECTION = EAST
  REFERENCE_LATITUDE = "N/A"
  REFERENCE_LONGITUDE = "N/A"
  SAMPLE_FIRST_PIXEL = 1
  SAMPLE_LAST_PIXEL = 1695
  SAMPLE_PROJECTION_OFFSET = 1242.375
  SECOND_STANDARD_PARALLEL = "N/A"
  WESTERNMOST_LONGITUDE = 132.932
END_OBJECT = IMAGE_MAP_PROJECTION
/* The JPEG2000 image data file associated with this label. */
OBJECT = COMPRESSED_FILE
  FILE_NAME = "H1971_0000_P23.JP2"
  RECORD_TYPE = UNDEFINED
  FILE_RECORDS = UNK
  ENCODING_TYPE = "JP2"
  INTERCHANGE_FORMAT = BINARY
  UNCOMPRESSED_FILE_NAME = "H1971_0000_P23.IMG"
  REQUIRED_STORAGE_BYTES = "27913260"
  ^DESCRIPTION = "JP2INFO.TXT"
END_OBJECT = COMPRESSED_FILE
END
