PDS_VERSION_ID = PDS3
/* FILE DATA ELEMENTS */
RECORD_TYPE = STREAM
/* POINTERS TO DATA OBJECTS */
^COMPRESSED_FILE = "H1971_0002_SR3.JP2"
/* IDENTIFICATION DATA ELEMENTS */
DATA_SET_ID = "MEX-M-HRSC-5-REFDR-MAPPROJECTED-V3.0"
DATA_SET_NAME = "MARS EXPRESS HRSC MAP PROJECTED REFDR V3.0"
DETECTOR_ID = MEX_HRSC_SRC
EVENT_TYPE = "MARS-LOCAL-STEREO-Te-Fl-Pf"
INSTRUMENT_HOST_ID = MEX
INSTRUMENT_HOST_NAME = "MARS EXPRESS"
INSTRUMENT_ID = HRSC
INSTRUMENT_NAME = "HIGH RESOLUTION STEREO CAMERA"
MISSION_NAME = "MARS EXPRESS"
MISSION_PHASE_NAME = MR_Phase_7
PROCESSING_LEVEL_ID = 3
PRODUCT_CREATION_TIME = 2016-03-09T16:25:58.000Z
PRODUCT_ID = "H1971_0002_SR3.JP2"
RELEASE_ID = 0025
REVISION_ID = 0000
/* QUALITY DATA ELEMENTS */
DATA_QUALITY_ID = 1
DATA_QUALITY_DESC = "Data calculated based on original SPICE kernels"
/* TIME DATA ELEMENTS */
SPACECRAFT_CLOCK_START_COUNT = "1/0070644549.57300"
SPACECRAFT_CLOCK_STOP_COUNT = "1/0070644832.07796"
IMAGE_TIME = 2005-07-28T15:31:14.535Z
START_TIME = 2005-07-28T15:31:14.533Z
STOP_TIME = 2005-07-28T15:31:14.538Z
/* ORBITAL DATA ELEMENTS */
ASCENDING_NODE_LONGITUDE = 186.96
MAXIMUM_RESOLUTION = 3.218
FOOTPRINT_POINT_LATITUDE = (-3.39677,-3.39427,-3.39221,-3.38954, -3.38786,-3.38607,-3.38357,-3.38052, -3.37808,-3.3765,-3.37384,-3.37172, -3.3702,-3.36819,-3.36531,-3.36325, -3.36015,-3.35776,-3.35515,-3.35352, -3.35216,-3.35026,-3.34868,-3.34607, -3.34525,-3.34524,-3.34523,-3.34522, -3.34521,-3.3452,-3.34519,-3.34518, -3.34517,-3.34516,-3.34515,-3.34514, -3.34511,-3.3451,-3.34509,-3.34508, -3.34507,-3.34506,-3.34505,-3.34504, -3.34503,-3.34502,-3.34501,-3.345, -3.34499,-3.34525,-3.34694,-3.34971, -3.352,-3.35396,-3.35553,-3.35863, -3.36135,-3.36299,-3.36538,-3.36815, -3.37044,-3.3725,-3.37533,-3.37669, -3.37936,-3.38137,-3.38431,-3.38724, -3.38877,-3.39083,-3.39225,-3.39453, -3.39741,-3.39894,-3.39976,-3.39977, -3.39978,-3.39979,-3.39979,-3.3998, -3.39981,-3.39982,-3.39983,-3.39984, -3.39985,-3.39986,-3.39987,-3.39988, -3.39989,-3.3999,-3.3999,-3.39991, -3.39992,-3.39993,-3.39994,-3.39995, -3.39996,-3.39997,-3.39997,-3.39677)
FOOTPRINT_POINT_LONGITUDE = (133.595,133.595,133.595,133.595, 133.595,133.595,133.595,133.595,133.595 ,133.595,133.595,133.595,133.595, 133.595,133.595,133.595,133.595,133.595 ,133.595,133.595,133.595,133.595, 133.595,133.595,133.596,133.599,133.601 ,133.603,133.605,133.607,133.609, 133.612,133.614,133.616,133.618,133.62, 133.623,133.625,133.628,133.63,133.632, 133.634,133.636,133.638,133.641,133.643 ,133.645,133.647,133.649,133.651, 133.651,133.651,133.651,133.651,133.651 ,133.651,133.651,133.651,133.651, 133.651,133.651,133.651,133.651,133.651 ,133.651,133.651,133.651,133.651, 133.651,133.651,133.651,133.651,133.651 ,133.651,133.649,133.647,133.645, 133.643,133.641,133.638,133.636,133.634 ,133.632,133.63,133.628,133.625,133.623 ,133.62,133.618,133.615,133.613,133.611 ,133.609,133.607,133.604,133.602,133.6, 133.598,133.596,133.595)
ORBIT_NUMBER = 1971
ORBITAL_ECCENTRICITY = 0.572
ORBITAL_INCLINATION = 86.58
ORBITAL_SEMIMAJOR_AXIS = 8622.62
PERIAPSIS_ALTITUDE = 299.07
PERIAPSIS_ARGUMENT_ANGLE = 12.28
PERIAPSIS_TIME = 2005-07-28T15:35:14.000Z
SPACECRAFT_ORIENTATION = (0.0,1.0,0.0)
^MEX_ORIENTATION_DESC = "MEX_ORIENTATION_DESC.TXT"
SPACECRAFT_POINTING_MODE = ACROSSTRACK
^MEX_POINTING_DESC = "MEX_POINTING_DESC.TXT"
RIGHT_ASCENSION = -1e+32
DECLINATION = -1e+32
OFFSET_ANGLE = -0.4
SPACECRAFT_SOLAR_DISTANCE = 2.0677e+08
TARGET_NAME = MARS
/* CAMERA DATA ELEMENTS */
BUFFER_MODE_ID = BUFFER_8
EXPOSURE_DURATION = 5.04
INST_CMPRS_NAME = NONE
INST_CMPRS_RATIO = 1.0
INST_CMPRS_QUALITY = -2147483648
INST_CMPRS_QUANTZ_TBL_ID = -2147483648
INSTRUMENT_TEMPERATURE = 11.2121
MISSING_FRAMES = 0
START_BIT = 0
/* RADIOMETRIC DATA ELEMENTS */
BANDWIDTH = 250.0
CENTER_FILTER_WAVELENGTH = 600.0
RADIANCE_OFFSET = -9.99e+31
RADIANCE_SCALING_FACTOR = -9.99e+31
REFLECTANCE_SCALING_FACTOR = -9.99e+31
MEX:REFLECTANCE_OFFSET = -9.99e+31
/* IMAGE OBJECT DEFINITIONS */
OBJECT = IMAGE
  INTERCHANGE_FORMAT = BINARY
  LINES = 1344
  LINE_SAMPLES = 1361
  SAMPLE_TYPE = UNSIGNED_INTEGER
  SAMPLE_BITS = 8
  BANDS = 1
  BAND_STORAGE_TYPE = BAND_SEQUENTIAL
  MAXIMUM = 5581
  MEAN = 4880.95
  MINIMUM = 3877
  STANDARD_DEVIATION = 266.762
END_OBJECT = IMAGE
/* MAP OBJECT DEFINITIONS */
OBJECT = IMAGE_MAP_PROJECTION
  ^DATA_SET_MAP_PROJECTION_CATALOG= "DSMAP.CAT"
  A_AXIS_RADIUS = 3396.19
  B_AXIS_RADIUS = 3396.19
  C_AXIS_RADIUS = 3396.19
  CENTER_LATITUDE = 0.0
  CENTER_LONGITUDE = 134.0
  COORDINATE_SYSTEM_NAME = PLANETOGRAPHIC
  COORDINATE_SYSTEM_TYPE = "BODY-FIXED ROTATING"
  EASTERNMOST_LONGITUDE = 133.651
  FIRST_STANDARD_PARALLEL = "N/A"
  LINE_FIRST_PIXEL = 1
  LINE_LAST_PIXEL = 1344
  LINE_PROJECTION_OFFSET = -79289.0
  MAP_PROJECTION_ROTATION = 0.0
  MAP_PROJECTION_TYPE = SINUSOIDAL
  MAP_RESOLUTION = 23709.8786048756
  MAP_SCALE = 0.0025
  MAXIMUM_LATITUDE = -3.34499
  MINIMUM_LATITUDE = -3.39997
  POSITIVE_LONGITUDE_DIRECTION = EAST
  REFERENCE_LATITUDE = "N/A"
  REFERENCE_LONGITUDE = "N/A"
  SAMPLE_FIRST_PIXEL = 1
  SAMPLE_LAST_PIXEL = 1361
  SAMPLE_PROJECTION_OFFSET = 9602.0
  SECOND_STANDARD_PARALLEL = "N/A"
  WESTERNMOST_LONGITUDE = 133.595
END_OBJECT = IMAGE_MAP_PROJECTION
/* The JPEG2000 image data file associated with this label. */
OBJECT = COMPRESSED_FILE
  FILE_NAME = "H1971_0002_SR3.JP2"
  RECORD_TYPE = UNDEFINED
  FILE_RECORDS = UNK
  ENCODING_TYPE = "JP2"
  INTERCHANGE_FORMAT = BINARY
  UNCOMPRESSED_FILE_NAME = "H1971_0002_SR3.IMG"
  REQUIRED_STORAGE_BYTES = "1848238"
  ^DESCRIPTION = "JP2INFO.TXT"
END_OBJECT = COMPRESSED_FILE
END
