PDS_VERSION_ID = PDS3
/* FILE DATA ELEMENTS */
RECORD_TYPE = STREAM
/* POINTERS TO DATA OBJECTS */
^COMPRESSED_FILE = "H1972_0000_ND3.JP2"
/* IDENTIFICATION DATA ELEMENTS */
DATA_SET_ID = "MEX-M-HRSC-5-REFDR-MAPPROJECTED-V3.0"
DATA_SET_NAME = "MARS EXPRESS HRSC MAP PROJECTED REFDR V3.0"
DETECTOR_ID = MEX_HRSC_NADIR
EVENT_TYPE = "MARS-LOCAL-COLOR-Vo-Im-Lc"
INSTRUMENT_HOST_ID = MEX
INSTRUMENT_HOST_NAME = "MARS EXPRESS"
INSTRUMENT_ID = HRSC
INSTRUMENT_NAME = "HIGH RESOLUTION STEREO CAMERA"
MISSION_NAME = "MARS EXPRESS"
MISSION_PHASE_NAME = MR_Phase_7
PROCESSING_LEVEL_ID = 3
PRODUCT_CREATION_TIME = 2016-03-09T16:25:58.000Z
PRODUCT_ID = "H1972_0000_ND3.JP2"
RELEASE_ID = 0025
REVISION_ID = 0000
/* QUALITY DATA ELEMENTS */
DATA_QUALITY_ID = 1
DATA_QUALITY_DESC = "Data calculated based on original SPICE kernels"
/* TIME DATA ELEMENTS */
SPACECRAFT_CLOCK_START_COUNT = "1/0070668691.56201"
SPACECRAFT_CLOCK_STOP_COUNT = "1/0070669038.32618"
START_TIME = 2005-07-28T22:12:20.942Z
STOP_TIME = 2005-07-28T22:16:56.937Z
/* ORBITAL DATA ELEMENTS */
ASCENDING_NODE_LONGITUDE = 186.95
MAXIMUM_RESOLUTION = 12.2
FOOTPRINT_POINT_LATITUDE = (-11.3472,-11.3497,-11.3517,-10.9612, -10.3843,-10.0023,-9.61943,-9.2359, -8.65927,-7.31233,-6.92463,-6.53645, -6.1477,-5.82136,-5.49456,-5.16732, -4.83968,-4.51163,-4.18316,-3.85431, -3.52508,-3.19546,-2.86545,-2.53503, -2.20436,-1.87327,-1.54188,-1.22081, -0.899434,-0.577742,-0.255714,0.0665535 ,0.546693,0.858878,1.17134,1.48403, 1.95365,2.26683,2.5803,2.89303,3.34928, 3.65266,3.95621,4.25995,4.56378,4.86783 ,5.17202,5.47634,5.93333,6.39556, 6.39613,6.39607,5.79032,5.486,5.18181, 4.87777,4.57389,4.27013,3.96654,3.66307 ,3.3598,2.90373,2.43472,2.12147,1.80845 ,1.49567,1.18311,0.870802,0.558728, 0.0790998,-0.243019,-0.56498,-0.886634, -1.20787,-1.52882,-1.8598,-2.19076, -2.52138,-2.85163,-3.18155,-3.51106, -3.84022,-4.16897,-4.49727,-4.82522, -5.15275,-5.47987,-5.80633,-6.13281, -6.51975,-6.90794,-7.29549,-8.64217, -9.21864,-9.60207,-9.98484,-10.3668, -10.9432,-11.3338,-11.3472)
FOOTPRINT_POINT_LONGITUDE = (35.7077,35.2413,34.7021,34.7076, 34.7164,34.7218,34.727,34.7321,34.7394, 34.7557,34.7598,34.7643,34.7684,34.7717 ,34.7749,34.7779,34.781,34.7839,34.7867 ,34.7895,34.7923,34.795,34.7976,34.8, 34.8026,34.805,34.8073,34.8094,34.8116, 34.8136,34.8155,34.8175,34.8203,34.822, 34.8237,34.8253,34.8274,34.8291,34.8306 ,34.8319,34.8339,34.8351,34.8363, 34.8374,34.8386,34.8397,34.8407,34.8417 ,34.8428,34.9595,35.5317,35.925,35.9261 ,35.9277,35.9294,35.931,35.9329,35.9343 ,35.9358,35.9365,35.9378,35.9411,35.945 ,35.9475,35.9504,35.9538,35.9568, 35.9603,35.9636,35.9696,35.9738,35.9757 ,35.9779,35.9825,35.9867,35.9909, 35.9955,36.0001,36.0048,36.0092,36.0141 ,36.0187,36.0237,36.0298,36.0352, 36.0407,36.0462,36.056,36.058,36.0658, 36.0732,36.0806,36.1083,36.1213,36.1303 ,36.1383,36.1482,36.1648,36.1715, 35.7077)
ORBIT_NUMBER = 1972
ORBITAL_ECCENTRICITY = 0.572
ORBITAL_INCLINATION = 86.58
ORBITAL_SEMIMAJOR_AXIS = 8625.21
PERIAPSIS_ALTITUDE = 298.61
PERIAPSIS_ARGUMENT_ANGLE = 12.1
PERIAPSIS_TIME = 2005-07-28T22:18:24.000Z
SPACECRAFT_ORIENTATION = (0.0,1.0,0.0)
^MEX_ORIENTATION_DESC = "MEX_ORIENTATION_DESC.TXT"
SPACECRAFT_POINTING_MODE = ACROSSTRACK
^MEX_POINTING_DESC = "MEX_POINTING_DESC.TXT"
RIGHT_ASCENSION = -1e+32
DECLINATION = -1e+32
OFFSET_ANGLE = -0.45
SPACECRAFT_SOLAR_DISTANCE = 2.06777e+08
TARGET_NAME = MARS
/* CAMERA DATA ELEMENTS */
DETECTOR_TEMPERATURE = 19.7978
FOCAL_PLANE_TEMPERATURE = 9.8067
INST_CMPRS_NAME = "DISCRETE COSINE TRANSFORMATION (DCT)"
INST_CMPRS_RATIO = 6.53695
INST_CMPRS_QUALITY = 0
INST_CMPRS_QUANTZ_TBL_ID = 0
INSTRUMENT_TEMPERATURE = 11.6418
LENS_TEMPERATURE = 10.4184
MACROPIXEL_SIZE = 1
MISSING_FRAMES = 580
PIXEL_SUBSAMPLING_FLAG = N
SIGNAL_CHAIN_ID = 0
/* RADIOMETRIC DATA ELEMENTS */
BANDWIDTH = 177.0
CENTER_FILTER_WAVELENGTH = 677.5
RADIANCE_OFFSET = 3.44886
RADIANCE_SCALING_FACTOR = 0.0176697
REFLECTANCE_SCALING_FACTOR = 0.000401343
MEX:REFLECTANCE_OFFSET = 0.0783361
/* IMAGE OBJECT DEFINITIONS */
OBJECT = IMAGE
  INTERCHANGE_FORMAT = BINARY
  LINES = 84156
  LINE_SAMPLES = 7218
  SAMPLE_TYPE = UNSIGNED_INTEGER
  SAMPLE_BITS = 8
  BANDS = 1
  BAND_STORAGE_TYPE = BAND_SEQUENTIAL
  MAXIMUM = 301
  MEAN = 186.385
  MINIMUM = 1
  STANDARD_DEVIATION = 16.5823
END_OBJECT = IMAGE
/* MAP OBJECT DEFINITIONS */
OBJECT = IMAGE_MAP_PROJECTION
  ^DATA_SET_MAP_PROJECTION_CATALOG= "DSMAP.CAT"
  A_AXIS_RADIUS = 3396.0
  B_AXIS_RADIUS = 3396.0
  C_AXIS_RADIUS = 3396.0
  CENTER_LATITUDE = 0.0
  CENTER_LONGITUDE = 35.0
  COORDINATE_SYSTEM_NAME = PLANETOGRAPHIC
  COORDINATE_SYSTEM_TYPE = "BODY-FIXED ROTATING"
  EASTERNMOST_LONGITUDE = 36.1715
  FIRST_STANDARD_PARALLEL = "N/A"
  LINE_FIRST_PIXEL = 1
  LINE_LAST_PIXEL = 84156
  LINE_PROJECTION_OFFSET = 30328.0
  MAP_PROJECTION_ROTATION = 0.0
  MAP_PROJECTION_TYPE = SINUSOIDAL
  MAP_RESOLUTION = 4741.71043093333
  MAP_SCALE = 0.0125
  MAXIMUM_LATITUDE = 6.39613
  MINIMUM_LATITUDE = -11.3517
  POSITIVE_LONGITUDE_DIRECTION = EAST
  REFERENCE_LATITUDE = "N/A"
  REFERENCE_LONGITUDE = "N/A"
  SAMPLE_FIRST_PIXEL = 1
  SAMPLE_LAST_PIXEL = 7218
  SAMPLE_PROJECTION_OFFSET = 1442.0
  SECOND_STANDARD_PARALLEL = "N/A"
  WESTERNMOST_LONGITUDE = 34.7021
END_OBJECT = IMAGE_MAP_PROJECTION
/* The JPEG2000 image data file associated with this label. */
OBJECT = COMPRESSED_FILE
  FILE_NAME = "H1972_0000_ND3.JP2"
  RECORD_TYPE = UNDEFINED
  FILE_RECORDS = UNK
  ENCODING_TYPE = "JP2"
  INTERCHANGE_FORMAT = BINARY
  UNCOMPRESSED_FILE_NAME = "H1972_0000_ND3.IMG"
  REQUIRED_STORAGE_BYTES = "607466880"
  ^DESCRIPTION = "JP2INFO.TXT"
END_OBJECT = COMPRESSED_FILE
END
