PDS_VERSION_ID = PDS3
/* FILE DATA ELEMENTS */
RECORD_TYPE = STREAM
/* POINTERS TO DATA OBJECTS */
^COMPRESSED_FILE = "H1972_0001_SR3.JP2"
/* IDENTIFICATION DATA ELEMENTS */
DATA_SET_ID = "MEX-M-HRSC-5-REFDR-MAPPROJECTED-V3.0"
DATA_SET_NAME = "MARS EXPRESS HRSC MAP PROJECTED REFDR V3.0"
DETECTOR_ID = MEX_HRSC_SRC
EVENT_TYPE = "MARS-LOCAL-COLOR-Vo-Im-Lc"
INSTRUMENT_HOST_ID = MEX
INSTRUMENT_HOST_NAME = "MARS EXPRESS"
INSTRUMENT_ID = HRSC
INSTRUMENT_NAME = "HIGH RESOLUTION STEREO CAMERA"
MISSION_NAME = "MARS EXPRESS"
MISSION_PHASE_NAME = MR_Phase_7
PROCESSING_LEVEL_ID = 3
PRODUCT_CREATION_TIME = 2016-03-09T16:25:58.000Z
PRODUCT_ID = "H1972_0001_SR3.JP2"
RELEASE_ID = 0025
REVISION_ID = 0000
/* QUALITY DATA ELEMENTS */
DATA_QUALITY_ID = 1
DATA_QUALITY_DESC = "Data calculated based on original SPICE kernels"
/* TIME DATA ELEMENTS */
SPACECRAFT_CLOCK_START_COUNT = "1/0070668691.56201"
SPACECRAFT_CLOCK_STOP_COUNT = "1/0070669038.32618"
IMAGE_TIME = 2005-07-28T22:16:22.750Z
START_TIME = 2005-07-28T22:16:22.492Z
STOP_TIME = 2005-07-28T22:16:23.008Z
/* ORBITAL DATA ELEMENTS */
ASCENDING_NODE_LONGITUDE = 186.95
MAXIMUM_RESOLUTION = 2.851
FOOTPRINT_POINT_LATITUDE = (4.10305,4.10564,4.10752,4.10992, 4.11219,4.11469,4.11618,4.11776,4.11964 ,4.12204,4.12479,4.12661,4.12883, 4.13075,4.1321,4.13383,4.13647,4.13796, 4.13969,4.14123,4.14388,4.14551,4.14826 ,4.15037,4.15038,4.15038,4.15039, 4.15039,4.1504,4.1504,4.15041,4.15041, 4.15042,4.15042,4.15043,4.15043,4.15044 ,4.15044,4.15045,4.15045,4.15046, 4.15046,4.15047,4.15048,4.15048,4.15049 ,4.15049,4.1505,4.1505,4.14819,4.14559, 4.1441,4.14169,4.13972,4.13842,4.1363, 4.135,4.13293,4.13091,4.12884,4.12716, 4.12557,4.12311,4.12152,4.1195,4.11724, 4.11454,4.11262,4.11113,4.10963,4.10795 ,4.10665,4.10511,4.10275,4.10203, 4.10202,4.10202,4.10202,4.10201,4.10201 ,4.10201,4.102,4.102,4.10199,4.10199, 4.10199,4.10198,4.10198,4.10198,4.10197 ,4.10197,4.10197,4.10196,4.10196, 4.10196,4.10195,4.10195,4.10195,4.10194 ,4.10305)
FOOTPRINT_POINT_LONGITUDE = (35.3597,35.3597,35.3597,35.3597, 35.3596,35.3596,35.3596,35.3596,35.3596 ,35.3596,35.3596,35.3596,35.3596, 35.3596,35.3596,35.3596,35.3596,35.3596 ,35.3596,35.3596,35.3596,35.3596, 35.3596,35.3596,35.3616,35.3635,35.3654 ,35.3674,35.3693,35.3713,35.3732, 35.3751,35.3771,35.379,35.3809,35.3829, 35.3848,35.3868,35.3887,35.3906,35.3926 ,35.3945,35.3965,35.3984,35.4003, 35.4023,35.4042,35.4061,35.4081,35.4089 ,35.4089,35.4089,35.4089,35.4089, 35.4089,35.4089,35.4089,35.4089,35.4089 ,35.4089,35.4089,35.4089,35.4089, 35.4089,35.4089,35.4089,35.4089,35.4089 ,35.4089,35.4089,35.4089,35.4089, 35.4089,35.4089,35.407,35.405,35.4031, 35.4011,35.3992,35.3973,35.3953,35.3934 ,35.3914,35.3895,35.3876,35.3856, 35.3837,35.3818,35.3798,35.3779,35.3759 ,35.374,35.3721,35.3701,35.3682,35.3663 ,35.3643,35.3624,35.3604,35.3597)
ORBIT_NUMBER = 1972
ORBITAL_ECCENTRICITY = 0.572
ORBITAL_INCLINATION = 86.58
ORBITAL_SEMIMAJOR_AXIS = 8625.21
PERIAPSIS_ALTITUDE = 298.61
PERIAPSIS_ARGUMENT_ANGLE = 12.1
PERIAPSIS_TIME = 2005-07-28T22:18:24.000Z
SPACECRAFT_ORIENTATION = (0.0,1.0,0.0)
^MEX_ORIENTATION_DESC = "MEX_ORIENTATION_DESC.TXT"
SPACECRAFT_POINTING_MODE = ACROSSTRACK
^MEX_POINTING_DESC = "MEX_POINTING_DESC.TXT"
RIGHT_ASCENSION = -1e+32
DECLINATION = -1e+32
OFFSET_ANGLE = -0.45
SPACECRAFT_SOLAR_DISTANCE = 2.06777e+08
TARGET_NAME = MARS
/* CAMERA DATA ELEMENTS */
BUFFER_MODE_ID = BUFFER_8
EXPOSURE_DURATION = 516.096
INST_CMPRS_NAME = NONE
INST_CMPRS_RATIO = 1.0
INST_CMPRS_QUALITY = -2147483648
INST_CMPRS_QUANTZ_TBL_ID = -2147483648
INSTRUMENT_TEMPERATURE = 15.0507
MISSING_FRAMES = 0
START_BIT = 0
/* RADIOMETRIC DATA ELEMENTS */
BANDWIDTH = 250.0
CENTER_FILTER_WAVELENGTH = 600.0
RADIANCE_OFFSET = -9.99e+31
RADIANCE_SCALING_FACTOR = -9.99e+31
REFLECTANCE_SCALING_FACTOR = -9.99e+31
MEX:REFLECTANCE_OFFSET = -9.99e+31
/* IMAGE OBJECT DEFINITIONS */
OBJECT = IMAGE
  INTERCHANGE_FORMAT = BINARY
  LINES = 1192
  LINE_SAMPLES = 1209
  SAMPLE_TYPE = UNSIGNED_INTEGER
  SAMPLE_BITS = 8
  BANDS = 1
  BAND_STORAGE_TYPE = BAND_SEQUENTIAL
  MAXIMUM = 12898
  MEAN = 12348.3
  MINIMUM = 11643
  STANDARD_DEVIATION = 213.275
END_OBJECT = IMAGE
/* MAP OBJECT DEFINITIONS */
OBJECT = IMAGE_MAP_PROJECTION
  ^DATA_SET_MAP_PROJECTION_CATALOG= "DSMAP.CAT"
  A_AXIS_RADIUS = 3396.19
  B_AXIS_RADIUS = 3396.19
  C_AXIS_RADIUS = 3396.19
  CENTER_LATITUDE = 0.0
  CENTER_LONGITUDE = 35.0
  COORDINATE_SYSTEM_NAME = PLANETOGRAPHIC
  COORDINATE_SYSTEM_TYPE = "BODY-FIXED ROTATING"
  EASTERNMOST_LONGITUDE = 35.4089
  FIRST_STANDARD_PARALLEL = "N/A"
  LINE_FIRST_PIXEL = 1
  LINE_LAST_PIXEL = 1192
  LINE_PROJECTION_OFFSET = 98426.0
  MAP_PROJECTION_ROTATION = 0.0
  MAP_PROJECTION_TYPE = SINUSOIDAL
  MAP_RESOLUTION = 23709.8786048756
  MAP_SCALE = 0.0025
  MAXIMUM_LATITUDE = 4.1505
  MINIMUM_LATITUDE = 4.10194
  POSITIVE_LONGITUDE_DIRECTION = EAST
  REFERENCE_LATITUDE = "N/A"
  REFERENCE_LONGITUDE = "N/A"
  SAMPLE_FIRST_PIXEL = 1
  SAMPLE_LAST_PIXEL = 1209
  SAMPLE_PROJECTION_OFFSET = -8480.0
  SECOND_STANDARD_PARALLEL = "N/A"
  WESTERNMOST_LONGITUDE = 35.3596
END_OBJECT = IMAGE_MAP_PROJECTION
/* The JPEG2000 image data file associated with this label. */
OBJECT = COMPRESSED_FILE
  FILE_NAME = "H1972_0001_SR3.JP2"
  RECORD_TYPE = UNDEFINED
  FILE_RECORDS = UNK
  ENCODING_TYPE = "JP2"
  INTERCHANGE_FORMAT = BINARY
  UNCOMPRESSED_FILE_NAME = "H1972_0001_SR3.IMG"
  REQUIRED_STORAGE_BYTES = "1460472"
  ^DESCRIPTION = "JP2INFO.TXT"
END_OBJECT = COMPRESSED_FILE
END
