PDS_VERSION_ID = PDS3
/* FILE DATA ELEMENTS */
RECORD_TYPE = STREAM
/* POINTERS TO DATA OBJECTS */
^COMPRESSED_FILE = "H1972_0005_SR3.JP2"
/* IDENTIFICATION DATA ELEMENTS */
DATA_SET_ID = "MEX-M-HRSC-5-REFDR-MAPPROJECTED-V3.0"
DATA_SET_NAME = "MARS EXPRESS HRSC MAP PROJECTED REFDR V3.0"
DETECTOR_ID = MEX_HRSC_SRC
EVENT_TYPE = "MARS-LOCAL-COLOR-Vo-Im-Lc"
INSTRUMENT_HOST_ID = MEX
INSTRUMENT_HOST_NAME = "MARS EXPRESS"
INSTRUMENT_ID = HRSC
INSTRUMENT_NAME = "HIGH RESOLUTION STEREO CAMERA"
MISSION_NAME = "MARS EXPRESS"
MISSION_PHASE_NAME = MR_Phase_7
PROCESSING_LEVEL_ID = 3
PRODUCT_CREATION_TIME = 2016-03-09T16:25:58.000Z
PRODUCT_ID = "H1972_0005_SR3.JP2"
RELEASE_ID = 0025
REVISION_ID = 0000
/* QUALITY DATA ELEMENTS */
DATA_QUALITY_ID = 1
DATA_QUALITY_DESC = "Data calculated based on original SPICE kernels"
/* TIME DATA ELEMENTS */
SPACECRAFT_CLOCK_START_COUNT = "1/0070668691.56201"
SPACECRAFT_CLOCK_STOP_COUNT = "1/0070669038.32618"
IMAGE_TIME = 2005-07-28T22:16:24.930Z
START_TIME = 2005-07-28T22:16:24.928Z
STOP_TIME = 2005-07-28T22:16:24.933Z
/* ORBITAL DATA ELEMENTS */
ASCENDING_NODE_LONGITUDE = 186.95
MAXIMUM_RESOLUTION = 2.846
FOOTPRINT_POINT_LATITUDE = (4.24541,4.2469,4.24915,4.25055,4.25203 ,4.254,4.25636,4.25789,4.25996,4.26188, 4.26337,4.26582,4.26721,4.26951,4.27129 ,4.27369,4.27542,4.27734,4.27878, 4.28214,4.28455,4.28608,4.28805,4.29088 ,4.29257,4.29339,4.2934,4.2934,4.29341, 4.29341,4.29342,4.29342,4.29343,4.29343 ,4.29344,4.29344,4.29345,4.29345, 4.29346,4.29346,4.29347,4.29347,4.29348 ,4.29348,4.29349,4.29349,4.2935,4.2935, 4.29351,4.29351,4.29308,4.29183,4.28928 ,4.28616,4.28404,4.28217,4.2801,4.27851 ,4.27717,4.27577,4.27395,4.27159,4.27, 4.26755,4.26568,4.26342,4.26183,4.25881 ,4.25684,4.25486,4.25333,4.25088, 4.24924,4.24689,4.24511,4.2451,4.2451, 4.2451,4.24509,4.24509,4.24509,4.24508, 4.24508,4.24508,4.24507,4.24507,4.24507 ,4.24506,4.24506,4.24506,4.24505, 4.24505,4.24505,4.24504,4.24504,4.24504 ,4.24503,4.24503,4.24503,4.24541)
FOOTPRINT_POINT_LONGITUDE = (35.3595,35.3595,35.3595,35.3595, 35.3595,35.3595,35.3595,35.3595,35.3595 ,35.3595,35.3595,35.3595,35.3595, 35.3595,35.3595,35.3595,35.3595,35.3595 ,35.3595,35.3595,35.3595,35.3595, 35.3595,35.3594,35.3595,35.3605,35.3624 ,35.3644,35.3663,35.3682,35.3702, 35.3721,35.374,35.376,35.3779,35.3799, 35.3818,35.3837,35.3857,35.3876,35.3895 ,35.3915,35.3934,35.3953,35.3973, 35.3992,35.4012,35.4031,35.405,35.407, 35.4087,35.4087,35.4087,35.4087,35.4087 ,35.4087,35.4087,35.4087,35.4087, 35.4087,35.4087,35.4087,35.4087,35.4087 ,35.4087,35.4087,35.4087,35.4087, 35.4087,35.4087,35.4087,35.4087,35.4087 ,35.4087,35.4077,35.4058,35.4038, 35.4019,35.4,35.398,35.3961,35.3942, 35.3922,35.3903,35.3884,35.3864,35.3845 ,35.3825,35.3806,35.3787,35.3767, 35.3748,35.3729,35.3709,35.369,35.3671, 35.3651,35.3632,35.3613,35.3595)
ORBIT_NUMBER = 1972
ORBITAL_ECCENTRICITY = 0.572
ORBITAL_INCLINATION = 86.58
ORBITAL_SEMIMAJOR_AXIS = 8625.21
PERIAPSIS_ALTITUDE = 298.61
PERIAPSIS_ARGUMENT_ANGLE = 12.1
PERIAPSIS_TIME = 2005-07-28T22:18:24.000Z
SPACECRAFT_ORIENTATION = (0.0,1.0,0.0)
^MEX_ORIENTATION_DESC = "MEX_ORIENTATION_DESC.TXT"
SPACECRAFT_POINTING_MODE = ACROSSTRACK
^MEX_POINTING_DESC = "MEX_POINTING_DESC.TXT"
RIGHT_ASCENSION = -1e+32
DECLINATION = -1e+32
OFFSET_ANGLE = -0.45
SPACECRAFT_SOLAR_DISTANCE = 2.06777e+08
TARGET_NAME = MARS
/* CAMERA DATA ELEMENTS */
BUFFER_MODE_ID = BUFFER_8
EXPOSURE_DURATION = 5.04
INST_CMPRS_NAME = NONE
INST_CMPRS_RATIO = 1.0
INST_CMPRS_QUALITY = -2147483648
INST_CMPRS_QUANTZ_TBL_ID = -2147483648
INSTRUMENT_TEMPERATURE = 15.2571
MISSING_FRAMES = 0
START_BIT = 0
/* RADIOMETRIC DATA ELEMENTS */
BANDWIDTH = 250.0
CENTER_FILTER_WAVELENGTH = 600.0
RADIANCE_OFFSET = -9.99e+31
RADIANCE_SCALING_FACTOR = -9.99e+31
REFLECTANCE_SCALING_FACTOR = -9.99e+31
MEX:REFLECTANCE_OFFSET = -9.99e+31
/* IMAGE OBJECT DEFINITIONS */
OBJECT = IMAGE
  INTERCHANGE_FORMAT = BINARY
  LINES = 1191
  LINE_SAMPLES = 1207
  SAMPLE_TYPE = UNSIGNED_INTEGER
  SAMPLE_BITS = 8
  BANDS = 1
  BAND_STORAGE_TYPE = BAND_SEQUENTIAL
  MAXIMUM = 4760
  MEAN = 4401.28
  MINIMUM = 3677
  STANDARD_DEVIATION = 75.7325
END_OBJECT = IMAGE
/* MAP OBJECT DEFINITIONS */
OBJECT = IMAGE_MAP_PROJECTION
  ^DATA_SET_MAP_PROJECTION_CATALOG= "DSMAP.CAT"
  A_AXIS_RADIUS = 3396.19
  B_AXIS_RADIUS = 3396.19
  C_AXIS_RADIUS = 3396.19
  CENTER_LATITUDE = 0.0
  CENTER_LONGITUDE = 35.0
  COORDINATE_SYSTEM_NAME = PLANETOGRAPHIC
  COORDINATE_SYSTEM_TYPE = "BODY-FIXED ROTATING"
  EASTERNMOST_LONGITUDE = 35.4087
  FIRST_STANDARD_PARALLEL = "N/A"
  LINE_FIRST_PIXEL = 1
  LINE_LAST_PIXEL = 1191
  LINE_PROJECTION_OFFSET = 101817.0
  MAP_PROJECTION_ROTATION = 0.0
  MAP_PROJECTION_TYPE = SINUSOIDAL
  MAP_RESOLUTION = 23709.8786048756
  MAP_SCALE = 0.0025
  MAXIMUM_LATITUDE = 4.29351
  MINIMUM_LATITUDE = 4.24503
  POSITIVE_LONGITUDE_DIRECTION = EAST
  REFERENCE_LATITUDE = "N/A"
  REFERENCE_LONGITUDE = "N/A"
  SAMPLE_FIRST_PIXEL = 1
  SAMPLE_LAST_PIXEL = 1207
  SAMPLE_PROJECTION_OFFSET = -8477.0
  SECOND_STANDARD_PARALLEL = "N/A"
  WESTERNMOST_LONGITUDE = 35.3594
END_OBJECT = IMAGE_MAP_PROJECTION
/* The JPEG2000 image data file associated with this label. */
OBJECT = COMPRESSED_FILE
  FILE_NAME = "H1972_0005_SR3.JP2"
  RECORD_TYPE = UNDEFINED
  FILE_RECORDS = UNK
  ENCODING_TYPE = "JP2"
  INTERCHANGE_FORMAT = BINARY
  UNCOMPRESSED_FILE_NAME = "H1972_0005_SR3.IMG"
  REQUIRED_STORAGE_BYTES = "1456849"
  ^DESCRIPTION = "JP2INFO.TXT"
END_OBJECT = COMPRESSED_FILE
END
