PDS_VERSION_ID = PDS3
/* FILE DATA ELEMENTS */
RECORD_TYPE = STREAM
/* POINTERS TO DATA OBJECTS */
^COMPRESSED_FILE = "H1972_0006_SR3.JP2"
/* IDENTIFICATION DATA ELEMENTS */
DATA_SET_ID = "MEX-M-HRSC-5-REFDR-MAPPROJECTED-V3.0"
DATA_SET_NAME = "MARS EXPRESS HRSC MAP PROJECTED REFDR V3.0"
DETECTOR_ID = MEX_HRSC_SRC
EVENT_TYPE = "MARS-LOCAL-COLOR-Vo-Im-Lc"
INSTRUMENT_HOST_ID = MEX
INSTRUMENT_HOST_NAME = "MARS EXPRESS"
INSTRUMENT_ID = HRSC
INSTRUMENT_NAME = "HIGH RESOLUTION STEREO CAMERA"
MISSION_NAME = "MARS EXPRESS"
MISSION_PHASE_NAME = MR_Phase_7
PROCESSING_LEVEL_ID = 3
PRODUCT_CREATION_TIME = 2016-03-09T16:25:58.000Z
PRODUCT_ID = "H1972_0006_SR3.JP2"
RELEASE_ID = 0025
REVISION_ID = 0000
/* QUALITY DATA ELEMENTS */
DATA_QUALITY_ID = 1
DATA_QUALITY_DESC = "Data calculated based on original SPICE kernels"
/* TIME DATA ELEMENTS */
SPACECRAFT_CLOCK_START_COUNT = "1/0070668691.56201"
SPACECRAFT_CLOCK_STOP_COUNT = "1/0070669038.32618"
IMAGE_TIME = 2005-07-28T22:16:25.475Z
START_TIME = 2005-07-28T22:16:25.473Z
STOP_TIME = 2005-07-28T22:16:25.478Z
/* ORBITAL DATA ELEMENTS */
ASCENDING_NODE_LONGITUDE = 186.95
MAXIMUM_RESOLUTION = 2.845
FOOTPRINT_POINT_LATITUDE = (4.28277,4.28459,4.28613,4.28771, 4.28906,4.2905,4.29203,4.29376,4.29563, 4.29847,4.3012,4.30346,4.30624,4.30802, 4.31071,4.31253,4.31474,4.31767,4.31959 ,4.32103,4.32372,4.32535,4.32761, 4.32915,4.32915,4.32916,4.32916,4.32917 ,4.32917,4.32918,4.32918,4.32919, 4.32919,4.3292,4.3292,4.32921,4.32921, 4.32922,4.32922,4.32923,4.32923,4.32924 ,4.32924,4.32925,4.32925,4.32926, 4.32926,4.32927,4.3287,4.32687,4.32528, 4.32293,4.32053,4.31913,4.31788,4.31596 ,4.31341,4.31164,4.31044,4.3088,4.3076, 4.30592,4.30395,4.30265,4.30083,4.29837 ,4.29674,4.29506,4.29343,4.2916,4.2891, 4.28689,4.28506,4.28242,4.28088,4.28088 ,4.28087,4.28087,4.28087,4.28086, 4.28086,4.28086,4.28085,4.28085,4.28085 ,4.28084,4.28084,4.28084,4.28083, 4.28083,4.28083,4.28083,4.28082,4.28082 ,4.28082,4.28081,4.28081,4.28081,4.2808 ,4.28277)
FOOTPRINT_POINT_LONGITUDE = (35.3595,35.3595,35.3595,35.3595, 35.3595,35.3595,35.3595,35.3595,35.3595 ,35.3595,35.3595,35.3595,35.3595, 35.3595,35.3595,35.3595,35.3595,35.3595 ,35.3595,35.3595,35.3595,35.3595, 35.3595,35.3595,35.3614,35.3634,35.3653 ,35.3672,35.3692,35.3711,35.373,35.375, 35.3769,35.3788,35.3808,35.3827,35.3846 ,35.3866,35.3885,35.3905,35.3924, 35.3943,35.3963,35.3982,35.4001,35.4021 ,35.404,35.4059,35.4087,35.4087,35.4087 ,35.4087,35.4087,35.4087,35.4087, 35.4087,35.4087,35.4087,35.4087,35.4087 ,35.4087,35.4087,35.4087,35.4087, 35.4087,35.4087,35.4087,35.4087,35.4087 ,35.4087,35.4087,35.4087,35.4087, 35.4087,35.4072,35.4053,35.4033,35.4014 ,35.3994,35.3975,35.3956,35.3936, 35.3917,35.3898,35.3878,35.3859,35.384, 35.382,35.3801,35.3782,35.3762,35.3743, 35.3723,35.3704,35.3685,35.3665,35.3646 ,35.3627,35.3607,35.3595)
ORBIT_NUMBER = 1972
ORBITAL_ECCENTRICITY = 0.572
ORBITAL_INCLINATION = 86.58
ORBITAL_SEMIMAJOR_AXIS = 8625.21
PERIAPSIS_ALTITUDE = 298.61
PERIAPSIS_ARGUMENT_ANGLE = 12.1
PERIAPSIS_TIME = 2005-07-28T22:18:24.000Z
SPACECRAFT_ORIENTATION = (0.0,1.0,0.0)
^MEX_ORIENTATION_DESC = "MEX_ORIENTATION_DESC.TXT"
SPACECRAFT_POINTING_MODE = ACROSSTRACK
^MEX_POINTING_DESC = "MEX_POINTING_DESC.TXT"
RIGHT_ASCENSION = -1e+32
DECLINATION = -1e+32
OFFSET_ANGLE = -0.45
SPACECRAFT_SOLAR_DISTANCE = 2.06777e+08
TARGET_NAME = MARS
/* CAMERA DATA ELEMENTS */
BUFFER_MODE_ID = BUFFER_8
EXPOSURE_DURATION = 5.04
INST_CMPRS_NAME = NONE
INST_CMPRS_RATIO = 1.0
INST_CMPRS_QUALITY = -2147483648
INST_CMPRS_QUANTZ_TBL_ID = -2147483648
INSTRUMENT_TEMPERATURE = 15.3087
MISSING_FRAMES = 0
START_BIT = 0
/* RADIOMETRIC DATA ELEMENTS */
BANDWIDTH = 250.0
CENTER_FILTER_WAVELENGTH = 600.0
RADIANCE_OFFSET = -9.99e+31
RADIANCE_SCALING_FACTOR = -9.99e+31
REFLECTANCE_SCALING_FACTOR = -9.99e+31
MEX:REFLECTANCE_OFFSET = -9.99e+31
/* IMAGE OBJECT DEFINITIONS */
OBJECT = IMAGE
  INTERCHANGE_FORMAT = BINARY
  LINES = 1190
  LINE_SAMPLES = 1206
  SAMPLE_TYPE = UNSIGNED_INTEGER
  SAMPLE_BITS = 8
  BANDS = 1
  BAND_STORAGE_TYPE = BAND_SEQUENTIAL
  MAXIMUM = 4735
  MEAN = 4381.77
  MINIMUM = 3678
  STANDARD_DEVIATION = 77.2191
END_OBJECT = IMAGE
/* MAP OBJECT DEFINITIONS */
OBJECT = IMAGE_MAP_PROJECTION
  ^DATA_SET_MAP_PROJECTION_CATALOG= "DSMAP.CAT"
  A_AXIS_RADIUS = 3396.19
  B_AXIS_RADIUS = 3396.19
  C_AXIS_RADIUS = 3396.19
  CENTER_LATITUDE = 0.0
  CENTER_LONGITUDE = 35.0
  COORDINATE_SYSTEM_NAME = PLANETOGRAPHIC
  COORDINATE_SYSTEM_TYPE = "BODY-FIXED ROTATING"
  EASTERNMOST_LONGITUDE = 35.4087
  FIRST_STANDARD_PARALLEL = "N/A"
  LINE_FIRST_PIXEL = 1
  LINE_LAST_PIXEL = 1190
  LINE_PROJECTION_OFFSET = 102665.0
  MAP_PROJECTION_ROTATION = 0.0
  MAP_PROJECTION_TYPE = SINUSOIDAL
  MAP_RESOLUTION = 23709.8786048756
  MAP_SCALE = 0.0025
  MAXIMUM_LATITUDE = 4.32927
  MINIMUM_LATITUDE = 4.2808
  POSITIVE_LONGITUDE_DIRECTION = EAST
  REFERENCE_LATITUDE = "N/A"
  REFERENCE_LONGITUDE = "N/A"
  SAMPLE_FIRST_PIXEL = 1
  SAMPLE_LAST_PIXEL = 1206
  SAMPLE_PROJECTION_OFFSET = -8476.0
  SECOND_STANDARD_PARALLEL = "N/A"
  WESTERNMOST_LONGITUDE = 35.3595
END_OBJECT = IMAGE_MAP_PROJECTION
/* The JPEG2000 image data file associated with this label. */
OBJECT = COMPRESSED_FILE
  FILE_NAME = "H1972_0006_SR3.JP2"
  RECORD_TYPE = UNDEFINED
  FILE_RECORDS = UNK
  ENCODING_TYPE = "JP2"
  INTERCHANGE_FORMAT = BINARY
  UNCOMPRESSED_FILE_NAME = "H1972_0006_SR3.IMG"
  REQUIRED_STORAGE_BYTES = "1454436"
  ^DESCRIPTION = "JP2INFO.TXT"
END_OBJECT = COMPRESSED_FILE
END
