PDS_VERSION_ID = PDS3
/* FILE DATA ELEMENTS */
RECORD_TYPE = STREAM
/* POINTERS TO DATA OBJECTS */
^COMPRESSED_FILE = "H1973_0006_SR3.JP2"
/* IDENTIFICATION DATA ELEMENTS */
DATA_SET_ID = "MEX-M-HRSC-5-REFDR-MAPPROJECTED-V3.0"
DATA_SET_NAME = "MARS EXPRESS HRSC MAP PROJECTED REFDR V3.0"
DETECTOR_ID = MEX_HRSC_SRC
EVENT_TYPE = "MARS-REGIONAL-STEREO-Vo-Lc-La"
INSTRUMENT_HOST_ID = MEX
INSTRUMENT_HOST_NAME = "MARS EXPRESS"
INSTRUMENT_ID = HRSC
INSTRUMENT_NAME = "HIGH RESOLUTION STEREO CAMERA"
MISSION_NAME = "MARS EXPRESS"
MISSION_PHASE_NAME = MR_Phase_7
PROCESSING_LEVEL_ID = 3
PRODUCT_CREATION_TIME = 2016-03-09T16:25:58.000Z
PRODUCT_ID = "H1973_0006_SR3.JP2"
RELEASE_ID = 0025
REVISION_ID = 0000
/* QUALITY DATA ELEMENTS */
DATA_QUALITY_ID = 1
DATA_QUALITY_DESC = "Data calculated based on original SPICE kernels"
/* TIME DATA ELEMENTS */
SPACECRAFT_CLOCK_START_COUNT = "1/0070692804.57930"
SPACECRAFT_CLOCK_STOP_COUNT = "1/0070693107.22922"
IMAGE_TIME = 2005-07-29T04:57:23.412Z
START_TIME = 2005-07-29T04:57:23.409Z
STOP_TIME = 2005-07-29T04:57:23.414Z
/* ORBITAL DATA ELEMENTS */
ASCENDING_NODE_LONGITUDE = 186.92
MAXIMUM_RESOLUTION = 3.236
FOOTPRINT_POINT_LATITUDE = (-4.76167,-4.75927,-4.75741,-4.75468, -4.75152,-4.74956,-4.74655,-4.7429, -4.74028,-4.73853,-4.73613,-4.73439, -4.73264,-4.73029,-4.72806,-4.72566, -4.72396,-4.72167,-4.72014,-4.71796, -4.71512,-4.71332,-4.71169,-4.70939, -4.70781,-4.7078,-4.70779,-4.70778, -4.70777,-4.70776,-4.70775,-4.70774, -4.70773,-4.70772,-4.70771,-4.7077, -4.70769,-4.70768,-4.7074,-4.70738, -4.70737,-4.70736,-4.70735,-4.70734, -4.70733,-4.70732,-4.70731,-4.7073, -4.70729,-4.70728,-4.70771,-4.70969, -4.71233,-4.71425,-4.71628,-4.71788, -4.72013,-4.72294,-4.72497,-4.72794, -4.73014,-4.73157,-4.73394,-4.73679, -4.73894,-4.74196,-4.74411,-4.74581, -4.74928,-4.75159,-4.75379,-4.75555, -4.75758,-4.76077,-4.76264,-4.76265, -4.76266,-4.76267,-4.76268,-4.76269, -4.7627,-4.76271,-4.76272,-4.76273, -4.76274,-4.76275,-4.76276,-4.76264, -4.76265,-4.76266,-4.76267,-4.76268, -4.76269,-4.7627,-4.76271,-4.76272, -4.76273,-4.76274,-4.76275,-4.76167)
FOOTPRINT_POINT_LONGITUDE = (296.911,296.911,296.911,296.911, 296.911,296.911,296.911,296.911,296.911 ,296.911,296.911,296.911,296.911, 296.911,296.911,296.911,296.911,296.911 ,296.911,296.911,296.911,296.911, 296.911,296.911,296.911,296.913,296.915 ,296.917,296.92,296.922,296.924,296.926 ,296.928,296.931,296.933,296.935, 296.937,296.939,296.941,296.944,296.946 ,296.948,296.95,296.952,296.955,296.957 ,296.959,296.961,296.964,296.966, 296.969,296.969,296.969,296.969,296.969 ,296.969,296.969,296.969,296.969, 296.969,296.969,296.969,296.969,296.969 ,296.969,296.969,296.969,296.969, 296.969,296.969,296.969,296.969,296.969 ,296.969,296.968,296.966,296.963, 296.961,296.959,296.957,296.955,296.952 ,296.95,296.948,296.946,296.944,296.941 ,296.939,296.936,296.934,296.932, 296.929,296.927,296.925,296.923,296.921 ,296.918,296.916,296.914,296.911)
ORBIT_NUMBER = 1973
ORBITAL_ECCENTRICITY = 0.572
ORBITAL_INCLINATION = 86.59
ORBITAL_SEMIMAJOR_AXIS = 8622.8
PERIAPSIS_ALTITUDE = 298.63
PERIAPSIS_ARGUMENT_ANGLE = 11.92
PERIAPSIS_TIME = 2005-07-29T05:01:38.000Z
SPACECRAFT_ORIENTATION = (0.0,1.0,0.0)
^MEX_ORIENTATION_DESC = "MEX_ORIENTATION_DESC.TXT"
SPACECRAFT_POINTING_MODE = ACROSSTRACK
^MEX_POINTING_DESC = "MEX_POINTING_DESC.TXT"
RIGHT_ASCENSION = -1e+32
DECLINATION = -1e+32
OFFSET_ANGLE = -0.28
SPACECRAFT_SOLAR_DISTANCE = 2.06784e+08
TARGET_NAME = MARS
/* CAMERA DATA ELEMENTS */
BUFFER_MODE_ID = BUFFER_8
EXPOSURE_DURATION = 5.04
INST_CMPRS_NAME = NONE
INST_CMPRS_RATIO = 1.0
INST_CMPRS_QUALITY = -2147483648
INST_CMPRS_QUANTZ_TBL_ID = -2147483648
INSTRUMENT_TEMPERATURE = 14.7344
MISSING_FRAMES = 0
START_BIT = 0
/* RADIOMETRIC DATA ELEMENTS */
BANDWIDTH = 250.0
CENTER_FILTER_WAVELENGTH = 600.0
RADIANCE_OFFSET = -9.99e+31
RADIANCE_SCALING_FACTOR = -9.99e+31
REFLECTANCE_SCALING_FACTOR = -9.99e+31
MEX:REFLECTANCE_OFFSET = -9.99e+31
/* IMAGE OBJECT DEFINITIONS */
OBJECT = IMAGE
  INTERCHANGE_FORMAT = BINARY
  LINES = 1359
  LINE_SAMPLES = 1374
  SAMPLE_TYPE = UNSIGNED_INTEGER
  SAMPLE_BITS = 8
  BANDS = 1
  BAND_STORAGE_TYPE = BAND_SEQUENTIAL
  MAXIMUM = 4452
  MEAN = 3490.52
  MINIMUM = 2931
  STANDARD_DEVIATION = 129.646
END_OBJECT = IMAGE
/* MAP OBJECT DEFINITIONS */
OBJECT = IMAGE_MAP_PROJECTION
  ^DATA_SET_MAP_PROJECTION_CATALOG= "DSMAP.CAT"
  A_AXIS_RADIUS = 3396.19
  B_AXIS_RADIUS = 3396.19
  C_AXIS_RADIUS = 3396.19
  CENTER_LATITUDE = 0.0
  CENTER_LONGITUDE = 297.0
  COORDINATE_SYSTEM_NAME = PLANETOGRAPHIC
  COORDINATE_SYSTEM_TYPE = "BODY-FIXED ROTATING"
  EASTERNMOST_LONGITUDE = 296.969
  FIRST_STANDARD_PARALLEL = "N/A"
  LINE_FIRST_PIXEL = 1
  LINE_LAST_PIXEL = 1359
  LINE_PROJECTION_OFFSET = -111588.0
  MAP_PROJECTION_ROTATION = 0.0
  MAP_PROJECTION_TYPE = SINUSOIDAL
  MAP_RESOLUTION = 23709.8786048756
  MAP_SCALE = 0.0025
  MAXIMUM_LATITUDE = -4.70728
  MINIMUM_LATITUDE = -4.76276
  POSITIVE_LONGITUDE_DIRECTION = EAST
  REFERENCE_LATITUDE = "N/A"
  REFERENCE_LONGITUDE = "N/A"
  SAMPLE_FIRST_PIXEL = 1
  SAMPLE_LAST_PIXEL = 1374
  SAMPLE_PROJECTION_OFFSET = 2085.0
  SECOND_STANDARD_PARALLEL = "N/A"
  WESTERNMOST_LONGITUDE = 296.911
END_OBJECT = IMAGE_MAP_PROJECTION
/* The JPEG2000 image data file associated with this label. */
OBJECT = COMPRESSED_FILE
  FILE_NAME = "H1973_0006_SR3.JP2"
  RECORD_TYPE = UNDEFINED
  FILE_RECORDS = UNK
  ENCODING_TYPE = "JP2"
  INTERCHANGE_FORMAT = BINARY
  UNCOMPRESSED_FILE_NAME = "H1973_0006_SR3.IMG"
  REQUIRED_STORAGE_BYTES = "1886502"
  ^DESCRIPTION = "JP2INFO.TXT"
END_OBJECT = COMPRESSED_FILE
END
