PDS_VERSION_ID = PDS3
/* FILE DATA ELEMENTS */
RECORD_TYPE = STREAM
/* POINTERS TO DATA OBJECTS */
^COMPRESSED_FILE = "H1974_0000_P23.JP2"
/* IDENTIFICATION DATA ELEMENTS */
DATA_SET_ID = "MEX-M-HRSC-5-REFDR-MAPPROJECTED-V3.0"
DATA_SET_NAME = "MARS EXPRESS HRSC MAP PROJECTED REFDR V3.0"
DETECTOR_ID = MEX_HRSC_P2
EVENT_TYPE = "MARS-REGIONAL-MAPPING-Vo-Eo-At"
INSTRUMENT_HOST_ID = MEX
INSTRUMENT_HOST_NAME = "MARS EXPRESS"
INSTRUMENT_ID = HRSC
INSTRUMENT_NAME = "HIGH RESOLUTION STEREO CAMERA"
MISSION_NAME = "MARS EXPRESS"
MISSION_PHASE_NAME = MR_Phase_7
PROCESSING_LEVEL_ID = 3
PRODUCT_CREATION_TIME = 2016-03-09T16:25:58.000Z
PRODUCT_ID = "H1974_0000_P23.JP2"
RELEASE_ID = 0025
REVISION_ID = 0000
/* QUALITY DATA ELEMENTS */
DATA_QUALITY_ID = 1
DATA_QUALITY_DESC = "Data calculated based on original SPICE kernels"
/* TIME DATA ELEMENTS */
SPACECRAFT_CLOCK_START_COUNT = "1/0070717107.56177"
SPACECRAFT_CLOCK_STOP_COUNT = "1/0070717522.54738"
START_TIME = 2005-07-29T11:38:49.222Z
STOP_TIME = 2005-07-29T11:44:43.749Z
/* ORBITAL DATA ELEMENTS */
ASCENDING_NODE_LONGITUDE = 186.9
MAXIMUM_RESOLUTION = 50
FOOTPRINT_POINT_LATITUDE = (-9.72668,-9.73943,-9.73642,-9.46987, -8.95103,-8.16663,-7.64174,-7.114, -6.58522,-6.0541,-5.5222,-4.98958, -4.31593,-3.86643,-3.41476,-2.95796, -2.2762,-1.82209,-1.36736,-0.909767, -0.451707,-0.00604371,0.442449,1.11217, 1.5601,1.99331,2.4278,2.86368,3.30149, 3.73907,4.1724,4.59589,5.02078,5.44608, 5.87165,6.51124,6.93785,7.36494,7.79061 ,8.20361,8.61695,9.03067,9.44497, 9.86003,10.2755,10.8995,11.3157,11.7322 ,12.1491,12.5661,12.8122,12.8212, 12.8312,12.4186,12.0019,11.3771,10.9611 ,10.3371,9.92184,9.50714,9.09293, 8.67906,8.26572,7.85287,7.42826,7.00094 ,6.57444,6.14835,5.72283,5.29807, 4.87397,4.238,3.80541,3.36723,2.93087, 2.27755,1.62652,0.956682,0.509735, 0.0641592,-0.381053,-0.839399,-1.29789, -1.75473,-2.20939,-2.66298,-3.11564, -3.56365,-4.0154,-4.4683,-4.91763, -5.71191,-6.24278,-6.77579,-7.30452, -7.82471,-8.34999,-8.87277,-9.65798, -9.72668)
FOOTPRINT_POINT_LONGITUDE = (199.195,198.76,198.352,198.356,198.364 ,198.374,198.381,198.387,198.394,198.4, 198.405,198.411,198.418,198.422,198.426 ,198.43,198.436,198.44,198.443,198.447, 198.45,198.453,198.456,198.46,198.463, 198.465,198.468,198.47,198.472,198.475, 198.477,198.479,198.48,198.482,198.484, 198.487,198.488,198.49,198.491,198.492, 198.494,198.495,198.496,198.497,198.498 ,198.5,198.501,198.502,198.503,198.503, 198.796,199.105,199.44,199.611,199.608, 199.605,199.603,199.6,199.598,199.597, 199.597,199.596,199.596,199.596,199.597 ,199.597,199.598,199.6,199.601,199.603, 199.605,199.608,199.61,199.612,199.615, 199.62,199.627,199.634,199.639,199.644, 199.649,199.656,199.661,199.667,199.675 ,199.682,199.69,199.701,199.708,199.714 ,199.721,199.738,199.749,199.757, 199.768,199.785,199.796,199.808,199.827 ,199.195)
ORBIT_NUMBER = 1974
ORBITAL_ECCENTRICITY = 0.571
ORBITAL_INCLINATION = 86.59
ORBITAL_SEMIMAJOR_AXIS = 8618.41
PERIAPSIS_ALTITUDE = 298.8
PERIAPSIS_ARGUMENT_ANGLE = 11.71
PERIAPSIS_TIME = 2005-07-29T11:44:45.000Z
SPACECRAFT_ORIENTATION = (0.0,1.0,0.0)
^MEX_ORIENTATION_DESC = "MEX_ORIENTATION_DESC.TXT"
SPACECRAFT_POINTING_MODE = ACROSSTRACK
^MEX_POINTING_DESC = "MEX_POINTING_DESC.TXT"
RIGHT_ASCENSION = -1e+32
DECLINATION = -1e+32
OFFSET_ANGLE = -0.65
SPACECRAFT_SOLAR_DISTANCE = 2.06791e+08
TARGET_NAME = MARS
/* CAMERA DATA ELEMENTS */
DETECTOR_TEMPERATURE = 18.9822
FOCAL_PLANE_TEMPERATURE = 9.6028
INST_CMPRS_NAME = "DISCRETE COSINE TRANSFORMATION (DCT)"
INST_CMPRS_RATIO = 7.75531
INST_CMPRS_QUALITY = 0
INST_CMPRS_QUANTZ_TBL_ID = 0
INSTRUMENT_TEMPERATURE = 11.4379
LENS_TEMPERATURE = 9.8067
MACROPIXEL_SIZE = 4
MISSING_FRAMES = 0
PIXEL_SUBSAMPLING_FLAG = N
SIGNAL_CHAIN_ID = 3
/* RADIOMETRIC DATA ELEMENTS */
BANDWIDTH = 177.0
CENTER_FILTER_WAVELENGTH = 676.5
RADIANCE_OFFSET = 3.71143
RADIANCE_SCALING_FACTOR = 0.0163273
REFLECTANCE_SCALING_FACTOR = 0.000370197
MEX:REFLECTANCE_OFFSET = 0.0841511
/* IMAGE OBJECT DEFINITIONS */
OBJECT = IMAGE
  INTERCHANGE_FORMAT = BINARY
  LINES = 26730
  LINE_SAMPLES = 1744
  SAMPLE_TYPE = UNSIGNED_INTEGER
  SAMPLE_BITS = 8
  BANDS = 1
  BAND_STORAGE_TYPE = BAND_SEQUENTIAL
  MAXIMUM = 342
  MEAN = 236.292
  MINIMUM = 151
  STANDARD_DEVIATION = 34.3622
END_OBJECT = IMAGE
/* MAP OBJECT DEFINITIONS */
OBJECT = IMAGE_MAP_PROJECTION
  ^DATA_SET_MAP_PROJECTION_CATALOG= "DSMAP.CAT"
  A_AXIS_RADIUS = 3396.0
  B_AXIS_RADIUS = 3396.0
  C_AXIS_RADIUS = 3396.0
  CENTER_LATITUDE = 0.0
  CENTER_LONGITUDE = 199.0
  COORDINATE_SYSTEM_NAME = PLANETOGRAPHIC
  COORDINATE_SYSTEM_TYPE = "BODY-FIXED ROTATING"
  EASTERNMOST_LONGITUDE = 199.827
  FIRST_STANDARD_PARALLEL = "N/A"
  LINE_FIRST_PIXEL = 1
  LINE_LAST_PIXEL = 26730
  LINE_PROJECTION_OFFSET = 15178.625
  MAP_PROJECTION_ROTATION = 0.0
  MAP_PROJECTION_TYPE = SINUSOIDAL
  MAP_RESOLUTION = 1185.42760773333
  MAP_SCALE = 0.05
  MAXIMUM_LATITUDE = 12.8312
  MINIMUM_LATITUDE = -9.73943
  POSITIVE_LONGITUDE_DIRECTION = EAST
  REFERENCE_LATITUDE = "N/A"
  REFERENCE_LONGITUDE = "N/A"
  SAMPLE_FIRST_PIXEL = 1
  SAMPLE_LAST_PIXEL = 1744
  SAMPLE_PROJECTION_OFFSET = 728.875
  SECOND_STANDARD_PARALLEL = "N/A"
  WESTERNMOST_LONGITUDE = 198.352
END_OBJECT = IMAGE_MAP_PROJECTION
/* The JPEG2000 image data file associated with this label. */
OBJECT = COMPRESSED_FILE
  FILE_NAME = "H1974_0000_P23.JP2"
  RECORD_TYPE = UNDEFINED
  FILE_RECORDS = UNK
  ENCODING_TYPE = "JP2"
  INTERCHANGE_FORMAT = BINARY
  UNCOMPRESSED_FILE_NAME = "H1974_0000_P23.IMG"
  REQUIRED_STORAGE_BYTES = "46638048"
  ^DESCRIPTION = "JP2INFO.TXT"
END_OBJECT = COMPRESSED_FILE
END
