PDS_VERSION_ID = PDS3
/* FILE DATA ELEMENTS */
RECORD_TYPE = STREAM
/* POINTERS TO DATA OBJECTS */
^COMPRESSED_FILE = "H1974_0000_RE3.JP2"
/* IDENTIFICATION DATA ELEMENTS */
DATA_SET_ID = "MEX-M-HRSC-5-REFDR-MAPPROJECTED-V3.0"
DATA_SET_NAME = "MARS EXPRESS HRSC MAP PROJECTED REFDR V3.0"
DETECTOR_ID = MEX_HRSC_RED
EVENT_TYPE = "MARS-REGIONAL-MAPPING-Vo-Eo-At"
INSTRUMENT_HOST_ID = MEX
INSTRUMENT_HOST_NAME = "MARS EXPRESS"
INSTRUMENT_ID = HRSC
INSTRUMENT_NAME = "HIGH RESOLUTION STEREO CAMERA"
MISSION_NAME = "MARS EXPRESS"
MISSION_PHASE_NAME = MR_Phase_7
PROCESSING_LEVEL_ID = 3
PRODUCT_CREATION_TIME = 2016-03-09T16:25:58.000Z
PRODUCT_ID = "H1974_0000_RE3.JP2"
RELEASE_ID = 0025
REVISION_ID = 0000
/* QUALITY DATA ELEMENTS */
DATA_QUALITY_ID = 1
DATA_QUALITY_DESC = "Data calculated based on original SPICE kernels"
/* TIME DATA ELEMENTS */
SPACECRAFT_CLOCK_START_COUNT = "1/0070717107.56177"
SPACECRAFT_CLOCK_STOP_COUNT = "1/0070717522.54738"
START_TIME = 2005-07-29T11:38:42.088Z
STOP_TIME = 2005-07-29T11:44:39.233Z
/* ORBITAL DATA ELEMENTS */
ASCENDING_NODE_LONGITUDE = 186.9
MAXIMUM_RESOLUTION = 50.8
FOOTPRINT_POINT_LATITUDE = (-9.73646,-9.75184,-9.48474,-8.96205, -8.44666,-7.92819,-7.40833,-6.88631, -6.3634,-5.57409,-5.04532,-4.53471, -4.08899,-3.64393,-3.19385,-2.73864, -2.29007,-1.83962,-1.38975,-0.935888, -0.481091,-0.0274472,0.417458,1.08301, 1.52906,1.97075,2.40228,2.83569,3.2712, 3.70652,4.14196,4.78279,5.20603,5.62983 ,6.05399,6.47922,6.90445,7.32989, 7.75616,8.17826,8.59034,9.00295,9.41628 ,9.83059,10.2451,10.8684,11.2841, 11.7001,12.1166,12.5333,12.8224,12.8483 ,12.4315,12.0152,11.3906,10.7674,10.352 ,9.93737,9.52344,9.11018,8.69725, 8.28494,7.86532,7.43909,7.01297,6.58791 ,6.16355,5.73956,5.31658,4.89434, 4.47168,3.81992,3.38351,2.94948,2.29976 ,1.86604,1.42078,0.976974,0.532729, 0.0903012,-0.362273,-0.81716,-1.49921, -1.95131,-2.40113,-2.85014,-3.29685, -3.73969,-4.18699,-4.65152,-5.18096, -5.70634,-6.23146,-6.75927,-7.28219, -8.05389,-8.57299,-9.08821,-9.61505, -9.73646)
FOOTPRINT_POINT_LONGITUDE = (199.197,198.756,198.347,198.355, 198.362,198.369,198.376,198.383,198.389 ,198.398,198.404,198.41,198.414,198.418 ,198.423,198.427,198.431,198.435, 198.438,198.442,198.445,198.448,198.452 ,198.456,198.459,198.462,198.464, 198.467,198.469,198.471,198.473,198.477 ,198.479,198.48,198.482,198.484,198.486 ,198.487,198.489,198.49,198.492,198.493 ,198.494,198.495,198.497,198.498, 198.499,198.5,198.501,198.502,198.919, 199.614,199.612,199.609,199.606,199.603 ,199.601,199.6,199.599,199.599,199.598, 199.598,199.598,199.599,199.6,199.601, 199.602,199.604,199.606,199.608,199.61, 199.613,199.615,199.619,199.624,199.628 ,199.633,199.638,199.643,199.648, 199.654,199.66,199.669,199.675,199.683, 199.691,199.7,199.711,199.718,199.723, 199.733,199.745,199.756,199.765,199.775 ,199.798,199.809,199.823,199.836, 199.197)
ORBIT_NUMBER = 1974
ORBITAL_ECCENTRICITY = 0.571
ORBITAL_INCLINATION = 86.59
ORBITAL_SEMIMAJOR_AXIS = 8618.41
PERIAPSIS_ALTITUDE = 298.8
PERIAPSIS_ARGUMENT_ANGLE = 11.71
PERIAPSIS_TIME = 2005-07-29T11:44:45.000Z
SPACECRAFT_ORIENTATION = (0.0,1.0,0.0)
^MEX_ORIENTATION_DESC = "MEX_ORIENTATION_DESC.TXT"
SPACECRAFT_POINTING_MODE = ACROSSTRACK
^MEX_POINTING_DESC = "MEX_POINTING_DESC.TXT"
RIGHT_ASCENSION = -1e+32
DECLINATION = -1e+32
OFFSET_ANGLE = -0.65
SPACECRAFT_SOLAR_DISTANCE = 2.06791e+08
TARGET_NAME = MARS
/* CAMERA DATA ELEMENTS */
DETECTOR_TEMPERATURE = 18.9822
FOCAL_PLANE_TEMPERATURE = 9.6028
INST_CMPRS_NAME = "DISCRETE COSINE TRANSFORMATION (DCT)"
INST_CMPRS_RATIO = 11.8296
INST_CMPRS_QUALITY = 0
INST_CMPRS_QUANTZ_TBL_ID = 0
INSTRUMENT_TEMPERATURE = 11.4379
LENS_TEMPERATURE = 9.8067
MACROPIXEL_SIZE = 4
MISSING_FRAMES = 0
PIXEL_SUBSAMPLING_FLAG = N
SIGNAL_CHAIN_ID = 2
/* RADIOMETRIC DATA ELEMENTS */
BANDWIDTH = 48.0
CENTER_FILTER_WAVELENGTH = 748.0
RADIANCE_OFFSET = 1.01411
RADIANCE_SCALING_FACTOR = 0.00497896
REFLECTANCE_SCALING_FACTOR = 0.000485877
MEX:REFLECTANCE_OFFSET = 0.0989631
/* IMAGE OBJECT DEFINITIONS */
OBJECT = IMAGE
  INTERCHANGE_FORMAT = BINARY
  LINES = 26730
  LINE_SAMPLES = 1744
  SAMPLE_TYPE = UNSIGNED_INTEGER
  SAMPLE_BITS = 8
  BANDS = 1
  BAND_STORAGE_TYPE = BAND_SEQUENTIAL
  MAXIMUM = 297
  MEAN = 198.271
  MINIMUM = 123
  STANDARD_DEVIATION = 30.3813
END_OBJECT = IMAGE
/* MAP OBJECT DEFINITIONS */
OBJECT = IMAGE_MAP_PROJECTION
  ^DATA_SET_MAP_PROJECTION_CATALOG= "DSMAP.CAT"
  A_AXIS_RADIUS = 3396.0
  B_AXIS_RADIUS = 3396.0
  C_AXIS_RADIUS = 3396.0
  CENTER_LATITUDE = 0.0
  CENTER_LONGITUDE = 199.0
  COORDINATE_SYSTEM_NAME = PLANETOGRAPHIC
  COORDINATE_SYSTEM_TYPE = "BODY-FIXED ROTATING"
  EASTERNMOST_LONGITUDE = 199.836
  FIRST_STANDARD_PARALLEL = "N/A"
  LINE_FIRST_PIXEL = 1
  LINE_LAST_PIXEL = 26730
  LINE_PROJECTION_OFFSET = 15178.625
  MAP_PROJECTION_ROTATION = 0.0
  MAP_PROJECTION_TYPE = SINUSOIDAL
  MAP_RESOLUTION = 1185.42760773333
  MAP_SCALE = 0.05
  MAXIMUM_LATITUDE = 12.8483
  MINIMUM_LATITUDE = -9.75184
  POSITIVE_LONGITUDE_DIRECTION = EAST
  REFERENCE_LATITUDE = "N/A"
  REFERENCE_LONGITUDE = "N/A"
  SAMPLE_FIRST_PIXEL = 1
  SAMPLE_LAST_PIXEL = 1744
  SAMPLE_PROJECTION_OFFSET = 728.875
  SECOND_STANDARD_PARALLEL = "N/A"
  WESTERNMOST_LONGITUDE = 198.347
END_OBJECT = IMAGE_MAP_PROJECTION
/* The JPEG2000 image data file associated with this label. */
OBJECT = COMPRESSED_FILE
  FILE_NAME = "H1974_0000_RE3.JP2"
  RECORD_TYPE = UNDEFINED
  FILE_RECORDS = UNK
  ENCODING_TYPE = "JP2"
  INTERCHANGE_FORMAT = BINARY
  UNCOMPRESSED_FILE_NAME = "H1974_0000_RE3.IMG"
  REQUIRED_STORAGE_BYTES = "46638048"
  ^DESCRIPTION = "JP2INFO.TXT"
END_OBJECT = COMPRESSED_FILE
END
