PDS_VERSION_ID = PDS3
/* FILE DATA ELEMENTS */
RECORD_TYPE = STREAM
/* POINTERS TO DATA OBJECTS */
^COMPRESSED_FILE = "H1975_0000_P23.JP2"
/* IDENTIFICATION DATA ELEMENTS */
DATA_SET_ID = "MEX-M-HRSC-5-REFDR-MAPPROJECTED-V3.0"
DATA_SET_NAME = "MARS EXPRESS HRSC MAP PROJECTED REFDR V3.0"
DETECTOR_ID = MEX_HRSC_P2
EVENT_TYPE = "MARS-REGIONAL-MAPPING-Vo-Te"
INSTRUMENT_HOST_ID = MEX
INSTRUMENT_HOST_NAME = "MARS EXPRESS"
INSTRUMENT_ID = HRSC
INSTRUMENT_NAME = "HIGH RESOLUTION STEREO CAMERA"
MISSION_NAME = "MARS EXPRESS"
MISSION_PHASE_NAME = MR_Phase_7
PROCESSING_LEVEL_ID = 3
PRODUCT_CREATION_TIME = 2016-03-09T16:25:58.000Z
PRODUCT_ID = "H1975_0000_P23.JP2"
RELEASE_ID = 0025
REVISION_ID = 0000
/* QUALITY DATA ELEMENTS */
DATA_QUALITY_ID = 1
DATA_QUALITY_DESC = "Data calculated based on original SPICE kernels"
/* TIME DATA ELEMENTS */
SPACECRAFT_CLOCK_START_COUNT = "1/0070741473.57303"
SPACECRAFT_CLOCK_STOP_COUNT = "1/0070741810.40642"
START_TIME = 2005-07-29T18:24:51.436Z
STOP_TIME = 2005-07-29T18:29:29.679Z
/* ORBITAL DATA ELEMENTS */
ASCENDING_NODE_LONGITUDE = 186.88
MAXIMUM_RESOLUTION = 49.6
FOOTPRINT_POINT_LATITUDE = (0.559773,0.557366,0.554182,0.551836, 0.742134,0.93223,1.30808,1.68141, 2.05974,2.24901,2.62667,2.81776,3.19376 ,3.55926,3.92271,4.29005,4.8418,5.21274 ,5.57495,5.94509,6.31156,6.67072, 7.02963,7.38777,7.74519,8.10322,8.46154 ,8.9992,9.35787,9.71723,10.0762,10.4325 ,10.974,11.3355,11.8774,12.2374,12.6042 ,13.141,13.684,14.0464,14.4082,14.771, 15.1336,15.6773,16.2218,16.585,17.1291, 17.6744,18.2197,18.5836,18.7722,18.8001 ,18.8013,18.8014,18.4304,18.0671, 17.5223,17.1591,16.7951,16.432,16.0743, 15.7054,15.3446,14.9821,14.62,14.077, 13.7149,13.3535,12.8115,12.27,11.7286, 11.1883,10.8284,10.4669,10.1028,9.74481 ,9.38867,9.03183,8.49302,7.95735, 7.59977,7.06406,6.70708,6.34941,5.98272 ,5.61337,5.24413,4.87668,4.50935, 4.14191,3.77627,3.22909,2.85313,2.66413 ,2.47516,2.09789,1.90837,1.34565, 0.970575,0.559773)
FOOTPRINT_POINT_LONGITUDE = (100.657,100.442,100.121,99.8433, 99.6614,99.6626,99.6644,99.6672,99.6684 ,99.6691,99.6707,99.6708,99.6726, 99.6741,99.6763,99.6774,99.6788,99.6789 ,99.6819,99.6824,99.6841,99.6839, 99.6839,99.6842,99.6848,99.6852,99.6856 ,99.6862,99.6866,99.6868,99.6871, 99.6884,99.688,99.6877,99.6873,99.6875, 99.6855,99.6869,99.6863,99.6858,99.6854 ,99.6848,99.6842,99.6834,99.6824, 99.6816,99.6807,99.6793,99.6779,99.6768 ,99.6763,99.9737,100.38,100.824,100.819 ,100.814,100.807,100.802,100.798, 100.794,100.793,100.786,100.784,100.781 ,100.778,100.774,100.772,100.77,100.767 ,100.765,100.763,100.762,100.761,100.76 ,100.757,100.757,100.759,100.76,100.76, 100.761,100.762,100.763,100.764,100.765 ,100.767,100.768,100.769,100.771, 100.773,100.775,100.778,100.783,100.786 ,100.787,100.789,100.792,100.793, 100.799,100.803,100.657)
ORBIT_NUMBER = 1975
ORBITAL_ECCENTRICITY = 0.572
ORBITAL_INCLINATION = 86.58
ORBITAL_SEMIMAJOR_AXIS = 8626.4
PERIAPSIS_ALTITUDE = 298.16
PERIAPSIS_ARGUMENT_ANGLE = 11.52
PERIAPSIS_TIME = 2005-07-29T18:27:58.000Z
SPACECRAFT_ORIENTATION = (0.0,1.0,0.0)
^MEX_ORIENTATION_DESC = "MEX_ORIENTATION_DESC.TXT"
SPACECRAFT_POINTING_MODE = ACROSSTRACK
^MEX_POINTING_DESC = "MEX_POINTING_DESC.TXT"
RIGHT_ASCENSION = -1e+32
DECLINATION = -1e+32
OFFSET_ANGLE = -0.14
SPACECRAFT_SOLAR_DISTANCE = 2.06798e+08
TARGET_NAME = MARS
/* CAMERA DATA ELEMENTS */
DETECTOR_TEMPERATURE = 18.7783
FOCAL_PLANE_TEMPERATURE = 9.3989
INST_CMPRS_NAME = "DISCRETE COSINE TRANSFORMATION (DCT)"
INST_CMPRS_RATIO = 9.6747
INST_CMPRS_QUALITY = 0
INST_CMPRS_QUANTZ_TBL_ID = 0
INSTRUMENT_TEMPERATURE = 11.4379
LENS_TEMPERATURE = 9.8067
MACROPIXEL_SIZE = 4
MISSING_FRAMES = 0
PIXEL_SUBSAMPLING_FLAG = N
SIGNAL_CHAIN_ID = 3
/* RADIOMETRIC DATA ELEMENTS */
BANDWIDTH = 177.0
CENTER_FILTER_WAVELENGTH = 676.5
RADIANCE_OFFSET = 2.90484
RADIANCE_SCALING_FACTOR = 0.0146134
REFLECTANCE_SCALING_FACTOR = 0.000331359
MEX:REFLECTANCE_OFFSET = 0.0658675
/* IMAGE OBJECT DEFINITIONS */
OBJECT = IMAGE
  INTERCHANGE_FORMAT = BINARY
  LINES = 21633
  LINE_SAMPLES = 1422
  SAMPLE_TYPE = UNSIGNED_INTEGER
  SAMPLE_BITS = 8
  BANDS = 1
  BAND_STORAGE_TYPE = BAND_SEQUENTIAL
  MAXIMUM = 230
  MEAN = 149.469
  MINIMUM = 96
  STANDARD_DEVIATION = 22.9333
END_OBJECT = IMAGE
/* MAP OBJECT DEFINITIONS */
OBJECT = IMAGE_MAP_PROJECTION
  ^DATA_SET_MAP_PROJECTION_CATALOG= "DSMAP.CAT"
  A_AXIS_RADIUS = 3396.0
  B_AXIS_RADIUS = 3396.0
  C_AXIS_RADIUS = 3396.0
  CENTER_LATITUDE = 0.0
  CENTER_LONGITUDE = 100.0
  COORDINATE_SYSTEM_NAME = PLANETOGRAPHIC
  COORDINATE_SYSTEM_TYPE = "BODY-FIXED ROTATING"
  EASTERNMOST_LONGITUDE = 100.824
  FIRST_STANDARD_PARALLEL = "N/A"
  LINE_FIRST_PIXEL = 1
  LINE_LAST_PIXEL = 21633
  LINE_PROJECTION_OFFSET = 22282.125
  MAP_PROJECTION_ROTATION = 0.0
  MAP_PROJECTION_TYPE = SINUSOIDAL
  MAP_RESOLUTION = 1185.42760773333
  MAP_SCALE = 0.05
  MAXIMUM_LATITUDE = 18.8014
  MINIMUM_LATITUDE = 0.551836
  POSITIVE_LONGITUDE_DIRECTION = EAST
  REFERENCE_LATITUDE = "N/A"
  REFERENCE_LONGITUDE = "N/A"
  SAMPLE_FIRST_PIXEL = 1
  SAMPLE_LAST_PIXEL = 1422
  SAMPLE_PROJECTION_OFFSET = 425.125
  SECOND_STANDARD_PARALLEL = "N/A"
  WESTERNMOST_LONGITUDE = 99.6614
END_OBJECT = IMAGE_MAP_PROJECTION
/* The JPEG2000 image data file associated with this label. */
OBJECT = COMPRESSED_FILE
  FILE_NAME = "H1975_0000_P23.JP2"
  RECORD_TYPE = UNDEFINED
  FILE_RECORDS = UNK
  ENCODING_TYPE = "JP2"
  INTERCHANGE_FORMAT = BINARY
  UNCOMPRESSED_FILE_NAME = "H1975_0000_P23.IMG"
  REQUIRED_STORAGE_BYTES = "30780612"
  ^DESCRIPTION = "JP2INFO.TXT"
END_OBJECT = COMPRESSED_FILE
END
