PDS_VERSION_ID = PDS3
/* FILE DATA ELEMENTS */
RECORD_TYPE = STREAM
/* POINTERS TO DATA OBJECTS */
^COMPRESSED_FILE = "H1977_0000_P23.JP2"
/* IDENTIFICATION DATA ELEMENTS */
DATA_SET_ID = "MEX-M-HRSC-5-REFDR-MAPPROJECTED-V3.0"
DATA_SET_NAME = "MARS EXPRESS HRSC MAP PROJECTED REFDR V3.0"
DETECTOR_ID = MEX_HRSC_P2
EVENT_TYPE = "MARS-REGIONAL-STEREO-Vo-Te"
INSTRUMENT_HOST_ID = MEX
INSTRUMENT_HOST_NAME = "MARS EXPRESS"
INSTRUMENT_ID = HRSC
INSTRUMENT_NAME = "HIGH RESOLUTION STEREO CAMERA"
MISSION_NAME = "MARS EXPRESS"
MISSION_PHASE_NAME = MR_Phase_7
PROCESSING_LEVEL_ID = 3
PRODUCT_CREATION_TIME = 2016-03-09T16:25:58.000Z
PRODUCT_ID = "H1977_0000_P23.JP2"
RELEASE_ID = 0025
REVISION_ID = 0000
/* QUALITY DATA ELEMENTS */
DATA_QUALITY_ID = 1
DATA_QUALITY_DESC = "Data calculated based on original SPICE kernels"
/* TIME DATA ELEMENTS */
SPACECRAFT_CLOCK_START_COUNT = "1/0070789521.57323"
SPACECRAFT_CLOCK_STOP_COUNT = "1/0070789909.16609"
START_TIME = 2005-07-30T07:45:49.181Z
STOP_TIME = 2005-07-30T07:51:06.601Z
/* ORBITAL DATA ELEMENTS */
ASCENDING_NODE_LONGITUDE = 186.83
MAXIMUM_RESOLUTION = 53.9
FOOTPRINT_POINT_LATITUDE = (-19.3926,-19.397,-19.3985,-19.3991, -19.4159,-18.9667,-18.7413,-18.5155, -18.2892,-17.8403,-17.3948,-16.9564, -16.3037,-15.661,-15.2355,-14.8173, -14.4004,-13.9885,-13.3759,-12.9608, -12.5742,-12.1702,-11.5869,-11.188, -10.8027,-10.4265,-9.85945,-9.47576, -9.09654,-8.53638,-7.96915,-7.58653, -7.00507,-6.61688,-6.24743,-5.69215, -5.36812,-5.0428,-4.71759,-4.39163, -3.90024,-3.57288,-3.24462,-2.91574, -2.58587,-2.2554,-1.9241,-1.592, -1.26392,-0.941647,-0.445031,-0.440105, -0.596583,-1.07951,-1.4016,-1.73344, -2.23121,-2.5617,-2.89169,-3.22103, -3.54967,-3.87753,-4.2049,-4.53144, -4.85338,-5.34382,-5.66053,-6.02183, -6.41635,-6.80328,-7.16939,-7.56761, -8.13964,-8.50615,-8.88377,-9.45292, -9.83506,-10.2111,-10.5952,-10.9719, -11.3661,-11.7562,-12.1491,-12.5474, -12.9446,-13.3498,-13.9612,-14.373, -14.7891,-15.2074,-15.6326,-16.2757, -16.9276,-17.3671,-17.8124,-18.2616, -18.4877,-18.9392,-19.3886,-19.3926)
FOOTPRINT_POINT_LONGITUDE = (264.305,263.816,263.527,263.239, 262.772,262.787,262.794,262.801,262.808 ,262.821,262.834,262.847,262.864, 262.881,262.892,262.902,262.912,262.921 ,262.934,262.939,262.951,262.957,262.97 ,262.975,262.981,262.99,263.0,263.003, 263.008,263.019,263.029,263.033,263.038 ,263.042,263.051,263.058,263.062, 263.065,263.068,263.072,263.076,263.079 ,263.082,263.085,263.088,263.09,263.093 ,263.095,263.097,263.099,263.324, 263.812,264.245,264.251,264.254,264.258 ,264.264,264.268,264.273,264.277, 264.282,264.287,264.292,264.297,264.305 ,264.312,264.322,264.328,264.33,264.336 ,264.353,264.352,264.364,264.379, 264.388,264.399,264.405,264.414,264.423 ,264.436,264.442,264.453,264.462, 264.473,264.484,264.496,264.513,264.526 ,264.539,264.552,264.565,264.585, 264.607,264.622,264.638,264.653,264.662 ,264.678,264.695,264.305)
ORBIT_NUMBER = 1977
ORBITAL_ECCENTRICITY = 0.572
ORBITAL_INCLINATION = 86.59
ORBITAL_SEMIMAJOR_AXIS = 8634.14
PERIAPSIS_ALTITUDE = 297.99
PERIAPSIS_ARGUMENT_ANGLE = 11.19
PERIAPSIS_TIME = 2005-07-30T07:54:23.000Z
SPACECRAFT_ORIENTATION = (0.0,1.0,0.0)
^MEX_ORIENTATION_DESC = "MEX_ORIENTATION_DESC.TXT"
SPACECRAFT_POINTING_MODE = ACROSSTRACK
^MEX_POINTING_DESC = "MEX_POINTING_DESC.TXT"
RIGHT_ASCENSION = -1e+32
DECLINATION = -1e+32
OFFSET_ANGLE = -0.15
SPACECRAFT_SOLAR_DISTANCE = 2.06813e+08
TARGET_NAME = MARS
/* CAMERA DATA ELEMENTS */
DETECTOR_TEMPERATURE = 19.1861
FOCAL_PLANE_TEMPERATURE = 10.2145
INST_CMPRS_NAME = "DISCRETE COSINE TRANSFORMATION (DCT)"
INST_CMPRS_RATIO = 6.89498
INST_CMPRS_QUALITY = 0
INST_CMPRS_QUANTZ_TBL_ID = 0
INSTRUMENT_TEMPERATURE = 11.8457
LENS_TEMPERATURE = 10.4184
MACROPIXEL_SIZE = 4
MISSING_FRAMES = 0
PIXEL_SUBSAMPLING_FLAG = N
SIGNAL_CHAIN_ID = 3
/* RADIOMETRIC DATA ELEMENTS */
BANDWIDTH = 177.0
CENTER_FILTER_WAVELENGTH = 676.5
RADIANCE_OFFSET = 3.28733
RADIANCE_SCALING_FACTOR = 0.0265196
REFLECTANCE_SCALING_FACTOR = 0.000601421
MEX:REFLECTANCE_OFFSET = 0.0745512
/* IMAGE OBJECT DEFINITIONS */
OBJECT = IMAGE
  INTERCHANGE_FORMAT = BINARY
  LINES = 22498
  LINE_SAMPLES = 2127
  SAMPLE_TYPE = UNSIGNED_INTEGER
  SAMPLE_BITS = 8
  BANDS = 1
  BAND_STORAGE_TYPE = BAND_SEQUENTIAL
  MAXIMUM = 329
  MEAN = 200.385
  MINIMUM = 100
  STANDARD_DEVIATION = 23.8908
END_OBJECT = IMAGE
/* MAP OBJECT DEFINITIONS */
OBJECT = IMAGE_MAP_PROJECTION
  ^DATA_SET_MAP_PROJECTION_CATALOG= "DSMAP.CAT"
  A_AXIS_RADIUS = 3396.0
  B_AXIS_RADIUS = 3396.0
  C_AXIS_RADIUS = 3396.0
  CENTER_LATITUDE = 0.0
  CENTER_LONGITUDE = 264.0
  COORDINATE_SYSTEM_NAME = PLANETOGRAPHIC
  COORDINATE_SYSTEM_TYPE = "BODY-FIXED ROTATING"
  EASTERNMOST_LONGITUDE = 264.695
  FIRST_STANDARD_PARALLEL = "N/A"
  LINE_FIRST_PIXEL = 1
  LINE_LAST_PIXEL = 22498
  LINE_PROJECTION_OFFSET = -495.375
  MAP_PROJECTION_ROTATION = 0.0
  MAP_PROJECTION_TYPE = SINUSOIDAL
  MAP_RESOLUTION = 1185.42760773333
  MAP_SCALE = 0.05
  MAXIMUM_LATITUDE = -0.440105
  MINIMUM_LATITUDE = -19.4159
  POSITIVE_LONGITUDE_DIRECTION = EAST
  REFERENCE_LATITUDE = "N/A"
  REFERENCE_LONGITUDE = "N/A"
  SAMPLE_FIRST_PIXEL = 1
  SAMPLE_LAST_PIXEL = 2127
  SAMPLE_PROJECTION_OFFSET = 1355.375
  SECOND_STANDARD_PARALLEL = "N/A"
  WESTERNMOST_LONGITUDE = 262.772
END_OBJECT = IMAGE_MAP_PROJECTION
/* The JPEG2000 image data file associated with this label. */
OBJECT = COMPRESSED_FILE
  FILE_NAME = "H1977_0000_P23.JP2"
  RECORD_TYPE = UNDEFINED
  FILE_RECORDS = UNK
  ENCODING_TYPE = "JP2"
  INTERCHANGE_FORMAT = BINARY
  UNCOMPRESSED_FILE_NAME = "H1977_0000_P23.IMG"
  REQUIRED_STORAGE_BYTES = "47874516"
  ^DESCRIPTION = "JP2INFO.TXT"
END_OBJECT = COMPRESSED_FILE
END
