PDS_VERSION_ID = PDS3
/* FILE DATA ELEMENTS */
RECORD_TYPE = STREAM
/* POINTERS TO DATA OBJECTS */
^COMPRESSED_FILE = "H1978_0001_BL3.JP2"
/* IDENTIFICATION DATA ELEMENTS */
DATA_SET_ID = "MEX-M-HRSC-5-REFDR-MAPPROJECTED-V3.0"
DATA_SET_NAME = "MARS EXPRESS HRSC MAP PROJECTED REFDR V3.0"
DETECTOR_ID = MEX_HRSC_BLUE
EVENT_TYPE = "MARS-REGIONAL-MAPPING-Vo-Te-Mw"
INSTRUMENT_HOST_ID = MEX
INSTRUMENT_HOST_NAME = "MARS EXPRESS"
INSTRUMENT_ID = HRSC
INSTRUMENT_NAME = "HIGH RESOLUTION STEREO CAMERA"
MISSION_NAME = "MARS EXPRESS"
MISSION_PHASE_NAME = MR_Phase_7
PROCESSING_LEVEL_ID = 3
PRODUCT_CREATION_TIME = 2016-03-09T16:25:58.000Z
PRODUCT_ID = "H1978_0001_BL3.JP2"
RELEASE_ID = 0025
REVISION_ID = 0000
/* QUALITY DATA ELEMENTS */
DATA_QUALITY_ID = 1
DATA_QUALITY_DESC = "Data calculated based on original SPICE kernels"
/* TIME DATA ELEMENTS */
SPACECRAFT_CLOCK_START_COUNT = "1/0070814228.57931"
SPACECRAFT_CLOCK_STOP_COUNT = "1/0070814397.31303"
START_TIME = 2005-07-30T14:37:38.066Z
STOP_TIME = 2005-07-30T14:39:29.823Z
/* ORBITAL DATA ELEMENTS */
ASCENDING_NODE_LONGITUDE = 186.81
MAXIMUM_RESOLUTION = 96.8
FOOTPRINT_POINT_LATITUDE = (11.6782,11.6784,11.6785,11.6786, 11.6787,11.6786,11.6848,11.7884,11.892, 11.9956,12.0992,12.2546,12.3582,12.5136 ,14.576,14.7835,14.8873,14.9909,15.0945 ,15.2498,15.4052,15.5088,15.6642, 15.7677,15.8713,15.9748,16.0783,16.1819 ,16.2854,16.4405,16.5441,16.6476, 16.7511,16.8546,16.958,17.1649,17.2699, 17.3771,17.4844,17.5917,17.6989,17.8062 ,17.9134,18.0206,18.1278,18.2349, 18.3421,18.5028,18.6635,18.7706,18.8777 ,19.0384,19.0665,19.0663,19.0658, 19.0652,19.0645,19.0638,19.0626,18.9535 ,18.7929,18.6858,18.5789,18.4718, 18.3647,18.2577,18.1505,18.0433,17.9362 ,17.7756,17.6684,17.5612,17.4541, 17.3469,17.1874,16.929,16.7222,16.4636, 16.205,16.1015,15.9463,15.791,15.6875, 15.584,15.4288,15.3253,15.2218,15.0665, 14.963,14.8076,14.7038,14.6004,12.5385, 12.3833,12.2279,12.0726,11.9691,11.8137 ,11.7101,11.6782)
FOOTPRINT_POINT_LONGITUDE = (165.596,165.408,165.3,165.142,165.005, 164.867,164.706,164.706,164.706,164.706 ,164.705,164.705,164.705,164.704,164.7, 164.699,164.699,164.698,164.698,164.697 ,164.697,164.696,164.696,164.695, 164.695,164.695,164.694,164.694,164.694 ,164.693,164.693,164.692,164.692, 164.692,164.691,164.69,164.69,164.689, 164.689,164.688,164.688,164.688,164.687 ,164.687,164.686,164.686,164.685, 164.685,164.684,164.683,164.683,164.682 ,164.821,164.95,165.091,165.264,165.415 ,165.545,165.761,165.832,165.83,165.828 ,165.827,165.825,165.824,165.822, 165.821,165.82,165.818,165.816,165.815, 165.814,165.812,165.811,165.809,165.807 ,165.804,165.802,165.799,165.798, 165.797,165.795,165.794,165.793,165.792 ,165.791,165.791,165.789,165.789, 165.787,165.786,165.785,165.774,165.774 ,165.773,165.773,165.772,165.772, 165.771,165.596)
ORBIT_NUMBER = 1978
ORBITAL_ECCENTRICITY = 0.571
ORBITAL_INCLINATION = 86.59
ORBITAL_SEMIMAJOR_AXIS = 8617.52
PERIAPSIS_ALTITUDE = 298.59
PERIAPSIS_ARGUMENT_ANGLE = 11.02
PERIAPSIS_TIME = 2005-07-30T14:37:33.000Z
SPACECRAFT_ORIENTATION = (0.0,1.0,0.0)
^MEX_ORIENTATION_DESC = "MEX_ORIENTATION_DESC.TXT"
SPACECRAFT_POINTING_MODE = NADIR
^MEX_POINTING_DESC = "MEX_POINTING_DESC.TXT"
RIGHT_ASCENSION = -1e+32
DECLINATION = -1e+32
OFFSET_ANGLE = -1e+32
SPACECRAFT_SOLAR_DISTANCE = 2.06821e+08
TARGET_NAME = MARS
/* CAMERA DATA ELEMENTS */
DETECTOR_TEMPERATURE = 19.7978
FOCAL_PLANE_TEMPERATURE = 9.6028
INST_CMPRS_NAME = "DISCRETE COSINE TRANSFORMATION (DCT)"
INST_CMPRS_RATIO = 10.2782
INST_CMPRS_QUALITY = 0
INST_CMPRS_QUANTZ_TBL_ID = 0
INSTRUMENT_TEMPERATURE = 13.8847
LENS_TEMPERATURE = 9.8067
MACROPIXEL_SIZE = 8
MISSING_FRAMES = 165
PIXEL_SUBSAMPLING_FLAG = N
SIGNAL_CHAIN_ID = 2
/* RADIOMETRIC DATA ELEMENTS */
BANDWIDTH = 76.0
CENTER_FILTER_WAVELENGTH = 444.0
RADIANCE_OFFSET = 0.459204
RADIANCE_SCALING_FACTOR = 0.00100845
REFLECTANCE_SCALING_FACTOR = 4.43196e-05
MEX:REFLECTANCE_OFFSET = 0.0201813
/* IMAGE OBJECT DEFINITIONS */
OBJECT = IMAGE
  INTERCHANGE_FORMAT = BINARY
  LINES = 4378
  LINE_SAMPLES = 693
  SAMPLE_TYPE = UNSIGNED_INTEGER
  SAMPLE_BITS = 8
  BANDS = 1
  BAND_STORAGE_TYPE = BAND_SEQUENTIAL
  MAXIMUM = 197
  MEAN = 154.96
  MINIMUM = 124
  STANDARD_DEVIATION = 13.004
END_OBJECT = IMAGE
/* MAP OBJECT DEFINITIONS */
OBJECT = IMAGE_MAP_PROJECTION
  ^DATA_SET_MAP_PROJECTION_CATALOG= "DSMAP.CAT"
  A_AXIS_RADIUS = 3396.0
  B_AXIS_RADIUS = 3396.0
  C_AXIS_RADIUS = 3396.0
  CENTER_LATITUDE = 0.0
  CENTER_LONGITUDE = 165.0
  COORDINATE_SYSTEM_NAME = PLANETOGRAPHIC
  COORDINATE_SYSTEM_TYPE = "BODY-FIXED ROTATING"
  EASTERNMOST_LONGITUDE = 165.832
  FIRST_STANDARD_PARALLEL = "N/A"
  LINE_FIRST_PIXEL = 1
  LINE_LAST_PIXEL = 4378
  LINE_PROJECTION_OFFSET = 11296.3125
  MAP_PROJECTION_ROTATION = 0.0
  MAP_PROJECTION_TYPE = SINUSOIDAL
  MAP_RESOLUTION = 592.713803866667
  MAP_SCALE = 0.1
  MAXIMUM_LATITUDE = 19.0665
  MINIMUM_LATITUDE = 11.6782
  POSITIVE_LONGITUDE_DIRECTION = EAST
  REFERENCE_LATITUDE = "N/A"
  REFERENCE_LONGITUDE = "N/A"
  SAMPLE_FIRST_PIXEL = 1
  SAMPLE_LAST_PIXEL = 693
  SAMPLE_PROJECTION_OFFSET = 206.1875
  SECOND_STANDARD_PARALLEL = "N/A"
  WESTERNMOST_LONGITUDE = 164.682
END_OBJECT = IMAGE_MAP_PROJECTION
/* The JPEG2000 image data file associated with this label. */
OBJECT = COMPRESSED_FILE
  FILE_NAME = "H1978_0001_BL3.JP2"
  RECORD_TYPE = UNDEFINED
  FILE_RECORDS = UNK
  ENCODING_TYPE = "JP2"
  INTERCHANGE_FORMAT = BINARY
  UNCOMPRESSED_FILE_NAME = "H1978_0001_BL3.IMG"
  REQUIRED_STORAGE_BYTES = "3051972"
  ^DESCRIPTION = "JP2INFO.TXT"
END_OBJECT = COMPRESSED_FILE
END
