PDS_VERSION_ID = PDS3
/* FILE DATA ELEMENTS */
RECORD_TYPE = STREAM
/* POINTERS TO DATA OBJECTS */
^COMPRESSED_FILE = "H1978_0001_S13.JP2"
/* IDENTIFICATION DATA ELEMENTS */
DATA_SET_ID = "MEX-M-HRSC-5-REFDR-MAPPROJECTED-V3.0"
DATA_SET_NAME = "MARS EXPRESS HRSC MAP PROJECTED REFDR V3.0"
DETECTOR_ID = MEX_HRSC_S1
EVENT_TYPE = "MARS-REGIONAL-MAPPING-Vo-Te-Mw"
INSTRUMENT_HOST_ID = MEX
INSTRUMENT_HOST_NAME = "MARS EXPRESS"
INSTRUMENT_ID = HRSC
INSTRUMENT_NAME = "HIGH RESOLUTION STEREO CAMERA"
MISSION_NAME = "MARS EXPRESS"
MISSION_PHASE_NAME = MR_Phase_7
PROCESSING_LEVEL_ID = 3
PRODUCT_CREATION_TIME = 2016-03-09T16:25:58.000Z
PRODUCT_ID = "H1978_0001_S13.JP2"
RELEASE_ID = 0025
REVISION_ID = 0000
/* QUALITY DATA ELEMENTS */
DATA_QUALITY_ID = 1
DATA_QUALITY_DESC = "Data calculated based on original SPICE kernels"
/* TIME DATA ELEMENTS */
SPACECRAFT_CLOCK_START_COUNT = "1/0070814228.57931"
SPACECRAFT_CLOCK_STOP_COUNT = "1/0070814397.31303"
START_TIME = 2005-07-30T14:38:22.315Z
STOP_TIME = 2005-07-30T14:40:02.687Z
/* ORBITAL DATA ELEMENTS */
ASCENDING_NODE_LONGITUDE = 186.81
MAXIMUM_RESOLUTION = 25.8
FOOTPRINT_POINT_LATITUDE = (12.5931,12.5938,12.5945,12.595,12.5949 ,12.5707,12.6984,12.8245,12.9529, 13.0811,13.2713,13.3993,13.5907,13.7159 ,13.8475,13.9755,14.1653,14.2929, 14.4196,14.542,14.6676,14.8554,15.0448, 15.1731,15.3041,15.5001,15.6308,15.7616 ,15.8921,16.088,16.2185,16.4145,16.6098 ,16.74,16.87,17.065,17.1954,17.3254, 17.4544,17.5841,17.7784,17.9726,18.1021 ,18.2314,18.4295,18.5631,18.6967, 18.8969,19.0304,19.0306,19.0299,19.0283 ,19.0264,19.0246,18.8897,18.7571,18.623 ,18.4226,18.2895,18.1604,18.0319, 17.9024,17.7078,17.5783,17.4487,17.319, 17.1894,17.0594,16.8644,16.7344,16.5392 ,16.409,16.2787,16.1485,16.0181,15.8877 ,15.7577,15.627,15.4958,15.3649,15.234, 15.0404,14.9148,14.7884,14.6631,14.5357 ,14.3451,14.1552,14.0285,13.8384, 13.7117,13.5848,13.458,13.3309,13.1401, 13.013,12.8856,12.7584,12.6312,12.5931)
FOOTPRINT_POINT_LONGITUDE = (165.636,165.51,165.344,165.062,164.843 ,164.686,164.686,164.685,164.685, 164.685,164.684,164.683,164.683,164.682 ,164.683,164.682,164.681,164.681, 164.681,164.679,164.678,164.676,164.675 ,164.674,164.674,164.673,164.672, 164.671,164.671,164.669,164.669,164.668 ,164.667,164.666,164.665,164.664, 164.663,164.662,164.661,164.661,164.659 ,164.658,164.657,164.656,164.655, 164.654,164.653,164.652,164.651,164.836 ,165.068,165.358,165.59,165.752,165.847 ,165.844,165.842,165.839,165.837, 165.835,165.833,165.831,165.829,165.827 ,165.825,165.824,165.822,165.82,165.818 ,165.816,165.814,165.812,165.811, 165.809,165.808,165.806,165.805,165.803 ,165.802,165.801,165.8,165.798,165.797, 165.795,165.794,165.793,165.792,165.79, 165.789,165.788,165.787,165.786,165.785 ,165.784,165.783,165.782,165.781,165.78 ,165.779,165.636)
ORBIT_NUMBER = 1978
ORBITAL_ECCENTRICITY = 0.571
ORBITAL_INCLINATION = 86.59
ORBITAL_SEMIMAJOR_AXIS = 8617.52
PERIAPSIS_ALTITUDE = 298.59
PERIAPSIS_ARGUMENT_ANGLE = 11.02
PERIAPSIS_TIME = 2005-07-30T14:37:33.000Z
SPACECRAFT_ORIENTATION = (0.0,1.0,0.0)
^MEX_ORIENTATION_DESC = "MEX_ORIENTATION_DESC.TXT"
SPACECRAFT_POINTING_MODE = NADIR
^MEX_POINTING_DESC = "MEX_POINTING_DESC.TXT"
RIGHT_ASCENSION = -1e+32
DECLINATION = -1e+32
OFFSET_ANGLE = -1e+32
SPACECRAFT_SOLAR_DISTANCE = 2.06821e+08
TARGET_NAME = MARS
/* CAMERA DATA ELEMENTS */
DETECTOR_TEMPERATURE = 19.1861
FOCAL_PLANE_TEMPERATURE = 9.6028
INST_CMPRS_NAME = "DISCRETE COSINE TRANSFORMATION (DCT)"
INST_CMPRS_RATIO = 10.6477
INST_CMPRS_QUALITY = 0
INST_CMPRS_QUANTZ_TBL_ID = 0
INSTRUMENT_TEMPERATURE = 13.8847
LENS_TEMPERATURE = 9.8067
MACROPIXEL_SIZE = 2
MISSING_FRAMES = 10
PIXEL_SUBSAMPLING_FLAG = N
SIGNAL_CHAIN_ID = 1
/* RADIOMETRIC DATA ELEMENTS */
BANDWIDTH = 180.0
CENTER_FILTER_WAVELENGTH = 677.0
RADIANCE_OFFSET = 3.30565
RADIANCE_SCALING_FACTOR = 0.0083823
REFLECTANCE_SCALING_FACTOR = 0.000187066
MEX:REFLECTANCE_OFFSET = 0.0737712
/* IMAGE OBJECT DEFINITIONS */
OBJECT = IMAGE
  INTERCHANGE_FORMAT = BINARY
  LINES = 17510
  LINE_SAMPLES = 2771
  SAMPLE_TYPE = UNSIGNED_INTEGER
  SAMPLE_BITS = 8
  BANDS = 1
  BAND_STORAGE_TYPE = BAND_SEQUENTIAL
  MAXIMUM = 241
  MEAN = 172.309
  MINIMUM = 131
  STANDARD_DEVIATION = 15.0405
END_OBJECT = IMAGE
/* MAP OBJECT DEFINITIONS */
OBJECT = IMAGE_MAP_PROJECTION
  ^DATA_SET_MAP_PROJECTION_CATALOG= "DSMAP.CAT"
  A_AXIS_RADIUS = 3396.0
  B_AXIS_RADIUS = 3396.0
  C_AXIS_RADIUS = 3396.0
  CENTER_LATITUDE = 0.0
  CENTER_LONGITUDE = 165.0
  COORDINATE_SYSTEM_NAME = PLANETOGRAPHIC
  COORDINATE_SYSTEM_TYPE = "BODY-FIXED ROTATING"
  EASTERNMOST_LONGITUDE = 165.847
  FIRST_STANDARD_PARALLEL = "N/A"
  LINE_FIRST_PIXEL = 1
  LINE_LAST_PIXEL = 17510
  LINE_PROJECTION_OFFSET = 45186.75
  MAP_PROJECTION_ROTATION = 0.0
  MAP_PROJECTION_TYPE = SINUSOIDAL
  MAP_RESOLUTION = 2370.85521546667
  MAP_SCALE = 0.025
  MAXIMUM_LATITUDE = 19.0306
  MINIMUM_LATITUDE = 12.5707
  POSITIVE_LONGITUDE_DIRECTION = EAST
  REFERENCE_LATITUDE = "N/A"
  REFERENCE_LONGITUDE = "N/A"
  SAMPLE_FIRST_PIXEL = 1
  SAMPLE_LAST_PIXEL = 2771
  SAMPLE_PROJECTION_OFFSET = 826.25
  SECOND_STANDARD_PARALLEL = "N/A"
  WESTERNMOST_LONGITUDE = 164.651
END_OBJECT = IMAGE_MAP_PROJECTION
/* The JPEG2000 image data file associated with this label. */
OBJECT = COMPRESSED_FILE
  FILE_NAME = "H1978_0001_S13.JP2"
  RECORD_TYPE = UNDEFINED
  FILE_RECORDS = UNK
  ENCODING_TYPE = "JP2"
  INTERCHANGE_FORMAT = BINARY
  UNCOMPRESSED_FILE_NAME = "H1978_0001_S13.IMG"
  REQUIRED_STORAGE_BYTES = "48542378"
  ^DESCRIPTION = "JP2INFO.TXT"
END_OBJECT = COMPRESSED_FILE
END
