PDS_VERSION_ID = PDS3
/* FILE DATA ELEMENTS */
RECORD_TYPE = STREAM
/* POINTERS TO DATA OBJECTS */
^COMPRESSED_FILE = "H1978_0001_S23.JP2"
/* IDENTIFICATION DATA ELEMENTS */
DATA_SET_ID = "MEX-M-HRSC-5-REFDR-MAPPROJECTED-V3.0"
DATA_SET_NAME = "MARS EXPRESS HRSC MAP PROJECTED REFDR V3.0"
DETECTOR_ID = MEX_HRSC_S2
EVENT_TYPE = "MARS-REGIONAL-MAPPING-Vo-Te-Mw"
INSTRUMENT_HOST_ID = MEX
INSTRUMENT_HOST_NAME = "MARS EXPRESS"
INSTRUMENT_ID = HRSC
INSTRUMENT_NAME = "HIGH RESOLUTION STEREO CAMERA"
MISSION_NAME = "MARS EXPRESS"
MISSION_PHASE_NAME = MR_Phase_7
PROCESSING_LEVEL_ID = 3
PRODUCT_CREATION_TIME = 2016-03-09T16:25:58.000Z
PRODUCT_ID = "H1978_0001_S23.JP2"
RELEASE_ID = 0025
REVISION_ID = 0000
/* QUALITY DATA ELEMENTS */
DATA_QUALITY_ID = 1
DATA_QUALITY_DESC = "Data calculated based on original SPICE kernels"
/* TIME DATA ELEMENTS */
SPACECRAFT_CLOCK_START_COUNT = "1/0070814228.57931"
SPACECRAFT_CLOCK_STOP_COUNT = "1/0070814397.31303"
START_TIME = 2005-07-30T14:37:16.093Z
STOP_TIME = 2005-07-30T14:39:07.102Z
/* ORBITAL DATA ELEMENTS */
ASCENDING_NODE_LONGITUDE = 186.81
MAXIMUM_RESOLUTION = 25.8
FOOTPRINT_POINT_LATITUDE = (11.6737,11.6736,11.6735,11.6736, 11.6737,11.7005,11.8099,11.9194,12.083, 12.2479,12.3575,12.4668,12.6302,12.7952 ,12.9603,13.1226,13.3415,13.5042, 13.6154,13.7282,13.8885,13.9972,14.1626 ,14.2729,16.1578,16.2682,16.3783,16.489 ,16.6549,16.7655,16.8762,16.9868, 17.0971,17.2078,17.3188,17.4297,17.5404 ,17.6514,17.7622,17.9283,18.039,18.15, 18.2607,18.4268,18.5933,18.7043,18.8182 ,18.9333,19.0793,19.0788,19.0779, 19.0773,19.0768,19.0762,18.9613,18.8462 ,18.7306,18.6197,18.5096,18.3988, 18.2879,18.1771,18.0104,17.8993,17.7893 ,17.6787,17.5126,17.402,17.236,17.1252, 17.0147,16.9043,16.7938,16.6832,16.5727 ,16.407,16.2413,16.1308,14.2524,14.1436 ,14.0337,13.9237,13.8135,13.7036, 13.5387,13.3738,13.2639,13.1537,13.0447 ,12.935,12.7706,12.6059,12.4961,12.387, 12.2774,12.1133,12.0039,11.8397,11.7301 ,11.6737)
FOOTPRINT_POINT_LONGITUDE = (165.527,165.362,165.237,165.071, 164.905,164.686,164.686,164.686,164.686 ,164.686,164.686,164.686,164.686, 164.686,164.685,164.686,164.686,164.686 ,164.685,164.684,164.686,164.686, 164.685,164.685,164.678,164.678,164.678 ,164.678,164.677,164.677,164.676, 164.676,164.676,164.676,164.675,164.675 ,164.674,164.674,164.673,164.673, 164.673,164.672,164.672,164.671,164.671 ,164.67,164.67,164.669,164.814,164.994, 165.274,165.454,165.667,165.828,165.827 ,165.825,165.823,165.822,165.821, 165.819,165.818,165.817,165.815,165.813 ,165.812,165.811,165.809,165.808, 165.807,165.805,165.804,165.803,165.802 ,165.801,165.8,165.799,165.797,165.796, 165.783,165.783,165.782,165.782,165.781 ,165.781,165.78,165.779,165.779,165.778 ,165.778,165.777,165.777,165.776, 165.776,165.776,165.775,165.775,165.775 ,165.774,165.774,165.527)
ORBIT_NUMBER = 1978
ORBITAL_ECCENTRICITY = 0.571
ORBITAL_INCLINATION = 86.59
ORBITAL_SEMIMAJOR_AXIS = 8617.52
PERIAPSIS_ALTITUDE = 298.59
PERIAPSIS_ARGUMENT_ANGLE = 11.02
PERIAPSIS_TIME = 2005-07-30T14:37:33.000Z
SPACECRAFT_ORIENTATION = (0.0,1.0,0.0)
^MEX_ORIENTATION_DESC = "MEX_ORIENTATION_DESC.TXT"
SPACECRAFT_POINTING_MODE = NADIR
^MEX_POINTING_DESC = "MEX_POINTING_DESC.TXT"
RIGHT_ASCENSION = -1e+32
DECLINATION = -1e+32
OFFSET_ANGLE = -1e+32
SPACECRAFT_SOLAR_DISTANCE = 2.06821e+08
TARGET_NAME = MARS
/* CAMERA DATA ELEMENTS */
DETECTOR_TEMPERATURE = 20.8173
FOCAL_PLANE_TEMPERATURE = 9.6028
INST_CMPRS_NAME = "DISCRETE COSINE TRANSFORMATION (DCT)"
INST_CMPRS_RATIO = 10.9741
INST_CMPRS_QUALITY = 0
INST_CMPRS_QUANTZ_TBL_ID = 0
INSTRUMENT_TEMPERATURE = 13.8847
LENS_TEMPERATURE = 9.8067
MACROPIXEL_SIZE = 2
MISSING_FRAMES = 595
PIXEL_SUBSAMPLING_FLAG = N
SIGNAL_CHAIN_ID = 1
/* RADIOMETRIC DATA ELEMENTS */
BANDWIDTH = 178.0
CENTER_FILTER_WAVELENGTH = 679.0
RADIANCE_OFFSET = 3.05021
RADIANCE_SCALING_FACTOR = 0.00873719
REFLECTANCE_SCALING_FACTOR = 0.000197919
MEX:REFLECTANCE_OFFSET = 0.0690951
/* IMAGE OBJECT DEFINITIONS */
OBJECT = IMAGE
  INTERCHANGE_FORMAT = BINARY
  LINES = 17510
  LINE_SAMPLES = 2771
  SAMPLE_TYPE = UNSIGNED_INTEGER
  SAMPLE_BITS = 8
  BANDS = 1
  BAND_STORAGE_TYPE = BAND_SEQUENTIAL
  MAXIMUM = 223
  MEAN = 152.867
  MINIMUM = 113
  STANDARD_DEVIATION = 18.0072
END_OBJECT = IMAGE
/* MAP OBJECT DEFINITIONS */
OBJECT = IMAGE_MAP_PROJECTION
  ^DATA_SET_MAP_PROJECTION_CATALOG= "DSMAP.CAT"
  A_AXIS_RADIUS = 3396.0
  B_AXIS_RADIUS = 3396.0
  C_AXIS_RADIUS = 3396.0
  CENTER_LATITUDE = 0.0
  CENTER_LONGITUDE = 165.0
  COORDINATE_SYSTEM_NAME = PLANETOGRAPHIC
  COORDINATE_SYSTEM_TYPE = "BODY-FIXED ROTATING"
  EASTERNMOST_LONGITUDE = 165.828
  FIRST_STANDARD_PARALLEL = "N/A"
  LINE_FIRST_PIXEL = 1
  LINE_LAST_PIXEL = 17510
  LINE_PROJECTION_OFFSET = 45186.75
  MAP_PROJECTION_ROTATION = 0.0
  MAP_PROJECTION_TYPE = SINUSOIDAL
  MAP_RESOLUTION = 2370.85521546667
  MAP_SCALE = 0.025
  MAXIMUM_LATITUDE = 19.0793
  MINIMUM_LATITUDE = 11.6735
  POSITIVE_LONGITUDE_DIRECTION = EAST
  REFERENCE_LATITUDE = "N/A"
  REFERENCE_LONGITUDE = "N/A"
  SAMPLE_FIRST_PIXEL = 1
  SAMPLE_LAST_PIXEL = 2771
  SAMPLE_PROJECTION_OFFSET = 826.25
  SECOND_STANDARD_PARALLEL = "N/A"
  WESTERNMOST_LONGITUDE = 164.669
END_OBJECT = IMAGE_MAP_PROJECTION
/* The JPEG2000 image data file associated with this label. */
OBJECT = COMPRESSED_FILE
  FILE_NAME = "H1978_0001_S23.JP2"
  RECORD_TYPE = UNDEFINED
  FILE_RECORDS = UNK
  ENCODING_TYPE = "JP2"
  INTERCHANGE_FORMAT = BINARY
  UNCOMPRESSED_FILE_NAME = "H1978_0001_S23.IMG"
  REQUIRED_STORAGE_BYTES = "48542378"
  ^DESCRIPTION = "JP2INFO.TXT"
END_OBJECT = COMPRESSED_FILE
END
