PDS_VERSION_ID = PDS3
/* FILE DATA ELEMENTS */
RECORD_TYPE = STREAM
/* POINTERS TO DATA OBJECTS */
^COMPRESSED_FILE = "H1979_0005_SR3.JP2"
/* IDENTIFICATION DATA ELEMENTS */
DATA_SET_ID = "MEX-M-HRSC-5-REFDR-MAPPROJECTED-V3.0"
DATA_SET_NAME = "MARS EXPRESS HRSC MAP PROJECTED REFDR V3.0"
DETECTOR_ID = MEX_HRSC_SRC
EVENT_TYPE = "MARS-REGIONAL-STEREO-Vo-Te-Eo"
INSTRUMENT_HOST_ID = MEX
INSTRUMENT_HOST_NAME = "MARS EXPRESS"
INSTRUMENT_ID = HRSC
INSTRUMENT_NAME = "HIGH RESOLUTION STEREO CAMERA"
MISSION_NAME = "MARS EXPRESS"
MISSION_PHASE_NAME = MR_Phase_7
PROCESSING_LEVEL_ID = 3
PRODUCT_CREATION_TIME = 2016-03-09T16:25:58.000Z
PRODUCT_ID = "H1979_0005_SR3.JP2"
RELEASE_ID = 0025
REVISION_ID = 0000
/* QUALITY DATA ELEMENTS */
DATA_QUALITY_ID = 1
DATA_QUALITY_DESC = "Data calculated based on original SPICE kernels"
/* TIME DATA ELEMENTS */
SPACECRAFT_CLOCK_START_COUNT = "1/0070838129.57323"
SPACECRAFT_CLOCK_STOP_COUNT = "1/0070838458.00550"
IMAGE_TIME = 2005-07-30T21:20:21.303Z
START_TIME = 2005-07-30T21:20:21.301Z
STOP_TIME = 2005-07-30T21:20:21.306Z
/* ORBITAL DATA ELEMENTS */
ASCENDING_NODE_LONGITUDE = 186.8
MAXIMUM_RESOLUTION = 2.704
FOOTPRINT_POINT_LATITUDE = (9.60535,9.60754,9.60905,9.61151, 9.61347,9.61465,9.61698,9.6188,9.62099, 9.62291,9.62418,9.62605,9.6277,9.62961, 9.63221,9.63376,9.63618,9.63764,9.63937 ,9.64183,9.64498,9.64753,9.64917, 9.64917,9.64918,9.64918,9.64918,9.64918 ,9.64918,9.64918,9.64918,9.64919, 9.64919,9.64919,9.64919,9.64919,9.64919 ,9.64919,9.6492,9.6492,9.6492,9.6492, 9.6492,9.6492,9.6492,9.6492,9.64921, 9.64921,9.64807,9.64611,9.64492,9.64305 ,9.64191,9.64068,9.63871,9.63698, 9.63552,9.63333,9.63178,9.62968,9.62827 ,9.62704,9.62571,9.62403,9.62134, 9.61974,9.6186,9.61705,9.61477,9.61303, 9.61084,9.60838,9.60578,9.60391,9.60327 ,9.60327,9.60327,9.60327,9.60327, 9.60327,9.60327,9.60327,9.60327,9.60327 ,9.60326,9.60326,9.60326,9.60326, 9.60326,9.60326,9.60326,9.60326,9.60326 ,9.60326,9.60326,9.60326,9.60326, 9.60326,9.60326,9.60535)
FOOTPRINT_POINT_LONGITUDE = (67.159,67.159,67.159,67.159,67.159, 67.159,67.159,67.159,67.159,67.159, 67.159,67.159,67.159,67.159,67.159, 67.159,67.159,67.159,67.159,67.159, 67.159,67.159,67.1595,67.1614,67.1632, 67.1651,67.1669,67.1688,67.1706,67.1725 ,67.1743,67.1762,67.1781,67.1799, 67.1818,67.1836,67.1855,67.1873,67.1892 ,67.191,67.1929,67.1947,67.1966,67.1984 ,67.2003,67.2021,67.204,67.2058,67.2061 ,67.2061,67.2061,67.2061,67.2061, 67.2061,67.2061,67.2061,67.2061,67.2061 ,67.2061,67.2061,67.2061,67.2061, 67.2061,67.2061,67.2061,67.2061,67.2061 ,67.2061,67.2061,67.2061,67.2061, 67.2061,67.2061,67.2061,67.2038,67.2019 ,67.2001,67.1982,67.1964,67.1945, 67.1927,67.1908,67.189,67.1871,67.1852, 67.1834,67.1815,67.1797,67.1778,67.176, 67.1741,67.1723,67.1704,67.1686,67.1667 ,67.1649,67.163,67.1612,67.1593,67.159)
ORBIT_NUMBER = 1979
ORBITAL_ECCENTRICITY = 0.572
ORBITAL_INCLINATION = 86.6
ORBITAL_SEMIMAJOR_AXIS = 8627.08
PERIAPSIS_ALTITUDE = 297.57
PERIAPSIS_ARGUMENT_ANGLE = 10.83
PERIAPSIS_TIME = 2005-07-30T21:20:39.000Z
SPACECRAFT_ORIENTATION = (0.0,1.0,0.0)
^MEX_ORIENTATION_DESC = "MEX_ORIENTATION_DESC.TXT"
SPACECRAFT_POINTING_MODE = ACROSSTRACK
^MEX_POINTING_DESC = "MEX_POINTING_DESC.TXT"
RIGHT_ASCENSION = -1e+32
DECLINATION = -1e+32
OFFSET_ANGLE = -0.2
SPACECRAFT_SOLAR_DISTANCE = 2.06829e+08
TARGET_NAME = MARS
/* CAMERA DATA ELEMENTS */
BUFFER_MODE_ID = BUFFER_8
EXPOSURE_DURATION = 5.04
INST_CMPRS_NAME = NONE
INST_CMPRS_RATIO = 1.0
INST_CMPRS_QUALITY = -2147483648
INST_CMPRS_QUANTZ_TBL_ID = -2147483648
INSTRUMENT_TEMPERATURE = 14.2424
MISSING_FRAMES = 0
START_BIT = 0
/* RADIOMETRIC DATA ELEMENTS */
BANDWIDTH = 250.0
CENTER_FILTER_WAVELENGTH = 600.0
RADIANCE_OFFSET = -9.99e+31
RADIANCE_SCALING_FACTOR = -9.99e+31
REFLECTANCE_SCALING_FACTOR = -9.99e+31
MEX:REFLECTANCE_OFFSET = -9.99e+31
/* IMAGE OBJECT DEFINITIONS */
OBJECT = IMAGE
  INTERCHANGE_FORMAT = BINARY
  LINES = 1132
  LINE_SAMPLES = 1144
  SAMPLE_TYPE = UNSIGNED_INTEGER
  SAMPLE_BITS = 8
  BANDS = 1
  BAND_STORAGE_TYPE = BAND_SEQUENTIAL
  MAXIMUM = 3312
  MEAN = 2980.61
  MINIMUM = 2557
  STANDARD_DEVIATION = 71.7583
END_OBJECT = IMAGE
/* MAP OBJECT DEFINITIONS */
OBJECT = IMAGE_MAP_PROJECTION
  ^DATA_SET_MAP_PROJECTION_CATALOG= "DSMAP.CAT"
  A_AXIS_RADIUS = 3396.19
  B_AXIS_RADIUS = 3396.19
  C_AXIS_RADIUS = 3396.19
  CENTER_LATITUDE = 0.0
  CENTER_LONGITUDE = 67.0
  COORDINATE_SYSTEM_NAME = PLANETOGRAPHIC
  COORDINATE_SYSTEM_TYPE = "BODY-FIXED ROTATING"
  EASTERNMOST_LONGITUDE = 67.20610000000001
  FIRST_STANDARD_PARALLEL = "N/A"
  LINE_FIRST_PIXEL = 1
  LINE_LAST_PIXEL = 1132
  LINE_PROJECTION_OFFSET = 228791.0
  MAP_PROJECTION_ROTATION = 0.0
  MAP_PROJECTION_TYPE = SINUSOIDAL
  MAP_RESOLUTION = 23709.8786048756
  MAP_SCALE = 0.0025
  MAXIMUM_LATITUDE = 9.64921
  MINIMUM_LATITUDE = 9.603260000000001
  POSITIVE_LONGITUDE_DIRECTION = EAST
  REFERENCE_LATITUDE = "N/A"
  REFERENCE_LONGITUDE = "N/A"
  SAMPLE_FIRST_PIXEL = 1
  SAMPLE_LAST_PIXEL = 1144
  SAMPLE_PROJECTION_OFFSET = -3703.0
  SECOND_STANDARD_PARALLEL = "N/A"
  WESTERNMOST_LONGITUDE = 67.15900000000001
END_OBJECT = IMAGE_MAP_PROJECTION
/* The JPEG2000 image data file associated with this label. */
OBJECT = COMPRESSED_FILE
  FILE_NAME = "H1979_0005_SR3.JP2"
  RECORD_TYPE = UNDEFINED
  FILE_RECORDS = UNK
  ENCODING_TYPE = "JP2"
  INTERCHANGE_FORMAT = BINARY
  UNCOMPRESSED_FILE_NAME = "H1979_0005_SR3.IMG"
  REQUIRED_STORAGE_BYTES = "1313312"
  ^DESCRIPTION = "JP2INFO.TXT"
END_OBJECT = COMPRESSED_FILE
END
