PDS_VERSION_ID = PDS3
/* FILE DATA ELEMENTS */
RECORD_TYPE = STREAM
/* POINTERS TO DATA OBJECTS */
^COMPRESSED_FILE = "H1980_0002_SR3.JP2"
/* IDENTIFICATION DATA ELEMENTS */
DATA_SET_ID = "MEX-M-HRSC-5-REFDR-MAPPROJECTED-V3.0"
DATA_SET_NAME = "MARS EXPRESS HRSC MAP PROJECTED REFDR V3.0"
DETECTOR_ID = MEX_HRSC_SRC
EVENT_TYPE = "MARS-REGIONAL-MAPPING-Fl-Gl"
INSTRUMENT_HOST_ID = MEX
INSTRUMENT_HOST_NAME = "MARS EXPRESS"
INSTRUMENT_ID = HRSC
INSTRUMENT_NAME = "HIGH RESOLUTION STEREO CAMERA"
MISSION_NAME = "MARS EXPRESS"
MISSION_PHASE_NAME = MR_Phase_7
PROCESSING_LEVEL_ID = 3
PRODUCT_CREATION_TIME = 2016-03-09T16:25:58.000Z
PRODUCT_ID = "H1980_0002_SR3.JP2"
RELEASE_ID = 0025
REVISION_ID = 0000
/* QUALITY DATA ELEMENTS */
DATA_QUALITY_ID = 1
DATA_QUALITY_DESC = "Data calculated based on original SPICE kernels"
/* TIME DATA ELEMENTS */
SPACECRAFT_CLOCK_START_COUNT = "1/0070862335.56200"
SPACECRAFT_CLOCK_STOP_COUNT = "1/0070862746.32338"
IMAGE_TIME = 2005-07-31T04:01:41.931Z
START_TIME = 2005-07-31T04:01:41.928Z
STOP_TIME = 2005-07-31T04:01:41.933Z
/* ORBITAL DATA ELEMENTS */
ASCENDING_NODE_LONGITUDE = 186.78
MAXIMUM_RESOLUTION = 2.89
FOOTPRINT_POINT_LATITUDE = (2.33908,2.34045,2.34225,2.34406, 2.34694,2.34875,2.35031,2.35251,2.35392 ,2.35641,2.35817,2.35973,2.36217, 2.36525,2.36666,2.36954,2.3714,2.3735, 2.3756,2.37706,2.37887,2.38102,2.38263, 2.38458,2.38643,2.38644,2.38645,2.38645 ,2.38646,2.38646,2.38647,2.38648, 2.38648,2.38649,2.38649,2.3865,2.38651, 2.38651,2.38652,2.38653,2.38653,2.38654 ,2.38654,2.38655,2.38656,2.38656, 2.38657,2.38657,2.38658,2.386,2.38346, 2.38127,2.3797,2.37765,2.37507,2.37355, 2.37155,2.37023,2.36769,2.36569,2.36418 ,2.3611,2.35905,2.3572,2.35544,2.35412, 2.35207,2.35055,2.34826,2.34567,2.34377 ,2.34216,2.33937,2.33776,2.33742, 2.33741,2.3374,2.3374,2.33739,2.33739, 2.33738,2.33738,2.33737,2.33736,2.33736 ,2.33735,2.33735,2.33734,2.33734, 2.33733,2.33732,2.33732,2.33731,2.33731 ,2.3373,2.33729,2.33729,2.33728,2.33728 ,2.33908)
FOOTPRINT_POINT_LONGITUDE = (328.783,328.783,328.783,328.783, 328.783,328.783,328.783,328.783,328.783 ,328.783,328.783,328.783,328.783, 328.783,328.783,328.783,328.783,328.783 ,328.783,328.783,328.783,328.783, 328.783,328.783,328.783,328.785,328.787 ,328.789,328.791,328.793,328.795, 328.797,328.799,328.801,328.803,328.805 ,328.806,328.808,328.81,328.812,328.814 ,328.816,328.818,328.82,328.822,328.824 ,328.826,328.828,328.83,328.833,328.833 ,328.833,328.833,328.833,328.833, 328.833,328.833,328.833,328.833,328.833 ,328.833,328.833,328.833,328.833, 328.833,328.833,328.833,328.833,328.833 ,328.833,328.833,328.833,328.833, 328.833,328.831,328.829,328.827,328.825 ,328.823,328.821,328.819,328.817, 328.815,328.813,328.811,328.809,328.807 ,328.805,328.803,328.801,328.8,328.798, 328.796,328.794,328.792,328.79,328.788, 328.786,328.784,328.783)
ORBIT_NUMBER = 1980
ORBITAL_ECCENTRICITY = 0.571
ORBITAL_INCLINATION = 86.59
ORBITAL_SEMIMAJOR_AXIS = 8617.65
PERIAPSIS_ALTITUDE = 298.35
PERIAPSIS_ARGUMENT_ANGLE = 10.64
PERIAPSIS_TIME = 2005-07-31T04:03:48.000Z
SPACECRAFT_ORIENTATION = (0.0,1.0,0.0)
^MEX_ORIENTATION_DESC = "MEX_ORIENTATION_DESC.TXT"
SPACECRAFT_POINTING_MODE = ACROSSTRACK
^MEX_POINTING_DESC = "MEX_POINTING_DESC.TXT"
RIGHT_ASCENSION = -1e+32
DECLINATION = -1e+32
OFFSET_ANGLE = -0.08
SPACECRAFT_SOLAR_DISTANCE = 2.06837e+08
TARGET_NAME = MARS
/* CAMERA DATA ELEMENTS */
BUFFER_MODE_ID = BUFFER_8
EXPOSURE_DURATION = 5.04
INST_CMPRS_NAME = NONE
INST_CMPRS_RATIO = 1.0
INST_CMPRS_QUALITY = -2147483648
INST_CMPRS_QUANTZ_TBL_ID = -2147483648
INSTRUMENT_TEMPERATURE = 7.09239
MISSING_FRAMES = 0
START_BIT = 0
/* RADIOMETRIC DATA ELEMENTS */
BANDWIDTH = 250.0
CENTER_FILTER_WAVELENGTH = 600.0
RADIANCE_OFFSET = -9.99e+31
RADIANCE_SCALING_FACTOR = -9.99e+31
REFLECTANCE_SCALING_FACTOR = -9.99e+31
MEX:REFLECTANCE_OFFSET = -9.99e+31
/* IMAGE OBJECT DEFINITIONS */
OBJECT = IMAGE
  INTERCHANGE_FORMAT = BINARY
  LINES = 1210
  LINE_SAMPLES = 1221
  SAMPLE_TYPE = UNSIGNED_INTEGER
  SAMPLE_BITS = 8
  BANDS = 1
  BAND_STORAGE_TYPE = BAND_SEQUENTIAL
  MAXIMUM = 4839
  MEAN = 4263.68
  MINIMUM = 3648
  STANDARD_DEVIATION = 169.718
END_OBJECT = IMAGE
/* MAP OBJECT DEFINITIONS */
OBJECT = IMAGE_MAP_PROJECTION
  ^DATA_SET_MAP_PROJECTION_CATALOG= "DSMAP.CAT"
  A_AXIS_RADIUS = 3396.19
  B_AXIS_RADIUS = 3396.19
  C_AXIS_RADIUS = 3396.19
  CENTER_LATITUDE = 0.0
  CENTER_LONGITUDE = 329.0
  COORDINATE_SYSTEM_NAME = PLANETOGRAPHIC
  COORDINATE_SYSTEM_TYPE = "BODY-FIXED ROTATING"
  EASTERNMOST_LONGITUDE = 328.833
  FIRST_STANDARD_PARALLEL = "N/A"
  LINE_FIRST_PIXEL = 1
  LINE_LAST_PIXEL = 1210
  LINE_PROJECTION_OFFSET = 56604.0
  MAP_PROJECTION_ROTATION = 0.0
  MAP_PROJECTION_TYPE = SINUSOIDAL
  MAP_RESOLUTION = 23709.8786048756
  MAP_SCALE = 0.0025
  MAXIMUM_LATITUDE = 2.38658
  MINIMUM_LATITUDE = 2.33728
  POSITIVE_LONGITUDE_DIRECTION = EAST
  REFERENCE_LATITUDE = "N/A"
  REFERENCE_LONGITUDE = "N/A"
  SAMPLE_FIRST_PIXEL = 1
  SAMPLE_LAST_PIXEL = 1221
  SAMPLE_PROJECTION_OFFSET = 5161.0
  SECOND_STANDARD_PARALLEL = "N/A"
  WESTERNMOST_LONGITUDE = 328.783
END_OBJECT = IMAGE_MAP_PROJECTION
/* The JPEG2000 image data file associated with this label. */
OBJECT = COMPRESSED_FILE
  FILE_NAME = "H1980_0002_SR3.JP2"
  RECORD_TYPE = UNDEFINED
  FILE_RECORDS = UNK
  ENCODING_TYPE = "JP2"
  INTERCHANGE_FORMAT = BINARY
  UNCOMPRESSED_FILE_NAME = "H1980_0002_SR3.IMG"
  REQUIRED_STORAGE_BYTES = "1496946"
  ^DESCRIPTION = "JP2INFO.TXT"
END_OBJECT = COMPRESSED_FILE
END
