PDS_VERSION_ID = PDS3
/* FILE DATA ELEMENTS */
RECORD_TYPE = STREAM
/* POINTERS TO DATA OBJECTS */
^COMPRESSED_FILE = "H1981_0000_P13.JP2"
/* IDENTIFICATION DATA ELEMENTS */
DATA_SET_ID = "MEX-M-HRSC-5-REFDR-MAPPROJECTED-V3.0"
DATA_SET_NAME = "MARS EXPRESS HRSC MAP PROJECTED REFDR V3.0"
DETECTOR_ID = MEX_HRSC_P1
EVENT_TYPE = "MARS-LOCAL-STEREO-Vo-Te-Gl"
INSTRUMENT_HOST_ID = MEX
INSTRUMENT_HOST_NAME = "MARS EXPRESS"
INSTRUMENT_ID = HRSC
INSTRUMENT_NAME = "HIGH RESOLUTION STEREO CAMERA"
MISSION_NAME = "MARS EXPRESS"
MISSION_PHASE_NAME = MR_Phase_7
PROCESSING_LEVEL_ID = 3
PRODUCT_CREATION_TIME = 2016-03-09T16:25:58.000Z
PRODUCT_ID = "H1981_0000_P13.JP2"
RELEASE_ID = 0025
REVISION_ID = 0000
/* QUALITY DATA ELEMENTS */
DATA_QUALITY_ID = 2
DATA_QUALITY_DESC = "Data calculated based on photogrammetrically improved orbit and attitude data"
/* TIME DATA ELEMENTS */
SPACECRAFT_CLOCK_START_COUNT = "1/0070886419.56192"
SPACECRAFT_CLOCK_STOP_COUNT = "1/0070886650.56212"
START_TIME = 2005-07-31T10:41:32.205Z
STOP_TIME = 2005-07-31T10:44:06.302Z
/* ORBITAL DATA ELEMENTS */
ASCENDING_NODE_LONGITUDE = 186.76
MAXIMUM_RESOLUTION = 26.3
FOOTPRINT_POINT_LATITUDE = (-11.9921,-11.9856,-11.9792,-11.9729, -11.9666,-11.8307,-11.6025,-11.3745, -11.1462,-10.9177,-10.6889,-10.3456, -10.0021,-9.77294,-9.5435,-9.19955, -8.96983,-8.63095,-8.43826,-8.14919, -7.86022,-7.66697,-7.47405,-7.18446, -6.99148,-6.70161,-6.50817,-6.31481, -6.12119,-5.83076,-5.63735,-5.44365, -5.24969,-5.05612,-4.86212,-4.57117, -4.37717,-4.18306,-3.98901,-3.69984, -3.51176,-3.22956,-3.04142,-2.75955, -2.57154,-2.38329,-2.19484,-2.00647, -1.81814,-1.8172,-1.82351,-1.83319, -1.84264,-1.84909,-1.85601,-2.0445, -2.23265,-2.42067,-2.60885,-2.79701, -2.9849,-3.17295,-3.3611,-3.54903, -3.73696,-3.92862,-4.1229,-4.31688, -4.51091,-4.70507,-4.99585,-5.28631, -5.5766,-5.77012,-5.96351,-6.2536, -6.44701,-6.73689,-6.93011,-7.12318, -7.41282,-7.60578,-7.89486,-8.08756, -8.28024,-8.47286,-8.66506,-9.00231, -9.23184,-9.57581,-9.80509,-10.1487, -10.3775,-10.7206,-10.9488,-11.1776, -11.4059,-11.748,-11.9762,-11.9921)
FOOTPRINT_POINT_LONGITUDE = (231.848,231.625,231.404,231.186,230.97 ,230.777,230.779,230.781,230.784, 230.786,230.788,230.792,230.795,230.797 ,230.799,230.802,230.804,230.807, 230.809,230.811,230.813,230.815,230.816 ,230.819,230.82,230.822,230.824,230.825 ,230.826,230.828,230.83,230.831,230.832 ,230.833,230.834,230.836,230.837, 230.839,230.84,230.841,230.842,230.844, 230.845,230.847,230.848,230.848,230.849 ,230.85,230.851,230.991,231.165,231.42, 231.667,231.839,232.005,232.007,232.009 ,232.011,232.013,232.015,232.017,232.02 ,232.022,232.025,232.027,232.029, 232.032,232.035,232.037,232.041,232.045 ,232.049,232.053,232.056,232.059, 232.064,232.067,232.072,232.075,232.078 ,232.084,232.087,232.092,232.096,232.1, 232.103,232.107,232.113,232.118,232.125 ,232.13,232.138,232.143,232.15,232.155, 232.161,232.166,232.174,232.18,231.848)
ORBIT_NUMBER = 1981
ORBITAL_ECCENTRICITY = 0.572
ORBITAL_INCLINATION = 86.58
ORBITAL_SEMIMAJOR_AXIS = 8632.81
PERIAPSIS_ALTITUDE = 297.67
PERIAPSIS_ARGUMENT_ANGLE = 10.46
PERIAPSIS_TIME = 2005-07-31T10:46:55.000Z
SPACECRAFT_ORIENTATION = (0.0,1.0,0.0)
^MEX_ORIENTATION_DESC = "MEX_ORIENTATION_DESC.TXT"
SPACECRAFT_POINTING_MODE = ACROSSTRACK
^MEX_POINTING_DESC = "MEX_POINTING_DESC.TXT"
RIGHT_ASCENSION = -1e+32
DECLINATION = -1e+32
OFFSET_ANGLE = -0.95
SPACECRAFT_SOLAR_DISTANCE = 2.06845e+08
TARGET_NAME = MARS
/* CAMERA DATA ELEMENTS */
DETECTOR_TEMPERATURE = 17.7588
FOCAL_PLANE_TEMPERATURE = 9.195
INST_CMPRS_NAME = "DISCRETE COSINE TRANSFORMATION (DCT)"
INST_CMPRS_RATIO = 7.20703
INST_CMPRS_QUALITY = 0
INST_CMPRS_QUANTZ_TBL_ID = 0
INSTRUMENT_TEMPERATURE = 11.6418
LENS_TEMPERATURE = 10.8262
MACROPIXEL_SIZE = 2
MISSING_FRAMES = 0
PIXEL_SUBSAMPLING_FLAG = N
SIGNAL_CHAIN_ID = 3
/* RADIOMETRIC DATA ELEMENTS */
BANDWIDTH = 174.0
CENTER_FILTER_WAVELENGTH = 675.0
RADIANCE_OFFSET = 5.0697
RADIANCE_SCALING_FACTOR = 0.0145104
REFLECTANCE_SCALING_FACTOR = 0.000333929
MEX:REFLECTANCE_OFFSET = 0.116669
/* IMAGE OBJECT DEFINITIONS */
OBJECT = IMAGE
  INTERCHANGE_FORMAT = BINARY
  LINES = 24064
  LINE_SAMPLES = 3630
  SAMPLE_TYPE = UNSIGNED_INTEGER
  SAMPLE_BITS = 8
  BANDS = 1
  BAND_STORAGE_TYPE = BAND_SEQUENTIAL
  MAXIMUM = 376
  MEAN = 295.735
  MINIMUM = 195
  STANDARD_DEVIATION = 23.7802
END_OBJECT = IMAGE
/* MAP OBJECT DEFINITIONS */
OBJECT = IMAGE_MAP_PROJECTION
  ^DATA_SET_MAP_PROJECTION_CATALOG= "DSMAP.CAT"
  A_AXIS_RADIUS = 3396.0
  B_AXIS_RADIUS = 3396.0
  C_AXIS_RADIUS = 3396.0
  CENTER_LATITUDE = 0.0
  CENTER_LONGITUDE = 231.0
  COORDINATE_SYSTEM_NAME = PLANETOGRAPHIC
  COORDINATE_SYSTEM_TYPE = "BODY-FIXED ROTATING"
  EASTERNMOST_LONGITUDE = 232.18
  FIRST_STANDARD_PARALLEL = "N/A"
  LINE_FIRST_PIXEL = 1
  LINE_LAST_PIXEL = 24064
  LINE_PROJECTION_OFFSET = -4386.25
  MAP_PROJECTION_ROTATION = 0.0
  MAP_PROJECTION_TYPE = SINUSOIDAL
  MAP_RESOLUTION = 2370.85521546667
  MAP_SCALE = 0.025
  MAXIMUM_LATITUDE = -1.8172
  MINIMUM_LATITUDE = -11.9921
  POSITIVE_LONGITUDE_DIRECTION = EAST
  REFERENCE_LATITUDE = "N/A"
  REFERENCE_LONGITUDE = "N/A"
  SAMPLE_FIRST_PIXEL = 1
  SAMPLE_LAST_PIXEL = 3630
  SAMPLE_PROJECTION_OFFSET = 574.25
  SECOND_STANDARD_PARALLEL = "N/A"
  WESTERNMOST_LONGITUDE = 230.777
END_OBJECT = IMAGE_MAP_PROJECTION
/* The JPEG2000 image data file associated with this label. */
OBJECT = COMPRESSED_FILE
  FILE_NAME = "H1981_0000_P13.JP2"
  RECORD_TYPE = UNDEFINED
  FILE_RECORDS = UNK
  ENCODING_TYPE = "JP2"
  INTERCHANGE_FORMAT = BINARY
  UNCOMPRESSED_FILE_NAME = "H1981_0000_P13.IMG"
  REQUIRED_STORAGE_BYTES = "87377730"
  ^DESCRIPTION = "JP2INFO.TXT"
END_OBJECT = COMPRESSED_FILE
END
