PDS_VERSION_ID = PDS3
/* FILE DATA ELEMENTS */
RECORD_TYPE = STREAM
/* POINTERS TO DATA OBJECTS */
^COMPRESSED_FILE = "H1982_0000_IR3.JP2"
/* IDENTIFICATION DATA ELEMENTS */
DATA_SET_ID = "MEX-M-HRSC-5-REFDR-MAPPROJECTED-V3.0"
DATA_SET_NAME = "MARS EXPRESS HRSC MAP PROJECTED REFDR V3.0"
DETECTOR_ID = MEX_HRSC_IR
EVENT_TYPE = "MARS-REGIONAL-MAPPING-Te-Fl-Pf"
INSTRUMENT_HOST_ID = MEX
INSTRUMENT_HOST_NAME = "MARS EXPRESS"
INSTRUMENT_ID = HRSC
INSTRUMENT_NAME = "HIGH RESOLUTION STEREO CAMERA"
MISSION_NAME = "MARS EXPRESS"
MISSION_PHASE_NAME = MR_Phase_7
PROCESSING_LEVEL_ID = 3
PRODUCT_CREATION_TIME = 2016-03-09T16:25:58.000Z
PRODUCT_ID = "H1982_0000_IR3.JP2"
RELEASE_ID = 0025
REVISION_ID = 0000
/* QUALITY DATA ELEMENTS */
DATA_QUALITY_ID = 1
DATA_QUALITY_DESC = "Data calculated based on original SPICE kernels"
/* TIME DATA ELEMENTS */
SPACECRAFT_CLOCK_START_COUNT = "1/0070910682.57159"
SPACECRAFT_CLOCK_STOP_COUNT = "1/0070910959.40258"
START_TIME = 2005-07-31T17:25:53.264Z
STOP_TIME = 2005-07-31T17:29:20.340Z
/* ORBITAL DATA ELEMENTS */
ASCENDING_NODE_LONGITUDE = 186.73
MAXIMUM_RESOLUTION = 50.5
FOOTPRINT_POINT_LATITUDE = (-8.1684,-8.164,-8.15966,-8.15545, -8.15138,-8.1474,-8.14165,-7.84918, -7.40796,-6.97076,-6.67918,-6.23924, -5.94564,-5.65094,-5.35595,-5.06309, -4.77046,-4.48641,-4.20233,-3.91803, -3.49286,-3.20791,-2.78389,-2.51901, -2.24435,-1.96791,-1.69244,-1.27798, -0.866397,-0.591463,-0.315621, -0.0467186,0.216332,0.481522,0.747471, 1.0135,1.27971,1.54641,1.94464,2.21048, 2.60877,2.87513,3.13818,3.39533,3.65045 ,4.03539,4.41867,4.67433,4.93086, 5.18554,5.44211,5.6181,5.61056,5.60565, 5.59996,5.5854,5.33025,4.94723,4.43553, 4.05158,3.79534,3.41144,3.15553,2.8941, 2.62815,2.36248,2.09627,1.83019,1.56603 ,1.16704,0.90123,0.636283,0.369802, -0.029771,-0.295123,-0.705999,-0.980834 ,-1.25627,-1.53151,-1.80711,-2.0809, -2.35953,-2.63459,-3.0471,-3.33853, -3.6244,-4.04942,-4.47576,-4.75965, -5.051,-5.34507,-5.77667,-6.0716, -6.36459,-6.80414,-7.09733,-7.38986, -7.67288,-7.96382,-8.1684)
FOOTPRINT_POINT_LONGITUDE = (133.192,133.001,132.811,132.622, 132.435,132.249,132.072,132.075,132.079 ,132.082,132.085,132.088,132.09,132.093 ,132.095,132.097,132.099,132.101, 132.103,132.104,132.107,132.109,132.111 ,132.112,132.113,132.115,132.116, 132.118,132.12,132.121,132.122,132.123, 132.124,132.125,132.126,132.127,132.128 ,132.129,132.13,132.131,132.132,132.132 ,132.133,132.134,132.134,132.135, 132.135,132.136,132.136,132.137,132.137 ,132.215,132.461,132.62,132.821,133.211 ,133.211,133.211,133.213,133.214, 133.215,133.217,133.218,133.219,133.22, 133.222,133.224,133.226,133.226,133.229 ,133.231,133.232,133.235,133.239, 133.241,133.245,133.247,133.25,133.252, 133.255,133.257,133.263,133.266,133.265 ,133.273,133.278,133.282,133.288, 133.291,133.296,133.3,133.301,133.306, 133.311,133.318,133.323,133.327,133.326 ,133.33,133.192)
ORBIT_NUMBER = 1982
ORBITAL_ECCENTRICITY = 0.572
ORBITAL_INCLINATION = 86.58
ORBITAL_SEMIMAJOR_AXIS = 8623.84
PERIAPSIS_ALTITUDE = 297.91
PERIAPSIS_ARGUMENT_ANGLE = 10.3
PERIAPSIS_TIME = 2005-07-31T17:30:10.000Z
SPACECRAFT_ORIENTATION = (0.0,1.0,0.0)
^MEX_ORIENTATION_DESC = "MEX_ORIENTATION_DESC.TXT"
SPACECRAFT_POINTING_MODE = ACROSSTRACK
^MEX_POINTING_DESC = "MEX_POINTING_DESC.TXT"
RIGHT_ASCENSION = -1e+32
DECLINATION = -1e+32
OFFSET_ANGLE = -0.5
SPACECRAFT_SOLAR_DISTANCE = 2.06853e+08
TARGET_NAME = MARS
/* CAMERA DATA ELEMENTS */
DETECTOR_TEMPERATURE = 18.9822
FOCAL_PLANE_TEMPERATURE = 9.6028
INST_CMPRS_NAME = "DISCRETE COSINE TRANSFORMATION (DCT)"
INST_CMPRS_RATIO = 5.72782
INST_CMPRS_QUALITY = 0
INST_CMPRS_QUANTZ_TBL_ID = 0
INSTRUMENT_TEMPERATURE = 11.6418
LENS_TEMPERATURE = 10.0106
MACROPIXEL_SIZE = 4
MISSING_FRAMES = 0
PIXEL_SUBSAMPLING_FLAG = N
SIGNAL_CHAIN_ID = 2
/* RADIOMETRIC DATA ELEMENTS */
BANDWIDTH = 81.0
CENTER_FILTER_WAVELENGTH = 955.5
RADIANCE_OFFSET = 0.869161
RADIANCE_SCALING_FACTOR = 0.00323805
REFLECTANCE_SCALING_FACTOR = 0.000298907
MEX:REFLECTANCE_OFFSET = 0.0802329
/* IMAGE OBJECT DEFINITIONS */
OBJECT = IMAGE
  INTERCHANGE_FORMAT = BINARY
  LINES = 16331
  LINE_SAMPLES = 1626
  SAMPLE_TYPE = UNSIGNED_INTEGER
  SAMPLE_BITS = 8
  BANDS = 1
  BAND_STORAGE_TYPE = BAND_SEQUENTIAL
  MAXIMUM = 287
  MEAN = 217.736
  MINIMUM = 135
  STANDARD_DEVIATION = 34.9203
END_OBJECT = IMAGE
/* MAP OBJECT DEFINITIONS */
OBJECT = IMAGE_MAP_PROJECTION
  ^DATA_SET_MAP_PROJECTION_CATALOG= "DSMAP.CAT"
  A_AXIS_RADIUS = 3396.0
  B_AXIS_RADIUS = 3396.0
  C_AXIS_RADIUS = 3396.0
  CENTER_LATITUDE = 0.0
  CENTER_LONGITUDE = 133.0
  COORDINATE_SYSTEM_NAME = PLANETOGRAPHIC
  COORDINATE_SYSTEM_TYPE = "BODY-FIXED ROTATING"
  EASTERNMOST_LONGITUDE = 133.33
  FIRST_STANDARD_PARALLEL = "N/A"
  LINE_FIRST_PIXEL = 1
  LINE_LAST_PIXEL = 16331
  LINE_PROJECTION_OFFSET = 6649.125
  MAP_PROJECTION_ROTATION = 0.0
  MAP_PROJECTION_TYPE = SINUSOIDAL
  MAP_RESOLUTION = 1185.42760773333
  MAP_SCALE = 0.05
  MAXIMUM_LATITUDE = 5.6181
  MINIMUM_LATITUDE = -8.1684
  POSITIVE_LONGITUDE_DIRECTION = EAST
  REFERENCE_LATITUDE = "N/A"
  REFERENCE_LONGITUDE = "N/A"
  SAMPLE_FIRST_PIXEL = 1
  SAMPLE_LAST_PIXEL = 1626
  SAMPLE_PROJECTION_OFFSET = 1129.875
  SECOND_STANDARD_PARALLEL = "N/A"
  WESTERNMOST_LONGITUDE = 132.072
END_OBJECT = IMAGE_MAP_PROJECTION
/* The JPEG2000 image data file associated with this label. */
OBJECT = COMPRESSED_FILE
  FILE_NAME = "H1982_0000_IR3.JP2"
  RECORD_TYPE = UNDEFINED
  FILE_RECORDS = UNK
  ENCODING_TYPE = "JP2"
  INTERCHANGE_FORMAT = BINARY
  UNCOMPRESSED_FILE_NAME = "H1982_0000_IR3.IMG"
  REQUIRED_STORAGE_BYTES = "26573718"
  ^DESCRIPTION = "JP2INFO.TXT"
END_OBJECT = COMPRESSED_FILE
END
