PDS_VERSION_ID = PDS3
/* FILE DATA ELEMENTS */
RECORD_TYPE = STREAM
/* POINTERS TO DATA OBJECTS */
^COMPRESSED_FILE = "H1982_0000_P13.JP2"
/* IDENTIFICATION DATA ELEMENTS */
DATA_SET_ID = "MEX-M-HRSC-5-REFDR-MAPPROJECTED-V3.0"
DATA_SET_NAME = "MARS EXPRESS HRSC MAP PROJECTED REFDR V3.0"
DETECTOR_ID = MEX_HRSC_P1
EVENT_TYPE = "MARS-REGIONAL-MAPPING-Te-Fl-Pf"
INSTRUMENT_HOST_ID = MEX
INSTRUMENT_HOST_NAME = "MARS EXPRESS"
INSTRUMENT_ID = HRSC
INSTRUMENT_NAME = "HIGH RESOLUTION STEREO CAMERA"
MISSION_NAME = "MARS EXPRESS"
MISSION_PHASE_NAME = MR_Phase_7
PROCESSING_LEVEL_ID = 3
PRODUCT_CREATION_TIME = 2016-03-09T16:25:58.000Z
PRODUCT_ID = "H1982_0000_P13.JP2"
RELEASE_ID = 0025
REVISION_ID = 0000
/* QUALITY DATA ELEMENTS */
DATA_QUALITY_ID = 1
DATA_QUALITY_DESC = "Data calculated based on original SPICE kernels"
/* TIME DATA ELEMENTS */
SPACECRAFT_CLOCK_START_COUNT = "1/0070910682.57159"
SPACECRAFT_CLOCK_STOP_COUNT = "1/0070910959.40258"
START_TIME = 2005-07-31T17:25:47.867Z
STOP_TIME = 2005-07-31T17:29:15.732Z
/* ORBITAL DATA ELEMENTS */
ASCENDING_NODE_LONGITUDE = 186.73
MAXIMUM_RESOLUTION = 49.8
FOOTPRINT_POINT_LATITUDE = (-8.16336,-8.16016,-8.15697,-8.15385, -8.15081,-8.14784,-8.14327,-7.85298, -7.56201,-7.27032,-6.98094,-6.69085, -6.25426,-5.96256,-5.67062,-5.37722, -4.94,-4.64848,-4.35988,-4.07744, -3.79438,-3.51257,-3.22962,-2.94653, -2.66625,-2.25621,-1.98147,-1.7071, -1.4331,-1.15762,-0.884548,-0.610635, -0.335197,0.0748519,0.337577,0.602317, 0.867397,1.13269,1.39789,1.7944,2.19336 ,2.59066,2.85632,3.12094,3.51516, 3.76934,4.02593,4.40849,4.79193,5.04739 ,5.3021,5.61296,5.60744,5.5982,5.58732, 5.33232,4.94969,4.43879,4.05545,3.79981 ,3.54452,3.28623,3.02144,2.62372, 2.35875,2.09334,1.82806,1.56431,1.16659 ,0.901628,0.637304,0.372016,0.108621, -0.16227,-0.436548,-0.710965,-0.984713, -1.25904,-1.53311,-1.80741,-2.21807, -2.49377,-2.77803,-3.05427,-3.34278, -3.62642,-4.04953,-4.33156,-4.61867, -4.91081,-5.34869,-5.77981,-6.07201, -6.36312,-6.79966,-7.09075,-7.38114, -7.66421,-7.95332,-8.16336)
FOOTPRINT_POINT_LONGITUDE = (133.194,133.002,132.811,132.622, 132.434,132.246,132.069,132.071,132.074 ,132.077,132.079,132.082,132.085, 132.088,132.09,132.092,132.095,132.098, 132.099,132.101,132.103,132.105,132.107 ,132.108,132.11,132.112,132.113,132.115 ,132.116,132.117,132.119,132.12,132.121 ,132.123,132.124,132.125,132.126, 132.127,132.128,132.129,132.13,132.131, 132.132,132.133,132.133,132.134,132.135 ,132.135,132.136,132.136,132.137, 132.215,132.451,132.841,133.211,133.211 ,133.211,133.213,133.214,133.216, 133.216,133.218,133.219,133.221,133.222 ,133.224,133.226,133.227,133.23,133.232 ,133.233,133.236,133.236,133.241, 133.243,133.246,133.248,133.251,133.254 ,133.257,133.261,133.266,133.27,133.267 ,133.276,133.28,133.284,133.287,133.292 ,133.296,133.303,133.304,133.309, 133.313,133.32,133.325,133.33,133.328, 133.333,133.194)
ORBIT_NUMBER = 1982
ORBITAL_ECCENTRICITY = 0.572
ORBITAL_INCLINATION = 86.58
ORBITAL_SEMIMAJOR_AXIS = 8623.84
PERIAPSIS_ALTITUDE = 297.91
PERIAPSIS_ARGUMENT_ANGLE = 10.3
PERIAPSIS_TIME = 2005-07-31T17:30:10.000Z
SPACECRAFT_ORIENTATION = (0.0,1.0,0.0)
^MEX_ORIENTATION_DESC = "MEX_ORIENTATION_DESC.TXT"
SPACECRAFT_POINTING_MODE = ACROSSTRACK
^MEX_POINTING_DESC = "MEX_POINTING_DESC.TXT"
RIGHT_ASCENSION = -1e+32
DECLINATION = -1e+32
OFFSET_ANGLE = -0.5
SPACECRAFT_SOLAR_DISTANCE = 2.06853e+08
TARGET_NAME = MARS
/* CAMERA DATA ELEMENTS */
DETECTOR_TEMPERATURE = 18.9822
FOCAL_PLANE_TEMPERATURE = 9.6028
INST_CMPRS_NAME = "DISCRETE COSINE TRANSFORMATION (DCT)"
INST_CMPRS_RATIO = 13.2052
INST_CMPRS_QUALITY = 0
INST_CMPRS_QUANTZ_TBL_ID = 0
INSTRUMENT_TEMPERATURE = 11.6418
LENS_TEMPERATURE = 10.0106
MACROPIXEL_SIZE = 4
MISSING_FRAMES = 0
PIXEL_SUBSAMPLING_FLAG = N
SIGNAL_CHAIN_ID = 3
/* RADIOMETRIC DATA ELEMENTS */
BANDWIDTH = 174.0
CENTER_FILTER_WAVELENGTH = 675.0
RADIANCE_OFFSET = 3.91766
RADIANCE_SCALING_FACTOR = 0.0113625
REFLECTANCE_SCALING_FACTOR = 0.000261508
MEX:REFLECTANCE_OFFSET = 0.0901649
/* IMAGE OBJECT DEFINITIONS */
OBJECT = IMAGE
  INTERCHANGE_FORMAT = BINARY
  LINES = 16331
  LINE_SAMPLES = 1626
  SAMPLE_TYPE = UNSIGNED_INTEGER
  SAMPLE_BITS = 8
  BANDS = 1
  BAND_STORAGE_TYPE = BAND_SEQUENTIAL
  MAXIMUM = 345
  MEAN = 230.837
  MINIMUM = 186
  STANDARD_DEVIATION = 89.7425
END_OBJECT = IMAGE
/* MAP OBJECT DEFINITIONS */
OBJECT = IMAGE_MAP_PROJECTION
  ^DATA_SET_MAP_PROJECTION_CATALOG= "DSMAP.CAT"
  A_AXIS_RADIUS = 3396.0
  B_AXIS_RADIUS = 3396.0
  C_AXIS_RADIUS = 3396.0
  CENTER_LATITUDE = 0.0
  CENTER_LONGITUDE = 133.0
  COORDINATE_SYSTEM_NAME = PLANETOGRAPHIC
  COORDINATE_SYSTEM_TYPE = "BODY-FIXED ROTATING"
  EASTERNMOST_LONGITUDE = 133.333
  FIRST_STANDARD_PARALLEL = "N/A"
  LINE_FIRST_PIXEL = 1
  LINE_LAST_PIXEL = 16331
  LINE_PROJECTION_OFFSET = 6649.125
  MAP_PROJECTION_ROTATION = 0.0
  MAP_PROJECTION_TYPE = SINUSOIDAL
  MAP_RESOLUTION = 1185.42760773333
  MAP_SCALE = 0.05
  MAXIMUM_LATITUDE = 5.61296
  MINIMUM_LATITUDE = -8.163360000000001
  POSITIVE_LONGITUDE_DIRECTION = EAST
  REFERENCE_LATITUDE = "N/A"
  REFERENCE_LONGITUDE = "N/A"
  SAMPLE_FIRST_PIXEL = 1
  SAMPLE_LAST_PIXEL = 1626
  SAMPLE_PROJECTION_OFFSET = 1129.875
  SECOND_STANDARD_PARALLEL = "N/A"
  WESTERNMOST_LONGITUDE = 132.069
END_OBJECT = IMAGE_MAP_PROJECTION
/* The JPEG2000 image data file associated with this label. */
OBJECT = COMPRESSED_FILE
  FILE_NAME = "H1982_0000_P13.JP2"
  RECORD_TYPE = UNDEFINED
  FILE_RECORDS = UNK
  ENCODING_TYPE = "JP2"
  INTERCHANGE_FORMAT = BINARY
  UNCOMPRESSED_FILE_NAME = "H1982_0000_P13.IMG"
  REQUIRED_STORAGE_BYTES = "26573718"
  ^DESCRIPTION = "JP2INFO.TXT"
END_OBJECT = COMPRESSED_FILE
END
