PDS_VERSION_ID = PDS3
/* FILE DATA ELEMENTS */
RECORD_TYPE = STREAM
/* POINTERS TO DATA OBJECTS */
^COMPRESSED_FILE = "H1984_0008_SR3.JP2"
/* IDENTIFICATION DATA ELEMENTS */
DATA_SET_ID = "MEX-M-HRSC-5-REFDR-MAPPROJECTED-V3.0"
DATA_SET_NAME = "MARS EXPRESS HRSC MAP PROJECTED REFDR V3.0"
DETECTOR_ID = MEX_HRSC_SRC
EVENT_TYPE = "MARS-REGIONAL-STEREO-Vo-Lc-La"
INSTRUMENT_HOST_ID = MEX
INSTRUMENT_HOST_NAME = "MARS EXPRESS"
INSTRUMENT_ID = HRSC
INSTRUMENT_NAME = "HIGH RESOLUTION STEREO CAMERA"
MISSION_NAME = "MARS EXPRESS"
MISSION_PHASE_NAME = MR_Phase_7
PROCESSING_LEVEL_ID = 3
PRODUCT_CREATION_TIME = 2016-03-09T16:25:58.000Z
PRODUCT_ID = "H1984_0008_SR3.JP2"
RELEASE_ID = 0025
REVISION_ID = 0000
/* QUALITY DATA ELEMENTS */
DATA_QUALITY_ID = 1
DATA_QUALITY_DESC = "Data calculated based on original SPICE kernels"
/* TIME DATA ELEMENTS */
SPACECRAFT_CLOCK_START_COUNT = "1/0070958973.57319"
SPACECRAFT_CLOCK_STOP_COUNT = "1/0070959233.49972"
IMAGE_TIME = 2005-08-01T06:50:56.008Z
START_TIME = 2005-08-01T06:50:56.005Z
STOP_TIME = 2005-08-01T06:50:56.010Z
/* ORBITAL DATA ELEMENTS */
ASCENDING_NODE_LONGITUDE = 186.69
MAXIMUM_RESOLUTION = 3.587
FOOTPRINT_POINT_LATITUDE = (-11.9194,-11.9162,-11.9139,-11.9112, -11.9095,-11.9067,-11.9042,-11.904, -11.9011,-11.8986,-11.8958,-11.8936, -11.8903,-11.8869,-11.8845,-11.8814, -11.879,-11.8754,-11.8716,-11.8692, -11.8661,-11.8643,-11.8621,-11.8598, -11.8583,-11.8583,-11.8582,-11.8582, -11.8582,-11.8582,-11.8582,-11.8582, -11.8582,-11.8582,-11.8582,-11.8582, -11.8582,-11.8581,-11.8581,-11.8581, -11.8581,-11.8581,-11.8581,-11.8581, -11.8581,-11.8581,-11.858,-11.858, -11.858,-11.859,-11.8613,-11.8645, -11.867,-11.8693,-11.8722,-11.8739, -11.8764,-11.8785,-11.8807,-11.8829, -11.8859,-11.8885,-11.8905,-11.8922, -11.8947,-11.8967,-11.8987,-11.9015, -11.904,-11.9041,-11.9065,-11.9083, -11.9111,-11.9145,-11.9182,-11.9192, -11.9192,-11.9192,-11.9192,-11.9192, -11.9192,-11.9192,-11.9192,-11.9193, -11.9193,-11.9193,-11.9193,-11.9193, -11.9193,-11.9193,-11.9193,-11.9193, -11.9193,-11.9194,-11.9194,-11.9194, -11.9194,-11.9194,-11.9194,-11.9194)
FOOTPRINT_POINT_LONGITUDE = (295.92,295.92,295.92,295.92,295.92, 295.92,295.92,295.917,295.917,295.917, 295.917,295.917,295.917,295.917,295.917 ,295.917,295.917,295.917,295.917, 295.917,295.917,295.917,295.917,295.917 ,295.917,295.92,295.922,295.925,295.928 ,295.93,295.933,295.935,295.938,295.94, 295.943,295.945,295.948,295.95,295.952, 295.955,295.957,295.96,295.962,295.965, 295.967,295.97,295.972,295.975,295.977, 295.979,295.979,295.979,295.979,295.979 ,295.979,295.979,295.98,295.98,295.98, 295.98,295.98,295.98,295.98,295.98, 295.98,295.98,295.98,295.98,295.98, 295.984,295.984,295.984,295.984,295.984 ,295.984,295.981,295.978,295.976, 295.973,295.971,295.968,295.966,295.963 ,295.961,295.958,295.956,295.953, 295.951,295.948,295.946,295.943,295.941 ,295.938,295.936,295.933,295.931, 295.928,295.925,295.923,295.92)
ORBIT_NUMBER = 1984
ORBITAL_ECCENTRICITY = 0.572
ORBITAL_INCLINATION = 86.59
ORBITAL_SEMIMAJOR_AXIS = 8624.13
PERIAPSIS_ALTITUDE = 297.36
PERIAPSIS_ARGUMENT_ANGLE = 9.95
PERIAPSIS_TIME = 2005-08-01T06:56:32.000Z
SPACECRAFT_ORIENTATION = (0.0,1.0,0.0)
^MEX_ORIENTATION_DESC = "MEX_ORIENTATION_DESC.TXT"
SPACECRAFT_POINTING_MODE = ACROSSTRACK
^MEX_POINTING_DESC = "MEX_POINTING_DESC.TXT"
RIGHT_ASCENSION = -1e+32
DECLINATION = -1e+32
OFFSET_ANGLE = -0.3
SPACECRAFT_SOLAR_DISTANCE = 2.06871e+08
TARGET_NAME = MARS
/* CAMERA DATA ELEMENTS */
BUFFER_MODE_ID = BUFFER_8
EXPOSURE_DURATION = 5.04
INST_CMPRS_NAME = NONE
INST_CMPRS_RATIO = 1.0
INST_CMPRS_QUALITY = -2147483648
INST_CMPRS_QUANTZ_TBL_ID = -2147483648
INSTRUMENT_TEMPERATURE = 11.2121
MISSING_FRAMES = 0
START_BIT = 0
/* RADIOMETRIC DATA ELEMENTS */
BANDWIDTH = 250.0
CENTER_FILTER_WAVELENGTH = 600.0
RADIANCE_OFFSET = -9.99e+31
RADIANCE_SCALING_FACTOR = -9.99e+31
REFLECTANCE_SCALING_FACTOR = -9.99e+31
MEX:REFLECTANCE_OFFSET = -9.99e+31
/* IMAGE OBJECT DEFINITIONS */
OBJECT = IMAGE
  INTERCHANGE_FORMAT = BINARY
  LINES = 1493
  LINE_SAMPLES = 1510
  SAMPLE_TYPE = UNSIGNED_INTEGER
  SAMPLE_BITS = 8
  BANDS = 1
  BAND_STORAGE_TYPE = BAND_SEQUENTIAL
  MAXIMUM = 5376
  MEAN = 4666.03
  MINIMUM = 3576
  STANDARD_DEVIATION = 278.718
END_OBJECT = IMAGE
/* MAP OBJECT DEFINITIONS */
OBJECT = IMAGE_MAP_PROJECTION
  ^DATA_SET_MAP_PROJECTION_CATALOG= "DSMAP.CAT"
  A_AXIS_RADIUS = 3396.19
  B_AXIS_RADIUS = 3396.19
  C_AXIS_RADIUS = 3396.19
  CENTER_LATITUDE = 0.0
  CENTER_LONGITUDE = 296.0
  COORDINATE_SYSTEM_NAME = PLANETOGRAPHIC
  COORDINATE_SYSTEM_TYPE = "BODY-FIXED ROTATING"
  EASTERNMOST_LONGITUDE = 295.984
  FIRST_STANDARD_PARALLEL = "N/A"
  LINE_FIRST_PIXEL = 1
  LINE_LAST_PIXEL = 1493
  LINE_PROJECTION_OFFSET = -281111.0
  MAP_PROJECTION_ROTATION = 0.0
  MAP_PROJECTION_TYPE = SINUSOIDAL
  MAP_RESOLUTION = 23709.8786048756
  MAP_SCALE = 0.0025
  MAXIMUM_LATITUDE = -11.858
  MINIMUM_LATITUDE = -11.9194
  POSITIVE_LONGITUDE_DIRECTION = EAST
  REFERENCE_LATITUDE = "N/A"
  REFERENCE_LONGITUDE = "N/A"
  SAMPLE_FIRST_PIXEL = 1
  SAMPLE_LAST_PIXEL = 1510
  SAMPLE_PROJECTION_OFFSET = 1944.0
  SECOND_STANDARD_PARALLEL = "N/A"
  WESTERNMOST_LONGITUDE = 295.917
END_OBJECT = IMAGE_MAP_PROJECTION
/* The JPEG2000 image data file associated with this label. */
OBJECT = COMPRESSED_FILE
  FILE_NAME = "H1984_0008_SR3.JP2"
  RECORD_TYPE = UNDEFINED
  FILE_RECORDS = UNK
  ENCODING_TYPE = "JP2"
  INTERCHANGE_FORMAT = BINARY
  UNCOMPRESSED_FILE_NAME = "H1984_0008_SR3.IMG"
  REQUIRED_STORAGE_BYTES = "2274060"
  ^DESCRIPTION = "JP2INFO.TXT"
END_OBJECT = COMPRESSED_FILE
END
