PDS_VERSION_ID = PDS3
/* FILE DATA ELEMENTS */
RECORD_TYPE = STREAM
/* POINTERS TO DATA OBJECTS */
^COMPRESSED_FILE = "H1984_0009_P13.JP2"
/* IDENTIFICATION DATA ELEMENTS */
DATA_SET_ID = "MEX-M-HRSC-5-REFDR-MAPPROJECTED-V3.0"
DATA_SET_NAME = "MARS EXPRESS HRSC MAP PROJECTED REFDR V3.0"
DETECTOR_ID = MEX_HRSC_P1
EVENT_TYPE = "MARS-REGIONAL-MAPPING-Fl-Gl"
INSTRUMENT_HOST_ID = MEX
INSTRUMENT_HOST_NAME = "MARS EXPRESS"
INSTRUMENT_ID = HRSC
INSTRUMENT_NAME = "HIGH RESOLUTION STEREO CAMERA"
MISSION_NAME = "MARS EXPRESS"
MISSION_PHASE_NAME = MR_Phase_7
PROCESSING_LEVEL_ID = 3
PRODUCT_CREATION_TIME = 2016-03-09T16:25:58.000Z
PRODUCT_ID = "H1984_0009_P13.JP2"
RELEASE_ID = 0025
REVISION_ID = 0000
/* QUALITY DATA ELEMENTS */
DATA_QUALITY_ID = 1
DATA_QUALITY_DESC = "Data calculated based on original SPICE kernels"
/* TIME DATA ELEMENTS */
SPACECRAFT_CLOCK_START_COUNT = "1/0070959508.57962"
SPACECRAFT_CLOCK_STOP_COUNT = "1/0070959755.40427"
START_TIME = 2005-08-01T06:59:22.147Z
STOP_TIME = 2005-08-01T07:02:27.088Z
/* ORBITAL DATA ELEMENTS */
ASCENDING_NODE_LONGITUDE = 186.69
MAXIMUM_RESOLUTION = 53.4
FOOTPRINT_POINT_LATITUDE = (19.9059,19.914,19.9209,19.9167,20.1275 ,20.4423,20.7586,20.9686,21.1785, 21.4963,21.7127,21.9288,22.141,22.3552, 22.5676,22.7816,22.9958,23.2139,23.4391 ,23.6648,23.8897,24.1109,24.3318, 24.5523,24.8822,25.1016,25.3152,25.5401 ,25.7587,25.9755,26.1871,26.4191, 26.6386,26.8574,27.0754,27.4215,27.6802 ,27.9379,28.1958,28.4528,28.7093,29.094 ,29.3497,29.605,29.8599,30.1146,30.3701 ,30.6251,30.8784,31.1316,31.3838, 31.4013,31.3912,31.3773,31.3637,31.1118 ,30.859,30.6024,30.3497,30.0964,29.8427 ,29.5882,29.3337,29.0784,28.8227, 28.4383,28.1821,27.9232,27.6674,27.4095 ,27.1682,26.8428,26.625,26.4056,26.0652 ,25.8469,25.5215,25.3039,25.0904, 24.8681,24.5354,24.3213,24.0917,23.8707 ,23.5444,23.3205,23.0961,22.8811, 22.6688,22.456,22.1377,21.9222,21.7063, 21.49,21.2765,20.8574,20.6476,20.4375, 20.2274,19.9059)
FOOTPRINT_POINT_LONGITUDE = (296.396,296.036,295.679,295.341,295.34 ,295.338,295.337,295.335,295.334, 295.332,295.331,295.33,295.327,295.326, 295.324,295.322,295.32,295.319,295.318, 295.318,295.317,295.316,295.314,295.313 ,295.31,295.309,295.306,295.306,295.304 ,295.302,295.298,295.297,295.295, 295.294,295.292,295.29,295.288,295.286, 295.283,295.281,295.279,295.276,295.274 ,295.271,295.269,295.267,295.265, 295.263,295.261,295.259,295.257,295.709 ,296.024,296.592,296.948,296.935, 296.923,296.914,296.902,296.889,296.878 ,296.866,296.854,296.843,296.832, 296.816,296.805,296.796,296.784,296.774 ,296.765,296.753,296.745,296.739, 296.727,296.72,296.707,296.699,296.687, 296.682,296.674,296.663,296.663,296.657 ,296.643,296.639,296.635,296.629, 296.621,296.614,296.602,296.597,296.591 ,296.586,296.581,296.572,296.567, 296.563,296.558,296.396)
ORBIT_NUMBER = 1984
ORBITAL_ECCENTRICITY = 0.572
ORBITAL_INCLINATION = 86.59
ORBITAL_SEMIMAJOR_AXIS = 8624.13
PERIAPSIS_ALTITUDE = 297.36
PERIAPSIS_ARGUMENT_ANGLE = 9.95
PERIAPSIS_TIME = 2005-08-01T06:56:32.000Z
SPACECRAFT_ORIENTATION = (0.0,1.0,0.0)
^MEX_ORIENTATION_DESC = "MEX_ORIENTATION_DESC.TXT"
SPACECRAFT_POINTING_MODE = ACROSSTRACK
^MEX_POINTING_DESC = "MEX_POINTING_DESC.TXT"
RIGHT_ASCENSION = -1e+32
DECLINATION = -1e+32
OFFSET_ANGLE = -0.3
SPACECRAFT_SOLAR_DISTANCE = 2.06871e+08
TARGET_NAME = MARS
/* CAMERA DATA ELEMENTS */
DETECTOR_TEMPERATURE = 19.39
FOCAL_PLANE_TEMPERATURE = 9.6028
INST_CMPRS_NAME = "DISCRETE COSINE TRANSFORMATION (DCT)"
INST_CMPRS_RATIO = 19.7414
INST_CMPRS_QUALITY = 0
INST_CMPRS_QUANTZ_TBL_ID = 0
INSTRUMENT_TEMPERATURE = 13.4769
LENS_TEMPERATURE = 10.0106
MACROPIXEL_SIZE = 4
MISSING_FRAMES = 2
PIXEL_SUBSAMPLING_FLAG = N
SIGNAL_CHAIN_ID = 3
/* RADIOMETRIC DATA ELEMENTS */
BANDWIDTH = 174.0
CENTER_FILTER_WAVELENGTH = 675.0
RADIANCE_OFFSET = 1.36768
RADIANCE_SCALING_FACTOR = 0.0103246
REFLECTANCE_SCALING_FACTOR = 0.000237661
MEX:REFLECTANCE_OFFSET = 0.0314824
/* IMAGE OBJECT DEFINITIONS */
OBJECT = IMAGE
  INTERCHANGE_FORMAT = BINARY
  LINES = 13650
  LINE_SAMPLES = 1715
  SAMPLE_TYPE = UNSIGNED_INTEGER
  SAMPLE_BITS = 8
  BANDS = 1
  BAND_STORAGE_TYPE = BAND_SEQUENTIAL
  MAXIMUM = 242
  MEAN = 139.419
  MINIMUM = 80
  STANDARD_DEVIATION = 31.2112
END_OBJECT = IMAGE
/* MAP OBJECT DEFINITIONS */
OBJECT = IMAGE_MAP_PROJECTION
  ^DATA_SET_MAP_PROJECTION_CATALOG= "DSMAP.CAT"
  A_AXIS_RADIUS = 3396.0
  B_AXIS_RADIUS = 3396.0
  C_AXIS_RADIUS = 3396.0
  CENTER_LATITUDE = 0.0
  CENTER_LONGITUDE = 296.0
  COORDINATE_SYSTEM_NAME = PLANETOGRAPHIC
  COORDINATE_SYSTEM_TYPE = "BODY-FIXED ROTATING"
  EASTERNMOST_LONGITUDE = 296.948
  FIRST_STANDARD_PARALLEL = "N/A"
  LINE_FIRST_PIXEL = 1
  LINE_LAST_PIXEL = 13650
  LINE_PROJECTION_OFFSET = 37259.125
  MAP_PROJECTION_ROTATION = 0.0
  MAP_PROJECTION_TYPE = SINUSOIDAL
  MAP_RESOLUTION = 1185.42760773333
  MAP_SCALE = 0.05
  MAXIMUM_LATITUDE = 31.4013
  MINIMUM_LATITUDE = 19.9059
  POSITIVE_LONGITUDE_DIRECTION = EAST
  REFERENCE_LATITUDE = "N/A"
  REFERENCE_LONGITUDE = "N/A"
  SAMPLE_FIRST_PIXEL = 1
  SAMPLE_LAST_PIXEL = 1715
  SAMPLE_PROJECTION_OFFSET = 750.125
  SECOND_STANDARD_PARALLEL = "N/A"
  WESTERNMOST_LONGITUDE = 295.257
END_OBJECT = IMAGE_MAP_PROJECTION
/* The JPEG2000 image data file associated with this label. */
OBJECT = COMPRESSED_FILE
  FILE_NAME = "H1984_0009_P13.JP2"
  RECORD_TYPE = UNDEFINED
  FILE_RECORDS = UNK
  ENCODING_TYPE = "JP2"
  INTERCHANGE_FORMAT = BINARY
  UNCOMPRESSED_FILE_NAME = "H1984_0009_P13.IMG"
  REQUIRED_STORAGE_BYTES = "23430330"
  ^DESCRIPTION = "JP2INFO.TXT"
END_OBJECT = COMPRESSED_FILE
END
