PDS_VERSION_ID = PDS3
/* FILE DATA ELEMENTS */
RECORD_TYPE = STREAM
/* POINTERS TO DATA OBJECTS */
^COMPRESSED_FILE = "H1984_0009_S13.JP2"
/* IDENTIFICATION DATA ELEMENTS */
DATA_SET_ID = "MEX-M-HRSC-5-REFDR-MAPPROJECTED-V3.0"
DATA_SET_NAME = "MARS EXPRESS HRSC MAP PROJECTED REFDR V3.0"
DETECTOR_ID = MEX_HRSC_S1
EVENT_TYPE = "MARS-REGIONAL-MAPPING-Fl-Gl"
INSTRUMENT_HOST_ID = MEX
INSTRUMENT_HOST_NAME = "MARS EXPRESS"
INSTRUMENT_ID = HRSC
INSTRUMENT_NAME = "HIGH RESOLUTION STEREO CAMERA"
MISSION_NAME = "MARS EXPRESS"
MISSION_PHASE_NAME = MR_Phase_7
PROCESSING_LEVEL_ID = 3
PRODUCT_CREATION_TIME = 2016-03-09T16:25:58.000Z
PRODUCT_ID = "H1984_0009_S13.JP2"
RELEASE_ID = 0025
REVISION_ID = 0000
/* QUALITY DATA ELEMENTS */
DATA_QUALITY_ID = 1
DATA_QUALITY_DESC = "Data calculated based on original SPICE kernels"
/* TIME DATA ELEMENTS */
SPACECRAFT_CLOCK_START_COUNT = "1/0070959508.57962"
SPACECRAFT_CLOCK_STOP_COUNT = "1/0070959755.40427"
START_TIME = 2005-08-01T06:59:31.950Z
STOP_TIME = 2005-08-01T07:02:40.835Z
/* ORBITAL DATA ELEMENTS */
ASCENDING_NODE_LONGITUDE = 186.69
MAXIMUM_RESOLUTION = 27.9
FOOTPRINT_POINT_LATITUDE = (19.8863,19.892,19.902,19.8944,20.1025, 20.4125,20.7251,21.0461,21.2601,21.4736 ,21.6867,21.8995,22.2105,22.4203, 22.7435,22.9608,23.179,23.3997,23.6293, 23.8496,24.0669,24.2839,24.5004,24.7165 ,24.9315,25.1396,25.353,25.5762,25.9395 ,26.25,26.4645,26.8343,27.0893,27.3421, 27.7221,27.9737,28.3511,28.601,28.8519, 29.102,29.3513,29.6001,29.8485,30.0964, 30.3452,30.7187,30.9714,31.3503,31.3882 ,31.3779,31.3683,31.3629,31.3494, 31.3386,31.0864,30.8325,30.5788,30.3328 ,30.0864,29.7155,29.4676,29.2194,28.97, 28.7203,28.4701,28.2203,27.9666,27.7175 ,27.4655,27.2128,26.9607,26.7056, 26.3499,26.1368,25.9231,25.7117,25.4537 ,25.2421,24.9199,24.705,24.3876,24.1576 ,23.9395,23.7362,23.5146,23.182,22.8539 ,22.5327,22.3183,22.1127,21.9003, 21.6875,21.3677,21.1545,20.9407,20.6223 ,20.4151,20.2079,20.0002,19.8863)
FOOTPRINT_POINT_LONGITUDE = (296.252,296.063,295.687,295.33,295.329 ,295.327,295.325,295.323,295.322,295.32 ,295.319,295.317,295.314,295.312, 295.308,295.307,295.305,295.304,295.304 ,295.303,295.301,295.299,295.298, 295.296,295.294,295.291,295.289,295.288 ,295.284,295.28,295.278,295.275,295.273 ,295.271,295.267,295.265,295.261, 295.258,295.256,295.253,295.251,295.248 ,295.246,295.243,295.241,295.237, 295.235,295.231,295.563,295.847,296.183 ,296.418,296.723,296.967,296.954, 296.942,296.931,296.919,296.907,296.889 ,296.877,296.866,296.855,296.844, 296.833,296.822,296.813,296.801,296.791 ,296.781,296.771,296.762,296.751, 296.743,296.735,296.726,296.717,296.708 ,296.697,296.69,296.676,296.676,296.67, 296.657,296.653,296.646,296.638,296.625 ,296.619,296.61,296.605,296.6,296.592, 296.587,296.582,296.574,296.57,296.565, 296.561,296.252)
ORBIT_NUMBER = 1984
ORBITAL_ECCENTRICITY = 0.572
ORBITAL_INCLINATION = 86.59
ORBITAL_SEMIMAJOR_AXIS = 8624.13
PERIAPSIS_ALTITUDE = 297.36
PERIAPSIS_ARGUMENT_ANGLE = 9.95
PERIAPSIS_TIME = 2005-08-01T06:56:32.000Z
SPACECRAFT_ORIENTATION = (0.0,1.0,0.0)
^MEX_ORIENTATION_DESC = "MEX_ORIENTATION_DESC.TXT"
SPACECRAFT_POINTING_MODE = ACROSSTRACK
^MEX_POINTING_DESC = "MEX_POINTING_DESC.TXT"
RIGHT_ASCENSION = -1e+32
DECLINATION = -1e+32
OFFSET_ANGLE = -0.3
SPACECRAFT_SOLAR_DISTANCE = 2.06871e+08
TARGET_NAME = MARS
/* CAMERA DATA ELEMENTS */
DETECTOR_TEMPERATURE = 19.39
FOCAL_PLANE_TEMPERATURE = 9.6028
INST_CMPRS_NAME = "DISCRETE COSINE TRANSFORMATION (DCT)"
INST_CMPRS_RATIO = 9.69321
INST_CMPRS_QUALITY = 0
INST_CMPRS_QUANTZ_TBL_ID = 0
INSTRUMENT_TEMPERATURE = 13.4769
LENS_TEMPERATURE = 10.0106
MACROPIXEL_SIZE = 2
MISSING_FRAMES = 14
PIXEL_SUBSAMPLING_FLAG = N
SIGNAL_CHAIN_ID = 1
/* RADIOMETRIC DATA ELEMENTS */
BANDWIDTH = 180.0
CENTER_FILTER_WAVELENGTH = 677.0
RADIANCE_OFFSET = 1.47954
RADIANCE_SCALING_FACTOR = 0.0113811
REFLECTANCE_SCALING_FACTOR = 0.000254112
MEX:REFLECTANCE_OFFSET = 0.0330346
/* IMAGE OBJECT DEFINITIONS */
OBJECT = IMAGE
  INTERCHANGE_FORMAT = BINARY
  LINES = 27299
  LINE_SAMPLES = 3430
  SAMPLE_TYPE = UNSIGNED_INTEGER
  SAMPLE_BITS = 8
  BANDS = 1
  BAND_STORAGE_TYPE = BAND_SEQUENTIAL
  MAXIMUM = 239
  MEAN = 138.911
  MINIMUM = 75
  STANDARD_DEVIATION = 30.3983
END_OBJECT = IMAGE
/* MAP OBJECT DEFINITIONS */
OBJECT = IMAGE_MAP_PROJECTION
  ^DATA_SET_MAP_PROJECTION_CATALOG= "DSMAP.CAT"
  A_AXIS_RADIUS = 3396.0
  B_AXIS_RADIUS = 3396.0
  C_AXIS_RADIUS = 3396.0
  CENTER_LATITUDE = 0.0
  CENTER_LONGITUDE = 296.0
  COORDINATE_SYSTEM_NAME = PLANETOGRAPHIC
  COORDINATE_SYSTEM_TYPE = "BODY-FIXED ROTATING"
  EASTERNMOST_LONGITUDE = 296.967
  FIRST_STANDARD_PARALLEL = "N/A"
  LINE_FIRST_PIXEL = 1
  LINE_LAST_PIXEL = 27299
  LINE_PROJECTION_OFFSET = 74518.75
  MAP_PROJECTION_ROTATION = 0.0
  MAP_PROJECTION_TYPE = SINUSOIDAL
  MAP_RESOLUTION = 2370.85521546667
  MAP_SCALE = 0.025
  MAXIMUM_LATITUDE = 31.3882
  MINIMUM_LATITUDE = 19.8863
  POSITIVE_LONGITUDE_DIRECTION = EAST
  REFERENCE_LATITUDE = "N/A"
  REFERENCE_LONGITUDE = "N/A"
  SAMPLE_FIRST_PIXEL = 1
  SAMPLE_LAST_PIXEL = 3430
  SAMPLE_PROJECTION_OFFSET = 1500.75
  SECOND_STANDARD_PARALLEL = "N/A"
  WESTERNMOST_LONGITUDE = 295.231
END_OBJECT = IMAGE_MAP_PROJECTION
/* The JPEG2000 image data file associated with this label. */
OBJECT = COMPRESSED_FILE
  FILE_NAME = "H1984_0009_S13.JP2"
  RECORD_TYPE = UNDEFINED
  FILE_RECORDS = UNK
  ENCODING_TYPE = "JP2"
  INTERCHANGE_FORMAT = BINARY
  UNCOMPRESSED_FILE_NAME = "H1984_0009_S13.IMG"
  REQUIRED_STORAGE_BYTES = "93659580"
  ^DESCRIPTION = "JP2INFO.TXT"
END_OBJECT = COMPRESSED_FILE
END
