PDS_VERSION_ID = PDS3
/* FILE DATA ELEMENTS */
RECORD_TYPE = STREAM
/* POINTERS TO DATA OBJECTS */
^COMPRESSED_FILE = "H1984_0010_SR3.JP2"
/* IDENTIFICATION DATA ELEMENTS */
DATA_SET_ID = "MEX-M-HRSC-5-REFDR-MAPPROJECTED-V3.0"
DATA_SET_NAME = "MARS EXPRESS HRSC MAP PROJECTED REFDR V3.0"
DETECTOR_ID = MEX_HRSC_SRC
EVENT_TYPE = "MARS-REGIONAL-MAPPING-Fl-Gl"
INSTRUMENT_HOST_ID = MEX
INSTRUMENT_HOST_NAME = "MARS EXPRESS"
INSTRUMENT_ID = HRSC
INSTRUMENT_NAME = "HIGH RESOLUTION STEREO CAMERA"
MISSION_NAME = "MARS EXPRESS"
MISSION_PHASE_NAME = MR_Phase_7
PROCESSING_LEVEL_ID = 3
PRODUCT_CREATION_TIME = 2016-03-09T16:25:58.000Z
PRODUCT_ID = "H1984_0010_SR3.JP2"
RELEASE_ID = 0025
REVISION_ID = 0000
/* QUALITY DATA ELEMENTS */
DATA_QUALITY_ID = 1
DATA_QUALITY_DESC = "Data calculated based on original SPICE kernels"
/* TIME DATA ELEMENTS */
SPACECRAFT_CLOCK_START_COUNT = "1/0070959508.57962"
SPACECRAFT_CLOCK_STOP_COUNT = "1/0070959755.40427"
IMAGE_TIME = 2005-08-01T06:59:34.094Z
START_TIME = 2005-08-01T06:59:33.836Z
STOP_TIME = 2005-08-01T06:59:34.352Z
/* ORBITAL DATA ELEMENTS */
ASCENDING_NODE_LONGITUDE = 186.69
MAXIMUM_RESOLUTION = 3.022
FOOTPRINT_POINT_LATITUDE = (21.8804,21.8831,21.8853,21.8871, 21.8885,21.8902,21.8927,21.8945,21.8972 ,21.8988,21.9014,21.9037,21.9053, 21.9079,21.9102,21.9125,21.9141,21.9154 ,21.9181,21.9198,21.9224,21.924,21.926, 21.9278,21.9292,21.931,21.931,21.931, 21.931,21.931,21.931,21.931,21.9309, 21.9309,21.9309,21.9309,21.9309,21.9309 ,21.9309,21.9308,21.9308,21.9308, 21.9308,21.9308,21.9308,21.9307,21.9307 ,21.9307,21.9307,21.9307,21.9295, 21.9277,21.925,21.9225,21.9209,21.9194, 21.9171,21.9157,21.9133,21.9116,21.9088 ,21.9074,21.9048,21.9024,21.9005,21.899 ,21.8968,21.8954,21.8922,21.8897, 21.8872,21.8854,21.8832,21.8808,21.8793 ,21.8793,21.8793,21.8793,21.8793, 21.8793,21.8794,21.8794,21.8794,21.8794 ,21.8794,21.8794,21.8794,21.8795, 21.8795,21.8795,21.8795,21.8795,21.8795 ,21.8796,21.8796,21.8796,21.8796, 21.8796,21.8796,21.8804)
FOOTPRINT_POINT_LONGITUDE = (295.933,295.933,295.933,295.933, 295.933,295.933,295.933,295.933,295.933 ,295.933,295.933,295.933,295.933, 295.933,295.933,295.933,295.933,295.933 ,295.933,295.933,295.933,295.933, 295.933,295.933,295.933,295.934,295.936 ,295.939,295.941,295.943,295.945, 295.948,295.95,295.952,295.954,295.956, 295.959,295.961,295.963,295.965,295.967 ,295.97,295.972,295.974,295.976,295.978 ,295.981,295.983,295.985,295.987, 295.989,295.989,295.989,295.989,295.989 ,295.989,295.989,295.989,295.989, 295.989,295.989,295.989,295.989,295.989 ,295.989,295.989,295.989,295.989, 295.989,295.989,295.989,295.989,295.989 ,295.989,295.987,295.985,295.983,295.98 ,295.978,295.976,295.974,295.972, 295.969,295.967,295.965,295.963,295.961 ,295.958,295.956,295.954,295.952,295.95 ,295.947,295.945,295.943,295.941, 295.939,295.936,295.934,295.933)
ORBIT_NUMBER = 1984
ORBITAL_ECCENTRICITY = 0.572
ORBITAL_INCLINATION = 86.59
ORBITAL_SEMIMAJOR_AXIS = 8624.13
PERIAPSIS_ALTITUDE = 297.36
PERIAPSIS_ARGUMENT_ANGLE = 9.95
PERIAPSIS_TIME = 2005-08-01T06:56:32.000Z
SPACECRAFT_ORIENTATION = (0.0,1.0,0.0)
^MEX_ORIENTATION_DESC = "MEX_ORIENTATION_DESC.TXT"
SPACECRAFT_POINTING_MODE = ACROSSTRACK
^MEX_POINTING_DESC = "MEX_POINTING_DESC.TXT"
RIGHT_ASCENSION = -1e+32
DECLINATION = -1e+32
OFFSET_ANGLE = -0.3
SPACECRAFT_SOLAR_DISTANCE = 2.06871e+08
TARGET_NAME = MARS
/* CAMERA DATA ELEMENTS */
BUFFER_MODE_ID = BUFFER_8
EXPOSURE_DURATION = 516.096
INST_CMPRS_NAME = NONE
INST_CMPRS_RATIO = 1.0
INST_CMPRS_QUALITY = -2147483648
INST_CMPRS_QUANTZ_TBL_ID = -2147483648
INSTRUMENT_TEMPERATURE = 14.989
MISSING_FRAMES = 0
START_BIT = 0
/* RADIOMETRIC DATA ELEMENTS */
BANDWIDTH = 250.0
CENTER_FILTER_WAVELENGTH = 600.0
RADIANCE_OFFSET = -9.99e+31
RADIANCE_SCALING_FACTOR = -9.99e+31
REFLECTANCE_SCALING_FACTOR = -9.99e+31
MEX:REFLECTANCE_OFFSET = -9.99e+31
/* IMAGE OBJECT DEFINITIONS */
OBJECT = IMAGE
  INTERCHANGE_FORMAT = BINARY
  LINES = 1279
  LINE_SAMPLES = 1295
  SAMPLE_TYPE = UNSIGNED_INTEGER
  SAMPLE_BITS = 8
  BANDS = 1
  BAND_STORAGE_TYPE = BAND_SEQUENTIAL
  MAXIMUM = 14256
  MEAN = 12925.5
  MINIMUM = 11626
  STANDARD_DEVIATION = 255.94
END_OBJECT = IMAGE
/* MAP OBJECT DEFINITIONS */
OBJECT = IMAGE_MAP_PROJECTION
  ^DATA_SET_MAP_PROJECTION_CATALOG= "DSMAP.CAT"
  A_AXIS_RADIUS = 3396.19
  B_AXIS_RADIUS = 3396.19
  C_AXIS_RADIUS = 3396.19
  CENTER_LATITUDE = 0.0
  CENTER_LONGITUDE = 296.0
  COORDINATE_SYSTEM_NAME = PLANETOGRAPHIC
  COORDINATE_SYSTEM_TYPE = "BODY-FIXED ROTATING"
  EASTERNMOST_LONGITUDE = 295.989
  FIRST_STANDARD_PARALLEL = "N/A"
  LINE_FIRST_PIXEL = 1
  LINE_LAST_PIXEL = 1279
  LINE_PROJECTION_OFFSET = 519864.0
  MAP_PROJECTION_ROTATION = 0.0
  MAP_PROJECTION_TYPE = SINUSOIDAL
  MAP_RESOLUTION = 23709.8786048756
  MAP_SCALE = 0.0025
  MAXIMUM_LATITUDE = 21.931
  MINIMUM_LATITUDE = 21.8793
  POSITIVE_LONGITUDE_DIRECTION = EAST
  REFERENCE_LATITUDE = "N/A"
  REFERENCE_LONGITUDE = "N/A"
  SAMPLE_FIRST_PIXEL = 1
  SAMPLE_LAST_PIXEL = 1295
  SAMPLE_PROJECTION_OFFSET = 1441.0
  SECOND_STANDARD_PARALLEL = "N/A"
  WESTERNMOST_LONGITUDE = 295.933
END_OBJECT = IMAGE_MAP_PROJECTION
/* The JPEG2000 image data file associated with this label. */
OBJECT = COMPRESSED_FILE
  FILE_NAME = "H1984_0010_SR3.JP2"
  RECORD_TYPE = UNDEFINED
  FILE_RECORDS = UNK
  ENCODING_TYPE = "JP2"
  INTERCHANGE_FORMAT = BINARY
  UNCOMPRESSED_FILE_NAME = "H1984_0010_SR3.IMG"
  REQUIRED_STORAGE_BYTES = "1675730"
  ^DESCRIPTION = "JP2INFO.TXT"
END_OBJECT = COMPRESSED_FILE
END
