PDS_VERSION_ID = PDS3
/* FILE DATA ELEMENTS */
RECORD_TYPE = STREAM
/* POINTERS TO DATA OBJECTS */
^COMPRESSED_FILE = "H1985_0000_ND3.JP2"
/* IDENTIFICATION DATA ELEMENTS */
DATA_SET_ID = "MEX-M-HRSC-5-REFDR-MAPPROJECTED-V3.0"
DATA_SET_NAME = "MARS EXPRESS HRSC MAP PROJECTED REFDR V3.0"
DETECTOR_ID = MEX_HRSC_NADIR
EVENT_TYPE = "MARS-REGIONAL-MAPPING-Vo-La-At"
INSTRUMENT_HOST_ID = MEX
INSTRUMENT_HOST_NAME = "MARS EXPRESS"
INSTRUMENT_ID = HRSC
INSTRUMENT_NAME = "HIGH RESOLUTION STEREO CAMERA"
MISSION_NAME = "MARS EXPRESS"
MISSION_PHASE_NAME = MR_Phase_7
PROCESSING_LEVEL_ID = 3
PRODUCT_CREATION_TIME = 2016-03-09T16:25:58.000Z
PRODUCT_ID = "H1985_0000_ND3.JP2"
RELEASE_ID = 0025
REVISION_ID = 0000
/* QUALITY DATA ELEMENTS */
DATA_QUALITY_ID = 1
DATA_QUALITY_DESC = "Data calculated based on original SPICE kernels"
/* TIME DATA ELEMENTS */
SPACECRAFT_CLOCK_START_COUNT = "1/0070983301.57321"
SPACECRAFT_CLOCK_STOP_COUNT = "1/0070983552.15756"
START_TIME = 2005-08-01T13:35:42.194Z
STOP_TIME = 2005-08-01T13:38:51.203Z
/* ORBITAL DATA ELEMENTS */
ASCENDING_NODE_LONGITUDE = 186.67
MAXIMUM_RESOLUTION = 12.1
FOOTPRINT_POINT_LATITUDE = (-5.70088,-5.70268,-5.7035,-5.43968, -5.17599,-4.91206,-4.64789,-4.3835, -4.11888,-3.85764,-3.60116,-3.34447, -3.08758,-2.83049,-2.57323,-2.31579, -1.93334,-1.684,-1.43451,-1.18489, -0.935063,-0.685105,-0.434985,-0.184745 ,0.0656213,0.31378,0.555799,0.797927, 1.04017,1.28256,1.52507,1.76767,2.01041 ,2.25322,2.49613,2.73913,2.98226, 3.22547,3.46524,3.93471,4.40446,4.63944 ,4.87447,5.10959,5.34476,5.58,5.81527, 6.16829,6.40369,6.63914,6.65071,6.65124 ,6.65148,6.53373,6.29837,6.06305, 5.82779,5.59257,5.3574,5.12229,4.88723, 4.41726,3.94759,3.47824,3.2389,2.99574, 2.75267,2.50972,2.26685,2.0241,1.78145, 1.53891,1.29645,1.0541,0.811839, 0.569696,0.327725,-0.0451607,-0.295437, -0.545552,-0.795502,-1.04533,-1.295, -1.54452,-1.79386,-2.04306,-2.30055, -2.55802,-2.81537,-3.07249,-3.32934, -3.586,-3.84247,-4.10327,-4.36784, -4.63224,-4.89643,-5.16016,-5.42386, -5.70088)
FOOTPRINT_POINT_LONGITUDE = (197.758,197.207,196.87,196.704,196.706 ,196.709,196.711,196.713,196.715, 196.717,196.719,196.721,196.723,196.725 ,196.727,196.729,196.731,196.732, 196.734,196.735,196.736,196.737,196.738 ,196.739,196.741,196.741,196.742, 196.743,196.744,196.745,196.746,196.746 ,196.747,196.748,196.748,196.749, 196.749,196.75,196.75,196.751,196.752, 196.752,196.752,196.752,196.752,196.752 ,196.752,196.752,196.752,196.752, 197.005,197.342,197.595,197.821,197.821 ,197.822,197.823,197.823,197.824, 197.825,197.826,197.828,197.83,197.832, 197.834,197.835,197.837,197.838,197.84, 197.842,197.844,197.846,197.848,197.85, 197.852,197.853,197.856,197.859,197.862 ,197.865,197.868,197.87,197.873,197.876 ,197.879,197.882,197.885,197.887,197.89 ,197.892,197.896,197.9,197.903,197.907, 197.911,197.915,197.918,197.924,197.928 ,197.758)
ORBIT_NUMBER = 1985
ORBITAL_ECCENTRICITY = 0.572
ORBITAL_INCLINATION = 86.59
ORBITAL_SEMIMAJOR_AXIS = 8619.21
PERIAPSIS_ALTITUDE = 297.62
PERIAPSIS_ARGUMENT_ANGLE = 9.74
PERIAPSIS_TIME = 2005-08-01T13:39:38.000Z
SPACECRAFT_ORIENTATION = (0.0,1.0,0.0)
^MEX_ORIENTATION_DESC = "MEX_ORIENTATION_DESC.TXT"
SPACECRAFT_POINTING_MODE = ACROSSTRACK
^MEX_POINTING_DESC = "MEX_POINTING_DESC.TXT"
RIGHT_ASCENSION = -1e+32
DECLINATION = -1e+32
OFFSET_ANGLE = 0.05
SPACECRAFT_SOLAR_DISTANCE = 2.0688e+08
TARGET_NAME = MARS
/* CAMERA DATA ELEMENTS */
DETECTOR_TEMPERATURE = 18.5744
FOCAL_PLANE_TEMPERATURE = 9.3989
INST_CMPRS_NAME = "DISCRETE COSINE TRANSFORMATION (DCT)"
INST_CMPRS_RATIO = 4.99284
INST_CMPRS_QUALITY = 0
INST_CMPRS_QUANTZ_TBL_ID = 0
INSTRUMENT_TEMPERATURE = 11.6418
LENS_TEMPERATURE = 9.8067
MACROPIXEL_SIZE = 1
MISSING_FRAMES = 0
PIXEL_SUBSAMPLING_FLAG = N
SIGNAL_CHAIN_ID = 0
/* RADIOMETRIC DATA ELEMENTS */
BANDWIDTH = 177.0
CENTER_FILTER_WAVELENGTH = 677.5
RADIANCE_OFFSET = 4.74701
RADIANCE_SCALING_FACTOR = 0.011586
REFLECTANCE_SCALING_FACTOR = 0.000263423
MEX:REFLECTANCE_OFFSET = 0.10793
/* IMAGE OBJECT DEFINITIONS */
OBJECT = IMAGE
  INTERCHANGE_FORMAT = BINARY
  LINES = 58583
  LINE_SAMPLES = 6112
  SAMPLE_TYPE = UNSIGNED_INTEGER
  SAMPLE_BITS = 8
  BANDS = 1
  BAND_STORAGE_TYPE = BAND_SEQUENTIAL
  MAXIMUM = 259
  MEAN = 181.191
  MINIMUM = 136
  STANDARD_DEVIATION = 13.3116
END_OBJECT = IMAGE
/* MAP OBJECT DEFINITIONS */
OBJECT = IMAGE_MAP_PROJECTION
  ^DATA_SET_MAP_PROJECTION_CATALOG= "DSMAP.CAT"
  A_AXIS_RADIUS = 3396.0
  B_AXIS_RADIUS = 3396.0
  C_AXIS_RADIUS = 3396.0
  CENTER_LATITUDE = 0.0
  CENTER_LONGITUDE = 197.0
  COORDINATE_SYSTEM_NAME = PLANETOGRAPHIC
  COORDINATE_SYSTEM_TYPE = "BODY-FIXED ROTATING"
  EASTERNMOST_LONGITUDE = 197.928
  FIRST_STANDARD_PARALLEL = "N/A"
  LINE_FIRST_PIXEL = 1
  LINE_LAST_PIXEL = 58583
  LINE_PROJECTION_OFFSET = 31536.0
  MAP_PROJECTION_ROTATION = 0.0
  MAP_PROJECTION_TYPE = SINUSOIDAL
  MAP_RESOLUTION = 4741.71043093333
  MAP_SCALE = 0.0125
  MAXIMUM_LATITUDE = 6.65148
  MINIMUM_LATITUDE = -5.7035
  POSITIVE_LONGITUDE_DIRECTION = EAST
  REFERENCE_LATITUDE = "N/A"
  REFERENCE_LONGITUDE = "N/A"
  SAMPLE_FIRST_PIXEL = 1
  SAMPLE_LAST_PIXEL = 6112
  SAMPLE_PROJECTION_OFFSET = 1576.0
  SECOND_STANDARD_PARALLEL = "N/A"
  WESTERNMOST_LONGITUDE = 196.704
END_OBJECT = IMAGE_MAP_PROJECTION
/* The JPEG2000 image data file associated with this label. */
OBJECT = COMPRESSED_FILE
  FILE_NAME = "H1985_0000_ND3.JP2"
  RECORD_TYPE = UNDEFINED
  FILE_RECORDS = UNK
  ENCODING_TYPE = "JP2"
  INTERCHANGE_FORMAT = BINARY
  UNCOMPRESSED_FILE_NAME = "H1985_0000_ND3.IMG"
  REQUIRED_STORAGE_BYTES = "358089856"
  ^DESCRIPTION = "JP2INFO.TXT"
END_OBJECT = COMPRESSED_FILE
END
