PDS_VERSION_ID = PDS3
/* FILE DATA ELEMENTS */
RECORD_TYPE = STREAM
/* POINTERS TO DATA OBJECTS */
^COMPRESSED_FILE = "H1987_0000_RE3.JP2"
/* IDENTIFICATION DATA ELEMENTS */
DATA_SET_ID = "MEX-M-HRSC-5-REFDR-MAPPROJECTED-V3.0"
DATA_SET_NAME = "MARS EXPRESS HRSC MAP PROJECTED REFDR V3.0"
DETECTOR_ID = MEX_HRSC_RED
EVENT_TYPE = "MARS-REGIONAL-MAPPING-Lc-Tc-Ts"
INSTRUMENT_HOST_ID = MEX
INSTRUMENT_HOST_NAME = "MARS EXPRESS"
INSTRUMENT_ID = HRSC
INSTRUMENT_NAME = "HIGH RESOLUTION STEREO CAMERA"
MISSION_NAME = "MARS EXPRESS"
MISSION_PHASE_NAME = MR_Phase_7
PROCESSING_LEVEL_ID = 3
PRODUCT_CREATION_TIME = 2016-03-09T16:25:58.000Z
PRODUCT_ID = "H1987_0000_RE3.JP2"
RELEASE_ID = 0025
REVISION_ID = 0000
/* QUALITY DATA ELEMENTS */
DATA_QUALITY_ID = 1
DATA_QUALITY_DESC = "Data calculated based on original SPICE kernels"
/* TIME DATA ELEMENTS */
SPACECRAFT_CLOCK_START_COUNT = "1/0071031657.57318"
SPACECRAFT_CLOCK_STOP_COUNT = "1/0071031904.08013"
START_TIME = 2005-08-02T03:01:11.444Z
STOP_TIME = 2005-08-02T03:04:20.195Z
/* ORBITAL DATA ELEMENTS */
ASCENDING_NODE_LONGITUDE = 186.63
MAXIMUM_RESOLUTION = 51.5
FOOTPRINT_POINT_LATITUDE = (-7.58696,-7.59357,-7.5998,-7.60566, -7.6112,-7.60581,-7.32267,-6.90092, -6.66223,-6.42269,-6.06308,-5.82338, -5.58269,-5.34156,-5.10077,-4.85848, -4.49582,-4.13107,-3.88704,-3.64552, -3.40116,-3.15743,-2.9133,-2.66886, -2.30626,-2.06868,-1.71227,-1.35415, -1.11548,-0.757654,-0.520353,-0.288759, 0.0592422,0.291507,0.640865,0.873894, 1.22485,1.57436,1.80724,2.0329,2.25957, 2.48588,2.71273,3.05263,3.27986,3.50755 ,3.84895,4.07658,4.3042,4.32802,4.33458 ,4.34174,4.34784,4.24008,4.01743, 3.67686,3.44946,3.21641,2.9893,2.65114, 2.4251,2.19646,1.97087,1.62577,1.39208, 1.15918,0.926513,0.693355,0.461055, 0.228915,-0.00315899,-0.234942, -0.465691,-0.823431,-1.06224,-1.30089, -1.5385,-1.77659,-2.01436,-2.37172, -2.61373,-2.85949,-3.22505,-3.4689, -3.83412,-4.07719,-4.44172,-4.67479, -4.91622,-5.1577,-5.40714,-5.64843, -5.88888,-6.24738,-6.48755,-6.72628, -6.98078,-7.26566,-7.54953,-7.58696)
FOOTPRINT_POINT_LONGITUDE = (1.6772,1.47911,1.28232,1.08688, 0.892444,0.707183,0.710582,0.715418, 0.71809,0.720683,0.724501,0.72701, 0.729435,0.731808,0.734166,0.736421, 0.739781,0.742978,0.745035,0.747162, 0.749143,0.751116,0.753041,0.754922, 0.757587,0.759296,0.761799,0.764183, 0.765737,0.768012,0.769468,0.770842, 0.772835,0.774123,0.775982,0.777184, 0.778911,0.780595,0.781662,0.782674, 0.783648,0.784599,0.785519,0.786852, 0.787703,0.788526,0.789712,0.79047, 0.791202,1.11113,1.30344,1.50791, 1.68302,1.88452,1.88935,1.89179,1.89308 ,1.89031,1.89167,1.89532,1.89722, 1.89724,1.8993,1.90209,1.90396,1.90629, 1.90869,1.91065,1.9131,1.91555,1.91795, 1.92044,1.92353,1.92682,1.92964,1.93245 ,1.93585,1.93879,1.94182,1.94564, 1.94944,1.95205,1.95774,1.96125,1.96662 ,1.97028,1.97552,1.98539,1.98957, 1.99356,1.99215,1.99594,2.00012,2.00749 ,2.01144,2.01614,2.02074,2.02594, 2.03154,1.6772)
ORBIT_NUMBER = 1987
ORBITAL_ECCENTRICITY = 0.572
ORBITAL_INCLINATION = 86.58
ORBITAL_SEMIMAJOR_AXIS = 8622.13
PERIAPSIS_ALTITUDE = 297.6
PERIAPSIS_ARGUMENT_ANGLE = 9.38
PERIAPSIS_TIME = 2005-08-02T03:05:59.000Z
SPACECRAFT_ORIENTATION = (0.0,1.0,0.0)
^MEX_ORIENTATION_DESC = "MEX_ORIENTATION_DESC.TXT"
SPACECRAFT_POINTING_MODE = ACROSSTRACK
^MEX_POINTING_DESC = "MEX_POINTING_DESC.TXT"
RIGHT_ASCENSION = -1e+32
DECLINATION = -1e+32
OFFSET_ANGLE = -0.53
SPACECRAFT_SOLAR_DISTANCE = 2.06898e+08
TARGET_NAME = MARS
/* CAMERA DATA ELEMENTS */
DETECTOR_TEMPERATURE = 19.1861
FOCAL_PLANE_TEMPERATURE = 9.8067
INST_CMPRS_NAME = "DISCRETE COSINE TRANSFORMATION (DCT)"
INST_CMPRS_RATIO = 16.7644
INST_CMPRS_QUALITY = 0
INST_CMPRS_QUANTZ_TBL_ID = 0
INSTRUMENT_TEMPERATURE = 11.6418
LENS_TEMPERATURE = 10.2145
MACROPIXEL_SIZE = 4
MISSING_FRAMES = 0
PIXEL_SUBSAMPLING_FLAG = N
SIGNAL_CHAIN_ID = 2
/* RADIOMETRIC DATA ELEMENTS */
BANDWIDTH = 48.0
CENTER_FILTER_WAVELENGTH = 748.0
RADIANCE_OFFSET = 1.06741
RADIANCE_SCALING_FACTOR = 0.0024667
REFLECTANCE_SCALING_FACTOR = 0.000240966
MEX:REFLECTANCE_OFFSET = 0.104272
/* IMAGE OBJECT DEFINITIONS */
OBJECT = IMAGE
  INTERCHANGE_FORMAT = BINARY
  LINES = 14129
  LINE_SAMPLES = 1587
  SAMPLE_TYPE = UNSIGNED_INTEGER
  SAMPLE_BITS = 8
  BANDS = 1
  BAND_STORAGE_TYPE = BAND_SEQUENTIAL
  MAXIMUM = 184
  MEAN = 139.965
  MINIMUM = 110
  STANDARD_DEVIATION = 10.6866
END_OBJECT = IMAGE
/* MAP OBJECT DEFINITIONS */
OBJECT = IMAGE_MAP_PROJECTION
  ^DATA_SET_MAP_PROJECTION_CATALOG= "DSMAP.CAT"
  A_AXIS_RADIUS = 3396.0
  B_AXIS_RADIUS = 3396.0
  C_AXIS_RADIUS = 3396.0
  CENTER_LATITUDE = 0.0
  CENTER_LONGITUDE = 1.0
  COORDINATE_SYSTEM_NAME = PLANETOGRAPHIC
  COORDINATE_SYSTEM_TYPE = "BODY-FIXED ROTATING"
  EASTERNMOST_LONGITUDE = 2.03154
  FIRST_STANDARD_PARALLEL = "N/A"
  LINE_FIRST_PIXEL = 1
  LINE_LAST_PIXEL = 14129
  LINE_PROJECTION_OFFSET = 5123.875
  MAP_PROJECTION_ROTATION = 0.0
  MAP_PROJECTION_TYPE = SINUSOIDAL
  MAP_RESOLUTION = 1185.42760773333
  MAP_SCALE = 0.05
  MAXIMUM_LATITUDE = 4.34784
  MINIMUM_LATITUDE = -7.6112
  POSITIVE_LONGITUDE_DIRECTION = EAST
  REFERENCE_LATITUDE = "N/A"
  REFERENCE_LONGITUDE = "N/A"
  SAMPLE_FIRST_PIXEL = 1
  SAMPLE_LAST_PIXEL = 1587
  SAMPLE_PROJECTION_OFFSET = 323.125
  SECOND_STANDARD_PARALLEL = "N/A"
  WESTERNMOST_LONGITUDE = 0.707183
END_OBJECT = IMAGE_MAP_PROJECTION
/* The JPEG2000 image data file associated with this label. */
OBJECT = COMPRESSED_FILE
  FILE_NAME = "H1987_0000_RE3.JP2"
  RECORD_TYPE = UNDEFINED
  FILE_RECORDS = UNK
  ENCODING_TYPE = "JP2"
  INTERCHANGE_FORMAT = BINARY
  UNCOMPRESSED_FILE_NAME = "H1987_0000_RE3.IMG"
  REQUIRED_STORAGE_BYTES = "22441767"
  ^DESCRIPTION = "JP2INFO.TXT"
END_OBJECT = COMPRESSED_FILE
END
