PDS_VERSION_ID = PDS3
/* FILE DATA ELEMENTS */
RECORD_TYPE = STREAM
/* POINTERS TO DATA OBJECTS */
^COMPRESSED_FILE = "H1988_0000_BL3.JP2"
/* IDENTIFICATION DATA ELEMENTS */
DATA_SET_ID = "MEX-M-HRSC-5-REFDR-MAPPROJECTED-V3.0"
DATA_SET_NAME = "MARS EXPRESS HRSC MAP PROJECTED REFDR V3.0"
DETECTOR_ID = MEX_HRSC_BLUE
EVENT_TYPE = "MARS-REGIONAL-MAPPING-Vo-Te"
INSTRUMENT_HOST_ID = MEX
INSTRUMENT_HOST_NAME = "MARS EXPRESS"
INSTRUMENT_ID = HRSC
INSTRUMENT_NAME = "HIGH RESOLUTION STEREO CAMERA"
MISSION_NAME = "MARS EXPRESS"
MISSION_PHASE_NAME = MR_Phase_7
PROCESSING_LEVEL_ID = 3
PRODUCT_CREATION_TIME = 2016-03-09T16:25:58.000Z
PRODUCT_ID = "H1988_0000_BL3.JP2"
RELEASE_ID = 0025
REVISION_ID = 0000
/* QUALITY DATA ELEMENTS */
DATA_QUALITY_ID = 1
DATA_QUALITY_DESC = "Data calculated based on original SPICE kernels"
/* TIME DATA ELEMENTS */
SPACECRAFT_CLOCK_START_COUNT = "1/0071055670.57163"
SPACECRAFT_CLOCK_STOP_COUNT = "1/0071056058.56984"
START_TIME = 2005-08-02T09:41:58.780Z
STOP_TIME = 2005-08-02T09:47:12.755Z
/* ORBITAL DATA ELEMENTS */
ASCENDING_NODE_LONGITUDE = 186.6
MAXIMUM_RESOLUTION = 97.5
FOOTPRINT_POINT_LATITUDE = (-18.1932,-18.1947,-18.1946,-17.7184, -17.2469,-16.7768,-16.3155,-15.8557, -15.4028,-14.9525,-14.5084,-14.0658, -13.6307,-13.1946,-12.769,-12.3424, -11.9148,-11.4855,-10.8415,-10.1938, -9.76229,-9.32967,-8.68391,-8.31734, -7.94902,-7.58609,-7.21946,-6.85143, -6.48106,-6.11516,-5.74611,-5.37647, -5.00639,-4.63585,-4.26476,-3.90522, -3.54476,-3.18377,-2.82317,-2.28551, -1.93584,-1.58542,-1.23477,-0.883446, -0.531884,-0.00874346,0.331134,0.671323 ,1.01177,1.35252,1.60169,1.60256, 1.60383,1.2621,0.921507,0.581166, 0.241152,-0.0986098,-0.624722,-0.975968 ,-1.32702,-1.67782,-2.02816,-2.37812, -2.73859,-3.09963,-3.46019,-3.82039, -4.18015,-4.54871,-4.91923,-5.28942, -5.65904,-6.02692,-6.39396,-6.76162, -7.31066,-7.86298,-8.23183,-8.59618, -9.00975,-9.44147,-9.87718,-10.3085, -10.9558,-11.3842,-12.0248,-12.6693, -13.095,-13.7465,-14.1817,-14.6267, -15.0705,-15.5239,-16.208,-16.6698, -17.1379,-17.6081,-18.0874,-18.1932)
FOOTPRINT_POINT_LONGITUDE = (263.181,262.743,262.055,261.818,261.83 ,261.841,261.852,261.863,261.872, 261.882,261.891,261.9,261.908,261.915, 261.923,261.93,261.938,261.943,261.954, 261.962,261.97,261.977,261.986,261.988, 261.988,261.997,262.001,262.004,262.004 ,262.011,262.014,262.017,262.02,262.023 ,262.026,262.028,262.03,262.032,262.035 ,262.038,262.04,262.042,262.044,262.045 ,262.046,262.048,262.05,262.051,262.052 ,262.053,262.21,262.494,262.888,263.104 ,263.107,263.11,263.113,263.116,263.121 ,263.124,263.127,263.13,263.134,263.137 ,263.141,263.145,263.149,263.154, 263.158,263.163,263.168,263.173,263.179 ,263.186,263.195,263.201,263.214, 263.218,263.218,263.226,263.235,263.247 ,263.251,263.261,263.273,263.284, 263.302,263.31,263.32,263.335,263.346, 263.357,263.368,263.379,263.398,263.41, 263.423,263.436,263.45,263.181)
ORBIT_NUMBER = 1988
ORBITAL_ECCENTRICITY = 0.572
ORBITAL_INCLINATION = 86.59
ORBITAL_SEMIMAJOR_AXIS = 8635.62
PERIAPSIS_ALTITUDE = 296.7
PERIAPSIS_ARGUMENT_ANGLE = 9.22
PERIAPSIS_TIME = 2005-08-02T09:49:13.000Z
SPACECRAFT_ORIENTATION = (0.0,1.0,0.0)
^MEX_ORIENTATION_DESC = "MEX_ORIENTATION_DESC.TXT"
SPACECRAFT_POINTING_MODE = ACROSSTRACK
^MEX_POINTING_DESC = "MEX_POINTING_DESC.TXT"
RIGHT_ASCENSION = -1e+32
DECLINATION = -1e+32
OFFSET_ANGLE = -0.07
SPACECRAFT_SOLAR_DISTANCE = 2.06907e+08
TARGET_NAME = MARS
/* CAMERA DATA ELEMENTS */
DETECTOR_TEMPERATURE = 18.5744
FOCAL_PLANE_TEMPERATURE = 10.0106
INST_CMPRS_NAME = "DISCRETE COSINE TRANSFORMATION (DCT)"
INST_CMPRS_RATIO = 13.9421
INST_CMPRS_QUALITY = 0
INST_CMPRS_QUANTZ_TBL_ID = 0
INSTRUMENT_TEMPERATURE = 11.6418
LENS_TEMPERATURE = 10.4184
MACROPIXEL_SIZE = 8
MISSING_FRAMES = 0
PIXEL_SUBSAMPLING_FLAG = N
SIGNAL_CHAIN_ID = 2
/* RADIOMETRIC DATA ELEMENTS */
BANDWIDTH = 76.0
CENTER_FILTER_WAVELENGTH = 444.0
RADIANCE_OFFSET = 0.468361
RADIANCE_SCALING_FACTOR = 0.00260896
REFLECTANCE_SCALING_FACTOR = 0.000114756
MEX:REFLECTANCE_OFFSET = 0.020601
/* IMAGE OBJECT DEFINITIONS */
OBJECT = IMAGE
  INTERCHANGE_FORMAT = BINARY
  LINES = 11734
  LINE_SAMPLES = 984
  SAMPLE_TYPE = UNSIGNED_INTEGER
  SAMPLE_BITS = 8
  BANDS = 1
  BAND_STORAGE_TYPE = BAND_SEQUENTIAL
  MAXIMUM = 220
  MEAN = 147.274
  MINIMUM = 85
  STANDARD_DEVIATION = 11.628
END_OBJECT = IMAGE
/* MAP OBJECT DEFINITIONS */
OBJECT = IMAGE_MAP_PROJECTION
  ^DATA_SET_MAP_PROJECTION_CATALOG= "DSMAP.CAT"
  A_AXIS_RADIUS = 3396.0
  B_AXIS_RADIUS = 3396.0
  C_AXIS_RADIUS = 3396.0
  CENTER_LATITUDE = 0.0
  CENTER_LONGITUDE = 263.0
  COORDINATE_SYSTEM_NAME = PLANETOGRAPHIC
  COORDINATE_SYSTEM_TYPE = "BODY-FIXED ROTATING"
  EASTERNMOST_LONGITUDE = 263.45
  FIRST_STANDARD_PARALLEL = "N/A"
  LINE_FIRST_PIXEL = 1
  LINE_LAST_PIXEL = 11734
  LINE_PROJECTION_OFFSET = 951.0625
  MAP_PROJECTION_ROTATION = 0.0
  MAP_PROJECTION_TYPE = SINUSOIDAL
  MAP_RESOLUTION = 592.713803866667
  MAP_SCALE = 0.1
  MAXIMUM_LATITUDE = 1.60383
  MINIMUM_LATITUDE = -18.1947
  POSITIVE_LONGITUDE_DIRECTION = EAST
  REFERENCE_LATITUDE = "N/A"
  REFERENCE_LONGITUDE = "N/A"
  SAMPLE_FIRST_PIXEL = 1
  SAMPLE_LAST_PIXEL = 984
  SAMPLE_PROJECTION_OFFSET = 703.4375
  SECOND_STANDARD_PARALLEL = "N/A"
  WESTERNMOST_LONGITUDE = 261.818
END_OBJECT = IMAGE_MAP_PROJECTION
/* The JPEG2000 image data file associated with this label. */
OBJECT = COMPRESSED_FILE
  FILE_NAME = "H1988_0000_BL3.JP2"
  RECORD_TYPE = UNDEFINED
  FILE_RECORDS = UNK
  ENCODING_TYPE = "JP2"
  INTERCHANGE_FORMAT = BINARY
  UNCOMPRESSED_FILE_NAME = "H1988_0000_BL3.IMG"
  REQUIRED_STORAGE_BYTES = "11564952"
  ^DESCRIPTION = "JP2INFO.TXT"
END_OBJECT = COMPRESSED_FILE
END
