PDS_VERSION_ID = PDS3
/* FILE DATA ELEMENTS */
RECORD_TYPE = STREAM
/* POINTERS TO DATA OBJECTS */
^COMPRESSED_FILE = "H1989_0001_RE3.JP2"
/* IDENTIFICATION DATA ELEMENTS */
DATA_SET_ID = "MEX-M-HRSC-5-REFDR-MAPPROJECTED-V3.0"
DATA_SET_NAME = "MARS EXPRESS HRSC MAP PROJECTED REFDR V3.0"
DETECTOR_ID = MEX_HRSC_RED
EVENT_TYPE = "MARS-REGIONAL-STEREO-Te-Pf"
INSTRUMENT_HOST_ID = MEX
INSTRUMENT_HOST_NAME = "MARS EXPRESS"
INSTRUMENT_ID = HRSC
INSTRUMENT_NAME = "HIGH RESOLUTION STEREO CAMERA"
MISSION_NAME = "MARS EXPRESS"
MISSION_PHASE_NAME = MR_Phase_7
PROCESSING_LEVEL_ID = 3
PRODUCT_CREATION_TIME = 2016-03-09T16:25:58.000Z
PRODUCT_ID = "H1989_0001_RE3.JP2"
RELEASE_ID = 0025
REVISION_ID = 0000
/* QUALITY DATA ELEMENTS */
DATA_QUALITY_ID = 2
DATA_QUALITY_DESC = "Data calculated based on photogrammetrically improved orbit and attitude data"
/* TIME DATA ELEMENTS */
SPACECRAFT_CLOCK_START_COUNT = "1/0071080329.57285"
SPACECRAFT_CLOCK_STOP_COUNT = "1/0071080478.08002"
START_TIME = 2005-08-02T16:32:21.574Z
STOP_TIME = 2005-08-02T16:33:52.993Z
/* ORBITAL DATA ELEMENTS */
ASCENDING_NODE_LONGITUDE = 186.58
MAXIMUM_RESOLUTION = 50.3
FOOTPRINT_POINT_LATITUDE = (10.4768,10.4766,10.4764,10.4764, 10.4764,10.4764,10.5557,10.6702,10.7844 ,10.8989,11.0707,11.1853,11.2997, 11.4142,11.6418,11.9791,12.1524,12.2678 ,12.382,12.5528,12.7247,12.9526,13.0677 ,13.1825,13.3546,13.4682,13.6427, 13.7586,13.8734,13.9888,14.1614,14.334, 14.5067,14.6218,14.737,14.8521,14.9666, 15.0821,15.1975,15.3703,15.4854,15.6006 ,15.7158,15.831,16.0037,16.1188,16.234, 16.3493,16.5728,16.5726,16.5724,16.5717 ,16.5716,16.5713,16.5126,16.3973, 16.2826,16.1675,16.0523,15.9371,15.8219 ,15.7067,15.534,15.3613,15.246,15.1313, 15.0161,14.9007,14.7847,14.6106,14.4937 ,14.3781,14.2062,14.0913,13.9762, 13.7506,13.6347,13.4623,13.3487,13.2338 ,13.1185,12.8902,12.7175,12.6038, 12.4889,12.3742,12.2599,12.1453,11.9733 ,11.6348,11.5209,11.4059,11.2913, 11.1769,11.0628,10.9483,10.7766,10.6626 ,10.5486,10.4768)
FOOTPRINT_POINT_LONGITUDE = (164.64,164.482,164.285,164.118,163.99, 163.832,163.684,163.683,163.683,163.683 ,163.682,163.682,163.682,163.682, 163.682,163.681,163.68,163.68,163.679, 163.679,163.679,163.679,163.678,163.678 ,163.678,163.678,163.676,163.675, 163.675,163.674,163.674,163.673,163.672 ,163.672,163.671,163.671,163.671,163.67 ,163.67,163.669,163.668,163.668,163.667 ,163.667,163.666,163.665,163.665, 163.664,163.663,163.821,163.957,164.147 ,164.399,164.62,164.792,164.79,164.789, 164.788,164.787,164.786,164.785,164.784 ,164.782,164.781,164.78,164.779,164.778 ,164.777,164.776,164.774,164.772, 164.771,164.77,164.769,164.768,164.768, 164.767,164.766,164.766,164.765,164.765 ,164.764,164.763,164.763,164.762, 164.761,164.761,164.761,164.76,164.759, 164.758,164.758,164.758,164.757,164.757 ,164.757,164.756,164.756,164.756, 164.64)
ORBIT_NUMBER = 1989
ORBITAL_ECCENTRICITY = 0.571
ORBITAL_INCLINATION = 86.6
ORBITAL_SEMIMAJOR_AXIS = 8618.61
PERIAPSIS_ALTITUDE = 297.44
PERIAPSIS_ARGUMENT_ANGLE = 9.05
PERIAPSIS_TIME = 2005-08-02T16:32:22.000Z
SPACECRAFT_ORIENTATION = (0.0,1.0,0.0)
^MEX_ORIENTATION_DESC = "MEX_ORIENTATION_DESC.TXT"
SPACECRAFT_POINTING_MODE = NADIR
^MEX_POINTING_DESC = "MEX_POINTING_DESC.TXT"
RIGHT_ASCENSION = -1e+32
DECLINATION = -1e+32
OFFSET_ANGLE = -1e+32
SPACECRAFT_SOLAR_DISTANCE = 2.06917e+08
TARGET_NAME = MARS
/* CAMERA DATA ELEMENTS */
DETECTOR_TEMPERATURE = 20.8173
FOCAL_PLANE_TEMPERATURE = 10.6223
INST_CMPRS_NAME = "DISCRETE COSINE TRANSFORMATION (DCT)"
INST_CMPRS_RATIO = 12.5197
INST_CMPRS_QUALITY = 0
INST_CMPRS_QUANTZ_TBL_ID = 0
INSTRUMENT_TEMPERATURE = 14.4964
LENS_TEMPERATURE = 10.8262
MACROPIXEL_SIZE = 4
MISSING_FRAMES = 46
PIXEL_SUBSAMPLING_FLAG = N
SIGNAL_CHAIN_ID = 2
/* RADIOMETRIC DATA ELEMENTS */
BANDWIDTH = 48.0
CENTER_FILTER_WAVELENGTH = 748.0
RADIANCE_OFFSET = 0.960705
RADIANCE_SCALING_FACTOR = 0.00259202
REFLECTANCE_SCALING_FACTOR = 0.000253255
MEX:REFLECTANCE_OFFSET = 0.0938661
/* IMAGE OBJECT DEFINITIONS */
OBJECT = IMAGE
  INTERCHANGE_FORMAT = BINARY
  LINES = 7151
  LINE_SAMPLES = 1376
  SAMPLE_TYPE = UNSIGNED_INTEGER
  SAMPLE_BITS = 8
  BANDS = 1
  BAND_STORAGE_TYPE = BAND_SEQUENTIAL
  MAXIMUM = 215
  MEAN = 164.893
  MINIMUM = 123
  STANDARD_DEVIATION = 15.516
END_OBJECT = IMAGE
/* MAP OBJECT DEFINITIONS */
OBJECT = IMAGE_MAP_PROJECTION
  ^DATA_SET_MAP_PROJECTION_CATALOG= "DSMAP.CAT"
  A_AXIS_RADIUS = 3396.0
  B_AXIS_RADIUS = 3396.0
  C_AXIS_RADIUS = 3396.0
  CENTER_LATITUDE = 0.0
  CENTER_LONGITUDE = 164.0
  COORDINATE_SYSTEM_NAME = PLANETOGRAPHIC
  COORDINATE_SYSTEM_TYPE = "BODY-FIXED ROTATING"
  EASTERNMOST_LONGITUDE = 164.792
  FIRST_STANDARD_PARALLEL = "N/A"
  LINE_FIRST_PIXEL = 1
  LINE_LAST_PIXEL = 7151
  LINE_PROJECTION_OFFSET = 19627.375
  MAP_PROJECTION_ROTATION = 0.0
  MAP_PROJECTION_TYPE = SINUSOIDAL
  MAP_RESOLUTION = 1185.42760773333
  MAP_SCALE = 0.05
  MAXIMUM_LATITUDE = 16.5728
  MINIMUM_LATITUDE = 10.4764
  POSITIVE_LONGITUDE_DIRECTION = EAST
  REFERENCE_LATITUDE = "N/A"
  REFERENCE_LONGITUDE = "N/A"
  SAMPLE_FIRST_PIXEL = 1
  SAMPLE_LAST_PIXEL = 1376
  SAMPLE_PROJECTION_OFFSET = 429.875
  SECOND_STANDARD_PARALLEL = "N/A"
  WESTERNMOST_LONGITUDE = 163.663
END_OBJECT = IMAGE_MAP_PROJECTION
/* The JPEG2000 image data file associated with this label. */
OBJECT = COMPRESSED_FILE
  FILE_NAME = "H1989_0001_RE3.JP2"
  RECORD_TYPE = UNDEFINED
  FILE_RECORDS = UNK
  ENCODING_TYPE = "JP2"
  INTERCHANGE_FORMAT = BINARY
  UNCOMPRESSED_FILE_NAME = "H1989_0001_RE3.IMG"
  REQUIRED_STORAGE_BYTES = "9859040"
  ^DESCRIPTION = "JP2INFO.TXT"
END_OBJECT = COMPRESSED_FILE
END
