PDS_VERSION_ID = PDS3
/* FILE DATA ELEMENTS */
RECORD_TYPE = STREAM
/* POINTERS TO DATA OBJECTS */
^COMPRESSED_FILE = "H1990_0000_P23.JP2"
/* IDENTIFICATION DATA ELEMENTS */
DATA_SET_ID = "MEX-M-HRSC-5-REFDR-MAPPROJECTED-V3.0"
DATA_SET_NAME = "MARS EXPRESS HRSC MAP PROJECTED REFDR V3.0"
DETECTOR_ID = MEX_HRSC_P2
EVENT_TYPE = "MARS-REGIONAL-MAPPING-Vo-Te"
INSTRUMENT_HOST_ID = MEX
INSTRUMENT_HOST_NAME = "MARS EXPRESS"
INSTRUMENT_ID = HRSC
INSTRUMENT_NAME = "HIGH RESOLUTION STEREO CAMERA"
MISSION_NAME = "MARS EXPRESS"
MISSION_PHASE_NAME = MR_Phase_7
PROCESSING_LEVEL_ID = 3
PRODUCT_CREATION_TIME = 2016-03-09T16:25:58.000Z
PRODUCT_ID = "H1990_0000_P23.JP2"
RELEASE_ID = 0025
REVISION_ID = 0000
/* QUALITY DATA ELEMENTS */
DATA_QUALITY_ID = 2
DATA_QUALITY_DESC = "Data calculated based on photogrammetrically improved orbit and attitude data"
/* TIME DATA ELEMENTS */
SPACECRAFT_CLOCK_START_COUNT = "1/0071104348.57951"
SPACECRAFT_CLOCK_STOP_COUNT = "1/0071104583.09793"
START_TIME = 2005-08-02T23:12:46.182Z
STOP_TIME = 2005-08-02T23:15:44.746Z
/* ORBITAL DATA ELEMENTS */
ASCENDING_NODE_LONGITUDE = 186.56
MAXIMUM_RESOLUTION = 48.5
FOOTPRINT_POINT_LATITUDE = (-0.525291,-0.528556,-0.53167,-0.53741, -0.550552,-0.187729,0.0542354,0.296096, 0.532288,0.883808,1.11837,1.35332, 1.58825,1.82341,2.05895,2.29462,2.53067 ,2.76679,3.12113,3.35758,3.58562,3.928, 4.1748,4.40318,4.63214,4.97568,5.20471, 5.43462,5.66402,6.00863,6.23842,6.46869 ,6.69876,6.92949,7.16006,7.50551, 7.73637,7.96743,8.19807,8.42884,8.65996 ,8.89134,9.23836,9.58559,9.93332, 10.1657,10.398,10.63,10.8622,11.0945, 11.1337,11.1383,11.1412,11.0276,10.6797 ,10.4475,10.2156,9.98385,9.63639, 9.40617,9.17952,8.95001,8.7187,8.48501, 8.13644,7.90573,7.67529,7.44501,7.21431 ,6.98328,6.75231,6.52155,6.17542, 5.83071,5.60115,5.37169,5.14245,4.91322 ,4.6845,4.45566,4.11283,3.86622,3.63795 ,3.40994,3.17487,2.93862,2.70235, 2.46641,2.23056,1.99508,1.75992,1.52475 ,1.28973,1.05514,0.703497,0.469201, 0.230073,-0.0122005,-0.254188, -0.525291)
FOOTPRINT_POINT_LONGITUDE = (66.7268,66.5585,66.3909,66.0576, 65.7361,65.7378,65.7389,65.7401,65.7412 ,65.7426,65.7436,65.7444,65.7453, 65.7461,65.7469,65.7476,65.7483,65.7489 ,65.7499,65.7505,65.751,65.7518,65.7523 ,65.7527,65.7531,65.7537,65.754,65.7542 ,65.7545,65.7549,65.7551,65.7552, 65.7554,65.7554,65.7554,65.7556,65.7556 ,65.7555,65.7555,65.7555,65.7554, 65.7553,65.7551,65.7548,65.7544,65.7541 ,65.7537,65.7534,65.7531,65.7527, 66.0436,66.3767,66.5838,66.805,66.8038, 66.8028,66.802,66.8014,66.8006,66.8011, 66.8041,66.8051,66.8049,66.8029,66.8013 ,66.8014,66.8017,66.8022,66.8023, 66.8021,66.802,66.802,66.802,66.8029, 66.8037,66.8045,66.8054,66.8063,66.8075 ,66.8086,66.8104,66.8117,66.813,66.8144 ,66.8159,66.8175,66.8189,66.8206, 66.8222,66.824,66.8259,66.8278,66.8298, 66.8319,66.8351,66.8372,66.8395,66.8418 ,66.8443,66.7268)
ORBIT_NUMBER = 1990
ORBITAL_ECCENTRICITY = 0.572
ORBITAL_INCLINATION = 86.61
ORBITAL_SEMIMAJOR_AXIS = 8628.0
PERIAPSIS_ALTITUDE = 296.43
PERIAPSIS_ARGUMENT_ANGLE = 8.86
PERIAPSIS_TIME = 2005-08-02T23:15:28.000Z
SPACECRAFT_ORIENTATION = (0.0,1.0,0.0)
^MEX_ORIENTATION_DESC = "MEX_ORIENTATION_DESC.TXT"
SPACECRAFT_POINTING_MODE = ACROSSTRACK
^MEX_POINTING_DESC = "MEX_POINTING_DESC.TXT"
RIGHT_ASCENSION = -1e+32
DECLINATION = -1e+32
OFFSET_ANGLE = -0.3
SPACECRAFT_SOLAR_DISTANCE = 2.06927e+08
TARGET_NAME = MARS
/* CAMERA DATA ELEMENTS */
DETECTOR_TEMPERATURE = 18.9822
FOCAL_PLANE_TEMPERATURE = 9.8067
INST_CMPRS_NAME = "DISCRETE COSINE TRANSFORMATION (DCT)"
INST_CMPRS_RATIO = 10.4392
INST_CMPRS_QUALITY = 0
INST_CMPRS_QUANTZ_TBL_ID = 0
INSTRUMENT_TEMPERATURE = 11.6418
LENS_TEMPERATURE = 10.0106
MACROPIXEL_SIZE = 4
MISSING_FRAMES = 3
PIXEL_SUBSAMPLING_FLAG = N
SIGNAL_CHAIN_ID = 3
/* RADIOMETRIC DATA ELEMENTS */
BANDWIDTH = 177.0
CENTER_FILTER_WAVELENGTH = 676.5
RADIANCE_OFFSET = 2.88877
RADIANCE_SCALING_FACTOR = 0.00822366
REFLECTANCE_SCALING_FACTOR = 0.000186705
MEX:REFLECTANCE_OFFSET = 0.0655849
/* IMAGE OBJECT DEFINITIONS */
OBJECT = IMAGE
  INTERCHANGE_FORMAT = BINARY
  LINES = 13841
  LINE_SAMPLES = 1402
  SAMPLE_TYPE = UNSIGNED_INTEGER
  SAMPLE_BITS = 8
  BANDS = 1
  BAND_STORAGE_TYPE = BAND_SEQUENTIAL
  MAXIMUM = 247
  MEAN = 168.859
  MINIMUM = 131
  STANDARD_DEVIATION = 11.4206
END_OBJECT = IMAGE
/* MAP OBJECT DEFINITIONS */
OBJECT = IMAGE_MAP_PROJECTION
  ^DATA_SET_MAP_PROJECTION_CATALOG= "DSMAP.CAT"
  A_AXIS_RADIUS = 3396.0
  B_AXIS_RADIUS = 3396.0
  C_AXIS_RADIUS = 3396.0
  CENTER_LATITUDE = 0.0
  CENTER_LONGITUDE = 66.0
  COORDINATE_SYSTEM_NAME = PLANETOGRAPHIC
  COORDINATE_SYSTEM_TYPE = "BODY-FIXED ROTATING"
  EASTERNMOST_LONGITUDE = 66.8443
  FIRST_STANDARD_PARALLEL = "N/A"
  LINE_FIRST_PIXEL = 1
  LINE_LAST_PIXEL = 13841
  LINE_PROJECTION_OFFSET = 13212.625
  MAP_PROJECTION_ROTATION = 0.0
  MAP_PROJECTION_TYPE = SINUSOIDAL
  MAP_RESOLUTION = 1185.42760773333
  MAP_SCALE = 0.05
  MAXIMUM_LATITUDE = 11.1412
  MINIMUM_LATITUDE = -0.550552
  POSITIVE_LONGITUDE_DIRECTION = EAST
  REFERENCE_LATITUDE = "N/A"
  REFERENCE_LONGITUDE = "N/A"
  SAMPLE_FIRST_PIXEL = 1
  SAMPLE_LAST_PIXEL = 1402
  SAMPLE_PROJECTION_OFFSET = 327.875
  SECOND_STANDARD_PARALLEL = "N/A"
  WESTERNMOST_LONGITUDE = 65.73609999999999
END_OBJECT = IMAGE_MAP_PROJECTION
/* The JPEG2000 image data file associated with this label. */
OBJECT = COMPRESSED_FILE
  FILE_NAME = "H1990_0000_P23.JP2"
  RECORD_TYPE = UNDEFINED
  FILE_RECORDS = UNK
  ENCODING_TYPE = "JP2"
  INTERCHANGE_FORMAT = BINARY
  UNCOMPRESSED_FILE_NAME = "H1990_0000_P23.IMG"
  REQUIRED_STORAGE_BYTES = "19424710"
  ^DESCRIPTION = "JP2INFO.TXT"
END_OBJECT = COMPRESSED_FILE
END
