PDS_VERSION_ID = PDS3
/* FILE DATA ELEMENTS */
RECORD_TYPE = STREAM
/* POINTERS TO DATA OBJECTS */
^COMPRESSED_FILE = "H1992_0000_GR3.JP2"
/* IDENTIFICATION DATA ELEMENTS */
DATA_SET_ID = "MEX-M-HRSC-5-REFDR-MAPPROJECTED-V3.0"
DATA_SET_NAME = "MARS EXPRESS HRSC MAP PROJECTED REFDR V3.0"
DETECTOR_ID = MEX_HRSC_GREEN
EVENT_TYPE = "MARS-REGIONAL-STEREO-Vo-Gl"
INSTRUMENT_HOST_ID = MEX
INSTRUMENT_HOST_NAME = "MARS EXPRESS"
INSTRUMENT_ID = HRSC
INSTRUMENT_NAME = "HIGH RESOLUTION STEREO CAMERA"
MISSION_NAME = "MARS EXPRESS"
MISSION_PHASE_NAME = MR_Phase_7
PROCESSING_LEVEL_ID = 3
PRODUCT_CREATION_TIME = 2016-03-09T16:25:58.000Z
PRODUCT_ID = "H1992_0000_GR3.JP2"
RELEASE_ID = 0025
REVISION_ID = 0000
/* QUALITY DATA ELEMENTS */
DATA_QUALITY_ID = 1
DATA_QUALITY_DESC = "Data calculated based on original SPICE kernels"
/* TIME DATA ELEMENTS */
SPACECRAFT_CLOCK_START_COUNT = "1/0071152532.57939"
SPACECRAFT_CLOCK_STOP_COUNT = "1/0071152762.64642"
START_TIME = 2005-08-03T12:36:25.050Z
STOP_TIME = 2005-08-03T12:39:04.897Z
/* ORBITAL DATA ELEMENTS */
ASCENDING_NODE_LONGITUDE = 186.52
MAXIMUM_RESOLUTION = 101.2
FOOTPRINT_POINT_LATITUDE = (-12.4436,-12.443,-12.4423,-12.4415, -12.4406,-12.4343,-12.2132,-11.9919, -11.7706,-11.5489,-11.3271,-11.1051, -10.8829,-10.6606,-10.438,-10.2153, -9.99235,-9.77989,-9.59282,-9.40568, -9.21835,-9.03092,-8.84341,-8.65571, -8.46793,-8.28002,-8.09197,-7.90382, -7.71562,-7.52738,-7.33894,-7.15039, -6.96178,-6.77294,-6.48961,-5.77597, -5.49181,-5.30239,-5.11269,-4.74536, -4.56153,-4.37769,-4.10175,-3.91782, -3.73365,-3.54944,-3.3652,-3.18088, -2.82033,-2.55273,-2.19568,-2.092, -2.09454,-2.09733,-2.27816,-2.63503, -2.99156,-3.3575,-3.54175,-3.72586, -3.90989,-4.09385,-4.27771,-4.64531, -5.01248,-5.19865,-5.38814,-5.57759, -5.76689,-6.48029,-6.76352,-6.95222, -7.14081,-7.32931,-7.51765,-7.70594, -7.8941,-8.08215,-8.2701,-8.45791, -8.64562,-8.83324,-9.02081,-9.20819, -9.39541,-9.58248,-9.76943,-9.97874, -10.2016,-10.4243,-10.6469,-10.8693, -11.0914,-11.3133,-11.535,-11.7567, -11.978,-12.1992,-12.4203,-12.4436)
FOOTPRINT_POINT_LONGITUDE = (230.777,230.566,230.357,230.151, 229.946,229.747,229.749,229.752,229.754 ,229.756,229.759,229.761,229.763, 229.765,229.767,229.77,229.772,229.774, 229.775,229.777,229.778,229.78,229.782, 229.783,229.785,229.786,229.788,229.789 ,229.79,229.792,229.793,229.795,229.796 ,229.797,229.799,229.804,229.806, 229.807,229.808,229.81,229.811,229.812, 229.814,229.815,229.815,229.816,229.817 ,229.818,229.82,229.821,229.823,230.098 ,230.454,230.85,230.947,230.951,230.955 ,230.959,230.961,230.963,230.965, 230.968,230.97,230.975,230.979,230.982, 230.985,230.988,230.99,231.001,231.006, 231.009,231.012,231.015,231.018,231.021 ,231.025,231.028,231.031,231.035, 231.038,231.042,231.046,231.049,231.053 ,231.056,231.06,231.064,231.069,231.073 ,231.078,231.084,231.089,231.093, 231.098,231.104,231.109,231.114,231.12, 230.777)
ORBIT_NUMBER = 1992
ORBITAL_ECCENTRICITY = 0.572
ORBITAL_INCLINATION = 86.59
ORBITAL_SEMIMAJOR_AXIS = 8633.12
PERIAPSIS_ALTITUDE = 296.66
PERIAPSIS_ARGUMENT_ANGLE = 8.49
PERIAPSIS_TIME = 2005-08-03T12:41:41.000Z
SPACECRAFT_ORIENTATION = (0.0,1.0,0.0)
^MEX_ORIENTATION_DESC = "MEX_ORIENTATION_DESC.TXT"
SPACECRAFT_POINTING_MODE = ACROSSTRACK
^MEX_POINTING_DESC = "MEX_POINTING_DESC.TXT"
RIGHT_ASCENSION = -1e+32
DECLINATION = -1e+32
OFFSET_ANGLE = -0.9
SPACECRAFT_SOLAR_DISTANCE = 2.06947e+08
TARGET_NAME = MARS
/* CAMERA DATA ELEMENTS */
DETECTOR_TEMPERATURE = 18.7783
FOCAL_PLANE_TEMPERATURE = 9.3989
INST_CMPRS_NAME = "DISCRETE COSINE TRANSFORMATION (DCT)"
INST_CMPRS_RATIO = 20.7054
INST_CMPRS_QUALITY = 0
INST_CMPRS_QUANTZ_TBL_ID = 0
INSTRUMENT_TEMPERATURE = 11.6418
LENS_TEMPERATURE = 9.8067
MACROPIXEL_SIZE = 8
MISSING_FRAMES = 45
PIXEL_SUBSAMPLING_FLAG = N
SIGNAL_CHAIN_ID = 2
/* RADIOMETRIC DATA ELEMENTS */
BANDWIDTH = 88.0
CENTER_FILTER_WAVELENGTH = 538.0
RADIANCE_OFFSET = 1.66408
RADIANCE_SCALING_FACTOR = 0.00480848
REFLECTANCE_SCALING_FACTOR = 0.000177302
MEX:REFLECTANCE_OFFSET = 0.0613593
/* IMAGE OBJECT DEFINITIONS */
OBJECT = IMAGE
  INTERCHANGE_FORMAT = BINARY
  LINES = 6134
  LINE_SAMPLES = 873
  SAMPLE_TYPE = UNSIGNED_INTEGER
  SAMPLE_BITS = 8
  BANDS = 1
  BAND_STORAGE_TYPE = BAND_SEQUENTIAL
  MAXIMUM = 173
  MEAN = 134.682
  MINIMUM = 94
  STANDARD_DEVIATION = 5.59128
END_OBJECT = IMAGE
/* MAP OBJECT DEFINITIONS */
OBJECT = IMAGE_MAP_PROJECTION
  ^DATA_SET_MAP_PROJECTION_CATALOG= "DSMAP.CAT"
  A_AXIS_RADIUS = 3396.0
  B_AXIS_RADIUS = 3396.0
  C_AXIS_RADIUS = 3396.0
  CENTER_LATITUDE = 0.0
  CENTER_LONGITUDE = 230.0
  COORDINATE_SYSTEM_NAME = PLANETOGRAPHIC
  COORDINATE_SYSTEM_TYPE = "BODY-FIXED ROTATING"
  EASTERNMOST_LONGITUDE = 231.12
  FIRST_STANDARD_PARALLEL = "N/A"
  LINE_FIRST_PIXEL = 1
  LINE_LAST_PIXEL = 6134
  LINE_PROJECTION_OFFSET = -1245.5625
  MAP_PROJECTION_ROTATION = 0.0
  MAP_PROJECTION_TYPE = SINUSOIDAL
  MAP_RESOLUTION = 592.713803866667
  MAP_SCALE = 0.1
  MAXIMUM_LATITUDE = -2.092
  MINIMUM_LATITUDE = -12.4436
  POSITIVE_LONGITUDE_DIRECTION = EAST
  REFERENCE_LATITUDE = "N/A"
  REFERENCE_LONGITUDE = "N/A"
  SAMPLE_FIRST_PIXEL = 1
  SAMPLE_LAST_PIXEL = 873
  SAMPLE_PROJECTION_OFFSET = 157.5625
  SECOND_STANDARD_PARALLEL = "N/A"
  WESTERNMOST_LONGITUDE = 229.747
END_OBJECT = IMAGE_MAP_PROJECTION
/* The JPEG2000 image data file associated with this label. */
OBJECT = COMPRESSED_FILE
  FILE_NAME = "H1992_0000_GR3.JP2"
  RECORD_TYPE = UNDEFINED
  FILE_RECORDS = UNK
  ENCODING_TYPE = "JP2"
  INTERCHANGE_FORMAT = BINARY
  UNCOMPRESSED_FILE_NAME = "H1992_0000_GR3.IMG"
  REQUIRED_STORAGE_BYTES = "5373315"
  ^DESCRIPTION = "JP2INFO.TXT"
END_OBJECT = COMPRESSED_FILE
END
