PDS_VERSION_ID = PDS3
/* FILE DATA ELEMENTS */
RECORD_TYPE = STREAM
/* POINTERS TO DATA OBJECTS */
^COMPRESSED_FILE = "H1992_0000_P23.JP2"
/* IDENTIFICATION DATA ELEMENTS */
DATA_SET_ID = "MEX-M-HRSC-5-REFDR-MAPPROJECTED-V3.0"
DATA_SET_NAME = "MARS EXPRESS HRSC MAP PROJECTED REFDR V3.0"
DETECTOR_ID = MEX_HRSC_P2
EVENT_TYPE = "MARS-REGIONAL-STEREO-Vo-Gl"
INSTRUMENT_HOST_ID = MEX
INSTRUMENT_HOST_NAME = "MARS EXPRESS"
INSTRUMENT_ID = HRSC
INSTRUMENT_NAME = "HIGH RESOLUTION STEREO CAMERA"
MISSION_NAME = "MARS EXPRESS"
MISSION_PHASE_NAME = MR_Phase_7
PROCESSING_LEVEL_ID = 3
PRODUCT_CREATION_TIME = 2016-03-09T16:25:58.000Z
PRODUCT_ID = "H1992_0000_P23.JP2"
RELEASE_ID = 0025
REVISION_ID = 0000
/* QUALITY DATA ELEMENTS */
DATA_QUALITY_ID = 1
DATA_QUALITY_DESC = "Data calculated based on original SPICE kernels"
/* TIME DATA ELEMENTS */
SPACECRAFT_CLOCK_START_COUNT = "1/0071152532.57939"
SPACECRAFT_CLOCK_STOP_COUNT = "1/0071152762.64642"
START_TIME = 2005-08-03T12:35:54.182Z
STOP_TIME = 2005-08-03T12:38:40.552Z
/* ORBITAL DATA ELEMENTS */
ASCENDING_NODE_LONGITUDE = 186.52
MAXIMUM_RESOLUTION = 26.6
FOOTPRINT_POINT_LATITUDE = (-12.4226,-12.4325,-12.442,-12.4508, -12.4591,-12.467,-12.2679,-12.0523, -11.8357,-11.6186,-11.4018,-11.1839, -10.966,-10.7479,-10.5294,-10.3104, -10.0912,-9.87199,-9.65234,-9.43215, -9.21171,-8.99105,-8.76995,-8.54875, -8.3271,-8.10669,-7.92069,-7.73426, -7.54744,-7.36031,-7.17329,-6.98593, -6.79866,-6.61118,-6.42327,-6.23508, -5.95278,-5.76441,-5.57567,-5.29223, -5.10322,-4.81894,-4.62913,-4.23318, -4.0429,-3.85219,-3.66186,-3.4731, -3.10329,-2.73281,-2.36185,-2.13451, -2.12623,-2.11352,-2.10028,-2.09115, -2.36682,-2.73749,-3.1078,-3.47696, -3.66752,-3.95327,-4.14354,-4.5395, -4.8238,-5.01332,-5.20242,-5.48575, -5.67444,-5.86291,-6.05143,-6.23935, -6.42711,-6.70863,-6.89605,-7.08323, -7.36368,-7.64376,-7.83007,-8.01631, -8.22984,-8.45154,-8.67291,-8.89376, -9.22446,-9.44487,-9.66504,-9.8848, -10.1041,-10.3232,-10.5417,-10.7598, -10.9775,-11.1953,-11.4129,-11.63, -11.8463,-12.171,-12.3866,-12.4226)
FOOTPRINT_POINT_LONGITUDE = (230.925,230.693,230.464,230.236, 230.012,229.789,229.702,229.705,229.708 ,229.711,229.714,229.717,229.72,229.722 ,229.725,229.728,229.73,229.733,229.735 ,229.738,229.74,229.742,229.745,229.747 ,229.749,229.751,229.753,229.755, 229.757,229.759,229.76,229.762,229.764, 229.765,229.767,229.769,229.771,229.772 ,229.774,229.776,229.778,229.78,229.781 ,229.784,229.785,229.787,229.788, 229.789,229.792,229.794,229.796,229.917 ,230.115,230.405,230.702,230.899, 230.965,230.969,230.973,230.979,230.981 ,230.985,230.987,230.993,230.998,231.0, 231.003,231.008,231.011,231.014,231.017 ,231.02,231.024,231.029,231.032,231.035 ,231.041,231.046,231.049,231.053, 231.057,231.062,231.066,231.071,231.078 ,231.083,231.088,231.093,231.098, 231.103,231.108,231.113,231.119,231.124 ,231.129,231.135,231.141,231.149, 231.155,230.925)
ORBIT_NUMBER = 1992
ORBITAL_ECCENTRICITY = 0.572
ORBITAL_INCLINATION = 86.59
ORBITAL_SEMIMAJOR_AXIS = 8633.12
PERIAPSIS_ALTITUDE = 296.66
PERIAPSIS_ARGUMENT_ANGLE = 8.49
PERIAPSIS_TIME = 2005-08-03T12:41:41.000Z
SPACECRAFT_ORIENTATION = (0.0,1.0,0.0)
^MEX_ORIENTATION_DESC = "MEX_ORIENTATION_DESC.TXT"
SPACECRAFT_POINTING_MODE = ACROSSTRACK
^MEX_POINTING_DESC = "MEX_POINTING_DESC.TXT"
RIGHT_ASCENSION = -1e+32
DECLINATION = -1e+32
OFFSET_ANGLE = -0.9
SPACECRAFT_SOLAR_DISTANCE = 2.06947e+08
TARGET_NAME = MARS
/* CAMERA DATA ELEMENTS */
DETECTOR_TEMPERATURE = 18.9822
FOCAL_PLANE_TEMPERATURE = 9.3989
INST_CMPRS_NAME = "DISCRETE COSINE TRANSFORMATION (DCT)"
INST_CMPRS_RATIO = 9.87876
INST_CMPRS_QUALITY = 0
INST_CMPRS_QUANTZ_TBL_ID = 0
INSTRUMENT_TEMPERATURE = 11.6418
LENS_TEMPERATURE = 9.8067
MACROPIXEL_SIZE = 2
MISSING_FRAMES = 90
PIXEL_SUBSAMPLING_FLAG = N
SIGNAL_CHAIN_ID = 3
/* RADIOMETRIC DATA ELEMENTS */
BANDWIDTH = 177.0
CENTER_FILTER_WAVELENGTH = 676.5
RADIANCE_OFFSET = 5.38679
RADIANCE_SCALING_FACTOR = 0.0131778
REFLECTANCE_SCALING_FACTOR = 0.000299238
MEX:REFLECTANCE_OFFSET = 0.122322
/* IMAGE OBJECT DEFINITIONS */
OBJECT = IMAGE
  INTERCHANGE_FORMAT = BINARY
  LINES = 24535
  LINE_SAMPLES = 3491
  SAMPLE_TYPE = UNSIGNED_INTEGER
  SAMPLE_BITS = 8
  BANDS = 1
  BAND_STORAGE_TYPE = BAND_SEQUENTIAL
  MAXIMUM = 347
  MEAN = 222.529
  MINIMUM = 205
  STANDARD_DEVIATION = 134.205
END_OBJECT = IMAGE
/* MAP OBJECT DEFINITIONS */
OBJECT = IMAGE_MAP_PROJECTION
  ^DATA_SET_MAP_PROJECTION_CATALOG= "DSMAP.CAT"
  A_AXIS_RADIUS = 3396.0
  B_AXIS_RADIUS = 3396.0
  C_AXIS_RADIUS = 3396.0
  CENTER_LATITUDE = 0.0
  CENTER_LONGITUDE = 230.0
  COORDINATE_SYSTEM_NAME = PLANETOGRAPHIC
  COORDINATE_SYSTEM_TYPE = "BODY-FIXED ROTATING"
  EASTERNMOST_LONGITUDE = 231.155
  FIRST_STANDARD_PARALLEL = "N/A"
  LINE_FIRST_PIXEL = 1
  LINE_LAST_PIXEL = 24535
  LINE_PROJECTION_OFFSET = -4980.75
  MAP_PROJECTION_ROTATION = 0.0
  MAP_PROJECTION_TYPE = SINUSOIDAL
  MAP_RESOLUTION = 2370.85521546667
  MAP_SCALE = 0.025
  MAXIMUM_LATITUDE = -2.09115
  MINIMUM_LATITUDE = -12.467
  POSITIVE_LONGITUDE_DIRECTION = EAST
  REFERENCE_LATITUDE = "N/A"
  REFERENCE_LONGITUDE = "N/A"
  SAMPLE_FIRST_PIXEL = 1
  SAMPLE_LAST_PIXEL = 3491
  SAMPLE_PROJECTION_OFFSET = 631.75
  SECOND_STANDARD_PARALLEL = "N/A"
  WESTERNMOST_LONGITUDE = 229.702
END_OBJECT = IMAGE_MAP_PROJECTION
/* The JPEG2000 image data file associated with this label. */
OBJECT = COMPRESSED_FILE
  FILE_NAME = "H1992_0000_P23.JP2"
  RECORD_TYPE = UNDEFINED
  FILE_RECORDS = UNK
  ENCODING_TYPE = "JP2"
  INTERCHANGE_FORMAT = BINARY
  UNCOMPRESSED_FILE_NAME = "H1992_0000_P23.IMG"
  REQUIRED_STORAGE_BYTES = "85676122"
  ^DESCRIPTION = "JP2INFO.TXT"
END_OBJECT = COMPRESSED_FILE
END
