PDS_VERSION_ID = PDS3
/* FILE DATA ELEMENTS */
RECORD_TYPE = STREAM
/* POINTERS TO DATA OBJECTS */
^COMPRESSED_FILE = "H1992_0000_RE3.JP2"
/* IDENTIFICATION DATA ELEMENTS */
DATA_SET_ID = "MEX-M-HRSC-5-REFDR-MAPPROJECTED-V3.0"
DATA_SET_NAME = "MARS EXPRESS HRSC MAP PROJECTED REFDR V3.0"
DETECTOR_ID = MEX_HRSC_RED
EVENT_TYPE = "MARS-REGIONAL-STEREO-Vo-Gl"
INSTRUMENT_HOST_ID = MEX
INSTRUMENT_HOST_NAME = "MARS EXPRESS"
INSTRUMENT_ID = HRSC
INSTRUMENT_NAME = "HIGH RESOLUTION STEREO CAMERA"
MISSION_NAME = "MARS EXPRESS"
MISSION_PHASE_NAME = MR_Phase_7
PROCESSING_LEVEL_ID = 3
PRODUCT_CREATION_TIME = 2016-03-09T16:25:58.000Z
PRODUCT_ID = "H1992_0000_RE3.JP2"
RELEASE_ID = 0025
REVISION_ID = 0000
/* QUALITY DATA ELEMENTS */
DATA_QUALITY_ID = 1
DATA_QUALITY_DESC = "Data calculated based on original SPICE kernels"
/* TIME DATA ELEMENTS */
SPACECRAFT_CLOCK_START_COUNT = "1/0071152532.57939"
SPACECRAFT_CLOCK_STOP_COUNT = "1/0071152762.64642"
START_TIME = 2005-08-03T12:35:47.290Z
STOP_TIME = 2005-08-03T12:38:35.505Z
/* ORBITAL DATA ELEMENTS */
ASCENDING_NODE_LONGITUDE = 186.52
MAXIMUM_RESOLUTION = 108.8
FOOTPRINT_POINT_LATITUDE = (-12.4123,-12.4302,-12.4414,-12.452, -12.462,-12.4716,-12.3899,-12.1792, -11.9726,-11.7649,-11.5575,-11.3495, -11.1409,-10.9323,-10.7233,-10.409, -10.0941,-9.8841,-9.6737,-9.46261, -9.25139,-9.03984,-8.82786,-8.61584, -8.29702,-8.08434,-7.87119,-7.67325, -7.4936,-7.31425,-7.13461,-6.9547, -6.77499,-6.59479,-6.41433,-6.23341, -6.05275,-5.87192,-5.69071,-5.50938, -5.32723,-5.14609,-4.96384,-4.78147, -4.59912,-3.90904,-3.72607,-3.54272, -3.35881,-3.17572,-2.81924,-2.46233, -2.13481,-2.12223,-2.10418,-2.08842, -2.34597,-2.70289,-3.05938,-3.33248, -3.6074,-3.79068,-4.48057,-4.66287, -4.84501,-5.11798,-5.29995,-5.48137, -5.66271,-5.84383,-6.11525,-6.29571, -6.476,-6.74635,-6.92631,-7.10597, -7.37518,-7.64403,-7.84842,-8.06161, -8.27449,-8.4871,-8.69937,-8.91104, -9.12225,-9.33367,-9.54498,-9.75581, -9.96627,-10.1763,-10.3858,-10.5952, -10.8036,-11.0122,-11.2208,-11.4291, -11.7402,-11.9476,-12.1545,-12.4123)
FOOTPRINT_POINT_LONGITUDE = (231.126,230.786,230.562,230.34,230.121 ,229.903,229.707,229.71,229.713,229.716 ,229.719,229.721,229.724,229.727, 229.729,229.733,229.737,229.739,229.742 ,229.744,229.747,229.749,229.751, 229.753,229.757,229.759,229.761,229.763 ,229.765,229.766,229.768,229.77,229.771 ,229.773,229.774,229.776,229.778, 229.779,229.781,229.782,229.783,229.785 ,229.786,229.788,229.789,229.794, 229.795,229.796,229.798,229.799,229.801 ,229.803,229.888,230.132,230.468, 230.755,230.968,230.972,230.977,230.98, 230.984,230.987,230.997,231.0,231.003, 231.007,231.009,231.013,231.016,231.019 ,231.023,231.026,231.03,231.035,231.038 ,231.041,231.046,231.052,231.056,231.06 ,231.064,231.069,231.073,231.078, 231.083,231.088,231.092,231.097,231.101 ,231.106,231.112,231.117,231.122, 231.128,231.133,231.138,231.146,231.151 ,231.157,231.126)
ORBIT_NUMBER = 1992
ORBITAL_ECCENTRICITY = 0.572
ORBITAL_INCLINATION = 86.59
ORBITAL_SEMIMAJOR_AXIS = 8633.12
PERIAPSIS_ALTITUDE = 296.66
PERIAPSIS_ARGUMENT_ANGLE = 8.49
PERIAPSIS_TIME = 2005-08-03T12:41:41.000Z
SPACECRAFT_ORIENTATION = (0.0,1.0,0.0)
^MEX_ORIENTATION_DESC = "MEX_ORIENTATION_DESC.TXT"
SPACECRAFT_POINTING_MODE = ACROSSTRACK
^MEX_POINTING_DESC = "MEX_POINTING_DESC.TXT"
RIGHT_ASCENSION = -1e+32
DECLINATION = -1e+32
OFFSET_ANGLE = -0.9
SPACECRAFT_SOLAR_DISTANCE = 2.06947e+08
TARGET_NAME = MARS
/* CAMERA DATA ELEMENTS */
DETECTOR_TEMPERATURE = 18.9822
FOCAL_PLANE_TEMPERATURE = 9.3989
INST_CMPRS_NAME = "DISCRETE COSINE TRANSFORMATION (DCT)"
INST_CMPRS_RATIO = 18.8076
INST_CMPRS_QUALITY = 0
INST_CMPRS_QUANTZ_TBL_ID = 0
INSTRUMENT_TEMPERATURE = 11.6418
LENS_TEMPERATURE = 9.8067
MACROPIXEL_SIZE = 8
MISSING_FRAMES = 45
PIXEL_SUBSAMPLING_FLAG = N
SIGNAL_CHAIN_ID = 2
/* RADIOMETRIC DATA ELEMENTS */
BANDWIDTH = 48.0
CENTER_FILTER_WAVELENGTH = 748.0
RADIANCE_OFFSET = 1.57985
RADIANCE_SCALING_FACTOR = 0.00485419
REFLECTANCE_SCALING_FACTOR = 0.000474419
MEX:REFLECTANCE_OFFSET = 0.154405
/* IMAGE OBJECT DEFINITIONS */
OBJECT = IMAGE
  INTERCHANGE_FORMAT = BINARY
  LINES = 6134
  LINE_SAMPLES = 873
  SAMPLE_TYPE = UNSIGNED_INTEGER
  SAMPLE_BITS = 8
  BANDS = 1
  BAND_STORAGE_TYPE = BAND_SEQUENTIAL
  MAXIMUM = 178
  MEAN = 138.574
  MINIMUM = 95
  STANDARD_DEVIATION = 6.53739
END_OBJECT = IMAGE
/* MAP OBJECT DEFINITIONS */
OBJECT = IMAGE_MAP_PROJECTION
  ^DATA_SET_MAP_PROJECTION_CATALOG= "DSMAP.CAT"
  A_AXIS_RADIUS = 3396.0
  B_AXIS_RADIUS = 3396.0
  C_AXIS_RADIUS = 3396.0
  CENTER_LATITUDE = 0.0
  CENTER_LONGITUDE = 230.0
  COORDINATE_SYSTEM_NAME = PLANETOGRAPHIC
  COORDINATE_SYSTEM_TYPE = "BODY-FIXED ROTATING"
  EASTERNMOST_LONGITUDE = 231.157
  FIRST_STANDARD_PARALLEL = "N/A"
  LINE_FIRST_PIXEL = 1
  LINE_LAST_PIXEL = 6134
  LINE_PROJECTION_OFFSET = -1245.5625
  MAP_PROJECTION_ROTATION = 0.0
  MAP_PROJECTION_TYPE = SINUSOIDAL
  MAP_RESOLUTION = 592.713803866667
  MAP_SCALE = 0.1
  MAXIMUM_LATITUDE = -2.08842
  MINIMUM_LATITUDE = -12.4716
  POSITIVE_LONGITUDE_DIRECTION = EAST
  REFERENCE_LATITUDE = "N/A"
  REFERENCE_LONGITUDE = "N/A"
  SAMPLE_FIRST_PIXEL = 1
  SAMPLE_LAST_PIXEL = 873
  SAMPLE_PROJECTION_OFFSET = 157.5625
  SECOND_STANDARD_PARALLEL = "N/A"
  WESTERNMOST_LONGITUDE = 229.707
END_OBJECT = IMAGE_MAP_PROJECTION
/* The JPEG2000 image data file associated with this label. */
OBJECT = COMPRESSED_FILE
  FILE_NAME = "H1992_0000_RE3.JP2"
  RECORD_TYPE = UNDEFINED
  FILE_RECORDS = UNK
  ENCODING_TYPE = "JP2"
  INTERCHANGE_FORMAT = BINARY
  UNCOMPRESSED_FILE_NAME = "H1992_0000_RE3.IMG"
  REQUIRED_STORAGE_BYTES = "5373315"
  ^DESCRIPTION = "JP2INFO.TXT"
END_OBJECT = COMPRESSED_FILE
END
