PDS_VERSION_ID = PDS3
/* FILE DATA ELEMENTS */
RECORD_TYPE = STREAM
/* POINTERS TO DATA OBJECTS */
^COMPRESSED_FILE = "H1993_0000_BL3.JP2"
/* IDENTIFICATION DATA ELEMENTS */
DATA_SET_ID = "MEX-M-HRSC-5-REFDR-MAPPROJECTED-V3.0"
DATA_SET_NAME = "MARS EXPRESS HRSC MAP PROJECTED REFDR V3.0"
DETECTOR_ID = MEX_HRSC_BLUE
EVENT_TYPE = "MARS-REGIONAL-MAPPING-Te-Pf"
INSTRUMENT_HOST_ID = MEX
INSTRUMENT_HOST_NAME = "MARS EXPRESS"
INSTRUMENT_ID = HRSC
INSTRUMENT_NAME = "HIGH RESOLUTION STEREO CAMERA"
MISSION_NAME = "MARS EXPRESS"
MISSION_PHASE_NAME = MR_Phase_7
PROCESSING_LEVEL_ID = 3
PRODUCT_CREATION_TIME = 2016-03-09T16:25:58.000Z
PRODUCT_ID = "H1993_0000_BL3.JP2"
RELEASE_ID = 0025
REVISION_ID = 0000
/* QUALITY DATA ELEMENTS */
DATA_QUALITY_ID = 1
DATA_QUALITY_DESC = "Data calculated based on original SPICE kernels"
/* TIME DATA ELEMENTS */
SPACECRAFT_CLOCK_START_COUNT = "1/0071176851.56195"
SPACECRAFT_CLOCK_STOP_COUNT = "1/0071177239.48027"
START_TIME = 2005-08-03T19:21:25.560Z
STOP_TIME = 2005-08-03T19:26:51.952Z
/* ORBITAL DATA ELEMENTS */
ASCENDING_NODE_LONGITUDE = 186.49
MAXIMUM_RESOLUTION = 48.1
FOOTPRINT_POINT_LATITUDE = (-5.10019,-5.1039,-5.10724,-4.87657, -4.42275,-3.96836,-3.51277,-2.83435, -2.39277,-1.95058,-1.50583,-1.06294, -0.619795,-0.191494,0.23854,0.668586, 1.09826,1.529,2.17532,2.60652,3.02294, 3.43915,3.85643,4.27365,4.69142,5.31889 ,5.73723,6.16649,6.79451,7.21319,7.632, 8.05104,8.67961,9.09873,9.51756,10.1465 ,10.5658,10.9851,11.4045,11.8237, 12.2429,12.6619,13.081,13.4999,13.9187, 14.5469,15.1953,15.629,16.0624,16.3381, 16.3389,16.3393,16.3385,15.9055,15.4721 ,15.0387,14.6054,14.187,13.7687,13.3502 ,12.9315,12.5127,12.0939,11.675,11.0463 ,10.627,9.99869,9.3703,8.95144,8.53254, 8.11376,7.69503,7.2764,6.85797,6.43956, 6.02134,5.59105,5.17327,4.54706,3.92121 ,3.50423,3.08749,2.67136,2.24296, 1.81176,1.38112,0.735982,0.30608, -0.337454,-0.77071,-1.21469,-1.65704, -2.09947,-2.76429,-3.2128,-3.6681, -4.34942,-4.80397,-5.03485,-5.10019)
FOOTPRINT_POINT_LONGITUDE = (132.077,131.722,131.371,131.153, 131.157,131.16,131.162,131.166,131.169, 131.171,131.173,131.175,131.177,131.179 ,131.181,131.182,131.184,131.185, 131.187,131.188,131.189,131.19,131.191, 131.191,131.192,131.193,131.193,131.193 ,131.194,131.194,131.194,131.194, 131.194,131.194,131.193,131.193,131.193 ,131.192,131.192,131.191,131.19,131.19, 131.189,131.188,131.187,131.186,131.184 ,131.183,131.182,131.381,131.678, 132.024,132.334,132.327,132.32,132.314, 132.309,132.304,132.299,132.295,132.291 ,132.287,132.283,132.28,132.275,132.271 ,132.269,132.266,132.265,132.263, 132.262,132.261,132.261,132.261,132.26, 132.26,132.26,132.261,132.263,132.264, 132.265,132.267,132.269,132.272,132.274 ,132.277,132.282,132.285,132.291, 132.295,132.297,132.303,132.308,132.308 ,132.311,132.317,132.328,132.332, 132.333,132.077)
ORBIT_NUMBER = 1993
ORBITAL_ECCENTRICITY = 0.572
ORBITAL_INCLINATION = 86.58
ORBITAL_SEMIMAJOR_AXIS = 8624.96
PERIAPSIS_ALTITUDE = 296.98
PERIAPSIS_ARGUMENT_ANGLE = 8.34
PERIAPSIS_TIME = 2005-08-03T19:24:56.000Z
SPACECRAFT_ORIENTATION = (0.0,1.0,0.0)
^MEX_ORIENTATION_DESC = "MEX_ORIENTATION_DESC.TXT"
SPACECRAFT_POINTING_MODE = ACROSSTRACK
^MEX_POINTING_DESC = "MEX_POINTING_DESC.TXT"
RIGHT_ASCENSION = -1e+32
DECLINATION = -1e+32
OFFSET_ANGLE = -0.55
SPACECRAFT_SOLAR_DISTANCE = 2.06957e+08
TARGET_NAME = MARS
/* CAMERA DATA ELEMENTS */
DETECTOR_TEMPERATURE = 18.3705
FOCAL_PLANE_TEMPERATURE = 10.0106
INST_CMPRS_NAME = "DISCRETE COSINE TRANSFORMATION (DCT)"
INST_CMPRS_RATIO = 7.19951
INST_CMPRS_QUALITY = 0
INST_CMPRS_QUANTZ_TBL_ID = 0
INSTRUMENT_TEMPERATURE = 11.8457
LENS_TEMPERATURE = 10.4184
MACROPIXEL_SIZE = 4
MISSING_FRAMES = 2
PIXEL_SUBSAMPLING_FLAG = N
SIGNAL_CHAIN_ID = 2
/* RADIOMETRIC DATA ELEMENTS */
BANDWIDTH = 76.0
CENTER_FILTER_WAVELENGTH = 444.0
RADIANCE_OFFSET = 0.52427
RADIANCE_SCALING_FACTOR = 0.00158751
REFLECTANCE_SCALING_FACTOR = 6.98608e-05
MEX:REFLECTANCE_OFFSET = 0.0230712
/* IMAGE OBJECT DEFINITIONS */
OBJECT = IMAGE
  INTERCHANGE_FORMAT = BINARY
  LINES = 25424
  LINE_SAMPLES = 1493
  SAMPLE_TYPE = UNSIGNED_INTEGER
  SAMPLE_BITS = 8
  BANDS = 1
  BAND_STORAGE_TYPE = BAND_SEQUENTIAL
  MAXIMUM = 162
  MEAN = 108.301
  MINIMUM = 74
  STANDARD_DEVIATION = 9.95343
END_OBJECT = IMAGE
/* MAP OBJECT DEFINITIONS */
OBJECT = IMAGE_MAP_PROJECTION
  ^DATA_SET_MAP_PROJECTION_CATALOG= "DSMAP.CAT"
  A_AXIS_RADIUS = 3396.0
  B_AXIS_RADIUS = 3396.0
  C_AXIS_RADIUS = 3396.0
  CENTER_LATITUDE = 0.0
  CENTER_LONGITUDE = 132.0
  COORDINATE_SYSTEM_NAME = PLANETOGRAPHIC
  COORDINATE_SYSTEM_TYPE = "BODY-FIXED ROTATING"
  EASTERNMOST_LONGITUDE = 132.334
  FIRST_STANDARD_PARALLEL = "N/A"
  LINE_FIRST_PIXEL = 1
  LINE_LAST_PIXEL = 25424
  LINE_PROJECTION_OFFSET = 19367.875
  MAP_PROJECTION_ROTATION = 0.0
  MAP_PROJECTION_TYPE = SINUSOIDAL
  MAP_RESOLUTION = 1185.42760773333
  MAP_SCALE = 0.05
  MAXIMUM_LATITUDE = 16.3393
  MINIMUM_LATITUDE = -5.10724
  POSITIVE_LONGITUDE_DIRECTION = EAST
  REFERENCE_LATITUDE = "N/A"
  REFERENCE_LONGITUDE = "N/A"
  SAMPLE_FIRST_PIXEL = 1
  SAMPLE_LAST_PIXEL = 1493
  SAMPLE_PROJECTION_OFFSET = 1008.125
  SECOND_STANDARD_PARALLEL = "N/A"
  WESTERNMOST_LONGITUDE = 131.153
END_OBJECT = IMAGE_MAP_PROJECTION
/* The JPEG2000 image data file associated with this label. */
OBJECT = COMPRESSED_FILE
  FILE_NAME = "H1993_0000_BL3.JP2"
  RECORD_TYPE = UNDEFINED
  FILE_RECORDS = UNK
  ENCODING_TYPE = "JP2"
  INTERCHANGE_FORMAT = BINARY
  UNCOMPRESSED_FILE_NAME = "H1993_0000_BL3.IMG"
  REQUIRED_STORAGE_BYTES = "37977441"
  ^DESCRIPTION = "JP2INFO.TXT"
END_OBJECT = COMPRESSED_FILE
END
